BEGIN:VCALENDAR
VERSION:2.0
PRODID:-//Oldham HLA - ECPv6.15.20//NONSGML v1.0//EN
CALSCALE:GREGORIAN
METHOD:PUBLISH
X-ORIGINAL-URL:https://hla.oldham.gov.uk
X-WR-CALDESC:Events for Oldham HLA
REFRESH-INTERVAL;VALUE=DURATION:PT1H
X-Robots-Tag:noindex
X-PUBLISHED-TTL:PT1H
BEGIN:VTIMEZONE
TZID:Europe/London
BEGIN:DAYLIGHT
TZOFFSETFROM:+0000
TZOFFSETTO:+0100
TZNAME:BST
DTSTART:20260329T010000
END:DAYLIGHT
BEGIN:STANDARD
TZOFFSETFROM:+0100
TZOFFSETTO:+0000
TZNAME:GMT
DTSTART:20261025T010000
END:STANDARD
BEGIN:DAYLIGHT
TZOFFSETFROM:+0000
TZOFFSETTO:+0100
TZNAME:BST
DTSTART:20270328T010000
END:DAYLIGHT
BEGIN:STANDARD
TZOFFSETFROM:+0100
TZOFFSETTO:+0000
TZNAME:GMT
DTSTART:20271031T010000
END:STANDARD
BEGIN:DAYLIGHT
TZOFFSETFROM:+0000
TZOFFSETTO:+0100
TZNAME:BST
DTSTART:20280326T010000
END:DAYLIGHT
BEGIN:STANDARD
TZOFFSETFROM:+0100
TZOFFSETTO:+0000
TZNAME:GMT
DTSTART:20281029T010000
END:STANDARD
END:VTIMEZONE
BEGIN:VEVENT
DTSTART;TZID=Europe/London:20270101T130000
DTEND;TZID=Europe/London:20270101T150000
DTSTAMP:20260422T230507
CREATED:20250829T134329Z
LAST-MODIFIED:20250829T134331Z
UID:10039037-1798808400-1798815600@hla.oldham.gov.uk
SUMMARY:Crompton Crafters
DESCRIPTION:Join our friendly crafters at Crompton Library\, chatting and crafting.  What better way to spend a Friday afternoon\, meeting weekly?
URL:https://hla.oldham.gov.uk/event/crompton-crafters-4/2027-01-01/
LOCATION:Crompton Library\, Farrow Street East\, Shaw\, Oldham\, OL2 8QY
CATEGORIES:Adult Art & Crafts,Groups
END:VEVENT
BEGIN:VEVENT
DTSTART;TZID=Europe/London:20270101T140000
DTEND;TZID=Europe/London:20270101T150000
DTSTAMP:20260422T230507
CREATED:20260326T170224Z
LAST-MODIFIED:20260326T170550Z
UID:10060539-1798812000-1798815600@hla.oldham.gov.uk
SUMMARY:Chat and Choose
DESCRIPTION:Join us for a cuppa and a chat!Everyone is welcome — and while you’re here\, why not pick out a great book to take home?
URL:https://hla.oldham.gov.uk/event/chat-and-choose-4/2027-01-01/
LOCATION:Uppermill Library\, St Chads House\, Uppermill\, Uppermill\, England\, OL3 6AZ\, United Kingdom
CATEGORIES:Groups,Health and Wellbeing
END:VEVENT
BEGIN:VEVENT
DTSTART;TZID=Europe/London:20270104T110000
DTEND;TZID=Europe/London:20270104T130000
DTSTAMP:20260422T230507
CREATED:20260326T160147Z
LAST-MODIFIED:20260326T160704Z
UID:10059751-1799060400-1799067600@hla.oldham.gov.uk
SUMMARY:Knit and Natter
DESCRIPTION:Whether it’s knitting\, crocheting\, or just a good natter\, our friendly group of knitters will make you feel right at home. \n\n\n\nJoin us for this welcoming weekly meet‑up\, where you can share tips\, chat\, and enjoy some relaxed creative time together.
URL:https://hla.oldham.gov.uk/event/knit-and-natter-2/2027-01-04/
LOCATION:Uppermill Library\, St Chads House\, Uppermill\, Uppermill\, England\, OL3 6AZ\, United Kingdom
CATEGORIES:Adult Art & Crafts,Groups
END:VEVENT
BEGIN:VEVENT
DTSTART;TZID=Europe/London:20270104T123000
DTEND;TZID=Europe/London:20270104T143000
DTSTAMP:20260422T230507
CREATED:20240508T112814Z
LAST-MODIFIED:20260129T164020Z
UID:10009119-1799065800-1799073000@hla.oldham.gov.uk
SUMMARY:Knit & natter at Failsworth Library
DESCRIPTION:Join this friendly group for knitting\, crocheting and chat every Monday afternoon at Failsworth Library. 
URL:https://hla.oldham.gov.uk/event/knit-natter-2/2027-01-04/
LOCATION:Failsworth Library\, Oldham Road\, Failsworth\, England\, M35 0EJ\, United Kingdom
CATEGORIES:Adult Art & Crafts,Groups
END:VEVENT
BEGIN:VEVENT
DTSTART;TZID=Europe/London:20270105T100000
DTEND;TZID=Europe/London:20270105T120000
DTSTAMP:20260422T230507
CREATED:20240508T121255Z
LAST-MODIFIED:20260129T163955Z
UID:10012251-1799143200-1799150400@hla.oldham.gov.uk
SUMMARY:Books\, brew & banter at Failsworth Library
DESCRIPTION:Fancy a cuppa ? Want to socialise\, unwind and get your hands on the hottest books in town. Swing by and say hi. Chat to others and have a cuppa and take some time to relax with some mindfulness colouring\, all in the comfort of our lovely library.
URL:https://hla.oldham.gov.uk/event/books-brew-banter-2/2027-01-05/
LOCATION:Failsworth Library\, Oldham Road\, Failsworth\, England\, M35 0EJ\, United Kingdom
CATEGORIES:Groups,Health and Wellbeing
END:VEVENT
BEGIN:VEVENT
DTSTART;TZID=Europe/London:20270106T110000
DTEND;TZID=Europe/London:20270106T120000
DTSTAMP:20260422T230507
CREATED:20241108T152325Z
LAST-MODIFIED:20241108T161419Z
UID:10015795-1799233200-1799236800@hla.oldham.gov.uk
SUMMARY:Chat and Choose
DESCRIPTION:Fancy a brew ?  \n\n\n\nOur Chat and Choose sessions are a great opportunity to meet people\, relax and pick up a good book
URL:https://hla.oldham.gov.uk/event/chat-and-choose/2027-01-06/
LOCATION:Royton Library\, Rochdale Road\, Royton\, OL2 6QJ
CATEGORIES:Groups
END:VEVENT
BEGIN:VEVENT
DTSTART;TZID=Europe/London:20270106T163000
DTEND;TZID=Europe/London:20270106T180000
DTSTAMP:20260422T230507
CREATED:20240508T112533Z
LAST-MODIFIED:20260129T163649Z
UID:10008599-1799253000-1799258400@hla.oldham.gov.uk
SUMMARY:Knit & natter at Limehurst Library
DESCRIPTION:Join this friendly group for knitting\, crocheting and a chat every Wednesday afternoon at Limehurst Library. 
URL:https://hla.oldham.gov.uk/event/knit-natter/2027-01-06/
LOCATION:Limehurst Library\, Lime Green Parade\, Oldham\, England\, OL8 3HH\, United Kingdom
CATEGORIES:Adult Art & Crafts,Groups
END:VEVENT
BEGIN:VEVENT
DTSTART;TZID=Europe/London:20270106T180000
DTEND;TZID=Europe/London:20270106T190000
DTSTAMP:20260422T230507
CREATED:20251004T133737Z
LAST-MODIFIED:20251103T120410Z
UID:10006391-1799258400-1799262000@hla.oldham.gov.uk
SUMMARY:Readers group at Failsworth Library
DESCRIPTION:Join our relaxed and informal book club to discuss your reads\, discover new authors and explore new books. We read the same title from a variety of genres picked by library staff and meet once a month to discuss it. It’s a great way to meet new people and socialise and discover books you never imagined you would enjoy.
URL:https://hla.oldham.gov.uk/event/readers-group-6/2027-01-06/
LOCATION:Failsworth Library\, Oldham Road\, Failsworth\, England\, M35 0EJ\, United Kingdom
CATEGORIES:Groups
END:VEVENT
BEGIN:VEVENT
DTSTART;TZID=Europe/London:20270107T103000
DTEND;TZID=Europe/London:20270107T123000
DTSTAMP:20260422T230507
CREATED:20260327T100158Z
LAST-MODIFIED:20260327T140611Z
UID:10061103-1799317800-1799325000@hla.oldham.gov.uk
SUMMARY:Brews\, Biscuits and Banter at Oldham Library
DESCRIPTION:Fancy a cuppa ? Want to socialise and unwind? Chat to others and take some time to relax in the comfort of our lovely library.
URL:https://hla.oldham.gov.uk/event/books-brew-and-banter-at-oldham-library/2027-01-07/
LOCATION:Oldham Library & Lifelong Learning Centre\, Greaves Street\, Oldham\, OL1 1AL\, United Kingdom
CATEGORIES:Groups,Health and Wellbeing
END:VEVENT
BEGIN:VEVENT
DTSTART;TZID=Europe/London:20270107T140000
DTEND;TZID=Europe/London:20270107T150000
DTSTAMP:20260422T230507
CREATED:20241108T143949Z
LAST-MODIFIED:20241108T161401Z
UID:10015501-1799330400-1799334000@hla.oldham.gov.uk
SUMMARY:Readers Group
DESCRIPTION:Whether you’re an avid reader or someone who dips in and out of books when time allows – we love to welcome new members.   \n\n\n\nJoin us on the first Thursday of every month .
URL:https://hla.oldham.gov.uk/event/readers-group-3/2027-01-07/
LOCATION:Royton Library\, Rochdale Road\, Royton\, OL2 6QJ
CATEGORIES:Groups
END:VEVENT
BEGIN:VEVENT
DTSTART;TZID=Europe/London:20270108T130000
DTEND;TZID=Europe/London:20270108T150000
DTSTAMP:20260422T230507
CREATED:20250829T134329Z
LAST-MODIFIED:20250829T134331Z
UID:10039039-1799413200-1799420400@hla.oldham.gov.uk
SUMMARY:Crompton Crafters
DESCRIPTION:Join our friendly crafters at Crompton Library\, chatting and crafting.  What better way to spend a Friday afternoon\, meeting weekly?
URL:https://hla.oldham.gov.uk/event/crompton-crafters-4/2027-01-08/
LOCATION:Crompton Library\, Farrow Street East\, Shaw\, Oldham\, OL2 8QY
CATEGORIES:Adult Art & Crafts,Groups
END:VEVENT
BEGIN:VEVENT
DTSTART;TZID=Europe/London:20270108T140000
DTEND;TZID=Europe/London:20270108T150000
DTSTAMP:20260422T230507
CREATED:20260326T170224Z
LAST-MODIFIED:20260326T170550Z
UID:10060541-1799416800-1799420400@hla.oldham.gov.uk
SUMMARY:Chat and Choose
DESCRIPTION:Join us for a cuppa and a chat!Everyone is welcome — and while you’re here\, why not pick out a great book to take home?
URL:https://hla.oldham.gov.uk/event/chat-and-choose-4/2027-01-08/
LOCATION:Uppermill Library\, St Chads House\, Uppermill\, Uppermill\, England\, OL3 6AZ\, United Kingdom
CATEGORIES:Groups,Health and Wellbeing
END:VEVENT
BEGIN:VEVENT
DTSTART;TZID=Europe/London:20270111T110000
DTEND;TZID=Europe/London:20270111T130000
DTSTAMP:20260422T230507
CREATED:20260326T160147Z
LAST-MODIFIED:20260326T160704Z
UID:10059753-1799665200-1799672400@hla.oldham.gov.uk
SUMMARY:Knit and Natter
DESCRIPTION:Whether it’s knitting\, crocheting\, or just a good natter\, our friendly group of knitters will make you feel right at home. \n\n\n\nJoin us for this welcoming weekly meet‑up\, where you can share tips\, chat\, and enjoy some relaxed creative time together.
URL:https://hla.oldham.gov.uk/event/knit-and-natter-2/2027-01-11/
LOCATION:Uppermill Library\, St Chads House\, Uppermill\, Uppermill\, England\, OL3 6AZ\, United Kingdom
CATEGORIES:Adult Art & Crafts,Groups
END:VEVENT
BEGIN:VEVENT
DTSTART;TZID=Europe/London:20270111T123000
DTEND;TZID=Europe/London:20270111T143000
DTSTAMP:20260422T230507
CREATED:20240508T112814Z
LAST-MODIFIED:20260129T164020Z
UID:10009121-1799670600-1799677800@hla.oldham.gov.uk
SUMMARY:Knit & natter at Failsworth Library
DESCRIPTION:Join this friendly group for knitting\, crocheting and chat every Monday afternoon at Failsworth Library. 
URL:https://hla.oldham.gov.uk/event/knit-natter-2/2027-01-11/
LOCATION:Failsworth Library\, Oldham Road\, Failsworth\, England\, M35 0EJ\, United Kingdom
CATEGORIES:Adult Art & Crafts,Groups
END:VEVENT
BEGIN:VEVENT
DTSTART;TZID=Europe/London:20270112T100000
DTEND;TZID=Europe/London:20270112T120000
DTSTAMP:20260422T230507
CREATED:20240508T121255Z
LAST-MODIFIED:20260129T163955Z
UID:10012253-1799748000-1799755200@hla.oldham.gov.uk
SUMMARY:Books\, brew & banter at Failsworth Library
DESCRIPTION:Fancy a cuppa ? Want to socialise\, unwind and get your hands on the hottest books in town. Swing by and say hi. Chat to others and have a cuppa and take some time to relax with some mindfulness colouring\, all in the comfort of our lovely library.
URL:https://hla.oldham.gov.uk/event/books-brew-banter-2/2027-01-12/
LOCATION:Failsworth Library\, Oldham Road\, Failsworth\, England\, M35 0EJ\, United Kingdom
CATEGORIES:Groups,Health and Wellbeing
END:VEVENT
BEGIN:VEVENT
DTSTART;TZID=Europe/London:20270113T110000
DTEND;TZID=Europe/London:20270113T120000
DTSTAMP:20260422T230507
CREATED:20241108T152325Z
LAST-MODIFIED:20241108T161419Z
UID:10015797-1799838000-1799841600@hla.oldham.gov.uk
SUMMARY:Chat and Choose
DESCRIPTION:Fancy a brew ?  \n\n\n\nOur Chat and Choose sessions are a great opportunity to meet people\, relax and pick up a good book
URL:https://hla.oldham.gov.uk/event/chat-and-choose/2027-01-13/
LOCATION:Royton Library\, Rochdale Road\, Royton\, OL2 6QJ
CATEGORIES:Groups
END:VEVENT
BEGIN:VEVENT
DTSTART;TZID=Europe/London:20270113T163000
DTEND;TZID=Europe/London:20270113T180000
DTSTAMP:20260422T230507
CREATED:20240508T112533Z
LAST-MODIFIED:20260129T163649Z
UID:10008601-1799857800-1799863200@hla.oldham.gov.uk
SUMMARY:Knit & natter at Limehurst Library
DESCRIPTION:Join this friendly group for knitting\, crocheting and a chat every Wednesday afternoon at Limehurst Library. 
URL:https://hla.oldham.gov.uk/event/knit-natter/2027-01-13/
LOCATION:Limehurst Library\, Lime Green Parade\, Oldham\, England\, OL8 3HH\, United Kingdom
CATEGORIES:Adult Art & Crafts,Groups
END:VEVENT
BEGIN:VEVENT
DTSTART;TZID=Europe/London:20270114T103000
DTEND;TZID=Europe/London:20270114T123000
DTSTAMP:20260422T230507
CREATED:20260327T100158Z
LAST-MODIFIED:20260327T140611Z
UID:10061105-1799922600-1799929800@hla.oldham.gov.uk
SUMMARY:Brews\, Biscuits and Banter at Oldham Library
DESCRIPTION:Fancy a cuppa ? Want to socialise and unwind? Chat to others and take some time to relax in the comfort of our lovely library.
URL:https://hla.oldham.gov.uk/event/books-brew-and-banter-at-oldham-library/2027-01-14/
LOCATION:Oldham Library & Lifelong Learning Centre\, Greaves Street\, Oldham\, OL1 1AL\, United Kingdom
CATEGORIES:Groups,Health and Wellbeing
END:VEVENT
BEGIN:VEVENT
DTSTART;TZID=Europe/London:20270114T130000
DTEND;TZID=Europe/London:20270114T150000
DTSTAMP:20260422T230507
CREATED:20260326T164643Z
LAST-MODIFIED:20260326T164645Z
UID:10060239-1799931600-1799938800@hla.oldham.gov.uk
SUMMARY:Knit and Natter
DESCRIPTION:Whether it’s knitting\, crocheting\, or just a good natter\, our friendly group of knitters will make you feel right at home. \n\n\n\nJoin us for this welcoming fortnightly  meet‑up\, where you can share tips\, chat\, and enjoy some relaxed creative time together.
URL:https://hla.oldham.gov.uk/event/knit-and-natter-3/2027-01-14/
LOCATION:Lees Library Community Hub\, Thomas Street\, Lees\, Oldham\, Greater Manchester\, OL4 5DA\, United Kingdom
CATEGORIES:Adult Art & Crafts,Groups
END:VEVENT
BEGIN:VEVENT
DTSTART;TZID=Europe/London:20270115T130000
DTEND;TZID=Europe/London:20270115T150000
DTSTAMP:20260422T230507
CREATED:20250829T134329Z
LAST-MODIFIED:20250829T134331Z
UID:10039041-1800018000-1800025200@hla.oldham.gov.uk
SUMMARY:Crompton Crafters
DESCRIPTION:Join our friendly crafters at Crompton Library\, chatting and crafting.  What better way to spend a Friday afternoon\, meeting weekly?
URL:https://hla.oldham.gov.uk/event/crompton-crafters-4/2027-01-15/
LOCATION:Crompton Library\, Farrow Street East\, Shaw\, Oldham\, OL2 8QY
CATEGORIES:Adult Art & Crafts,Groups
END:VEVENT
BEGIN:VEVENT
DTSTART;TZID=Europe/London:20270115T140000
DTEND;TZID=Europe/London:20270115T150000
DTSTAMP:20260422T230507
CREATED:20260326T170224Z
LAST-MODIFIED:20260326T170550Z
UID:10060543-1800021600-1800025200@hla.oldham.gov.uk
SUMMARY:Chat and Choose
DESCRIPTION:Join us for a cuppa and a chat!Everyone is welcome — and while you’re here\, why not pick out a great book to take home?
URL:https://hla.oldham.gov.uk/event/chat-and-choose-4/2027-01-15/
LOCATION:Uppermill Library\, St Chads House\, Uppermill\, Uppermill\, England\, OL3 6AZ\, United Kingdom
CATEGORIES:Groups,Health and Wellbeing
END:VEVENT
BEGIN:VEVENT
DTSTART;TZID=Europe/London:20270118T110000
DTEND;TZID=Europe/London:20270118T130000
DTSTAMP:20260422T230507
CREATED:20260326T160147Z
LAST-MODIFIED:20260326T160704Z
UID:10059755-1800270000-1800277200@hla.oldham.gov.uk
SUMMARY:Knit and Natter
DESCRIPTION:Whether it’s knitting\, crocheting\, or just a good natter\, our friendly group of knitters will make you feel right at home. \n\n\n\nJoin us for this welcoming weekly meet‑up\, where you can share tips\, chat\, and enjoy some relaxed creative time together.
URL:https://hla.oldham.gov.uk/event/knit-and-natter-2/2027-01-18/
LOCATION:Uppermill Library\, St Chads House\, Uppermill\, Uppermill\, England\, OL3 6AZ\, United Kingdom
CATEGORIES:Adult Art & Crafts,Groups
END:VEVENT
BEGIN:VEVENT
DTSTART;TZID=Europe/London:20270118T123000
DTEND;TZID=Europe/London:20270118T143000
DTSTAMP:20260422T230507
CREATED:20240508T112814Z
LAST-MODIFIED:20260129T164020Z
UID:10009123-1800275400-1800282600@hla.oldham.gov.uk
SUMMARY:Knit & natter at Failsworth Library
DESCRIPTION:Join this friendly group for knitting\, crocheting and chat every Monday afternoon at Failsworth Library. 
URL:https://hla.oldham.gov.uk/event/knit-natter-2/2027-01-18/
LOCATION:Failsworth Library\, Oldham Road\, Failsworth\, England\, M35 0EJ\, United Kingdom
CATEGORIES:Adult Art & Crafts,Groups
END:VEVENT
BEGIN:VEVENT
DTSTART;TZID=Europe/London:20270119T100000
DTEND;TZID=Europe/London:20270119T120000
DTSTAMP:20260422T230507
CREATED:20240508T121255Z
LAST-MODIFIED:20260129T163955Z
UID:10012255-1800352800-1800360000@hla.oldham.gov.uk
SUMMARY:Books\, brew & banter at Failsworth Library
DESCRIPTION:Fancy a cuppa ? Want to socialise\, unwind and get your hands on the hottest books in town. Swing by and say hi. Chat to others and have a cuppa and take some time to relax with some mindfulness colouring\, all in the comfort of our lovely library.
URL:https://hla.oldham.gov.uk/event/books-brew-banter-2/2027-01-19/
LOCATION:Failsworth Library\, Oldham Road\, Failsworth\, England\, M35 0EJ\, United Kingdom
CATEGORIES:Groups,Health and Wellbeing
END:VEVENT
BEGIN:VEVENT
DTSTART;TZID=Europe/London:20270120T080000
DTEND;TZID=Europe/London:20270120T170000
DTSTAMP:20260422T230507
CREATED:20250725T143215Z
LAST-MODIFIED:20250725T143254Z
UID:10035319-1800432000-1800464400@hla.oldham.gov.uk
SUMMARY:Readers Group
DESCRIPTION:Whether you’re an avid reader or someone who dips in and out of books when time allows – we love to welcome new members. \n\n\n\nJoin us on the third Wednesday of every month .
URL:https://hla.oldham.gov.uk/event/readers-group-5/2027-01-20/
LOCATION:Lees Library Community Hub\, Thomas Street\, Lees\, Oldham\, Greater Manchester\, OL4 5DA\, United Kingdom
CATEGORIES:Groups
END:VEVENT
BEGIN:VEVENT
DTSTART;TZID=Europe/London:20270120T110000
DTEND;TZID=Europe/London:20270120T120000
DTSTAMP:20260422T230507
CREATED:20241108T152325Z
LAST-MODIFIED:20241108T161419Z
UID:10015799-1800442800-1800446400@hla.oldham.gov.uk
SUMMARY:Chat and Choose
DESCRIPTION:Fancy a brew ?  \n\n\n\nOur Chat and Choose sessions are a great opportunity to meet people\, relax and pick up a good book
URL:https://hla.oldham.gov.uk/event/chat-and-choose/2027-01-20/
LOCATION:Royton Library\, Rochdale Road\, Royton\, OL2 6QJ
CATEGORIES:Groups
END:VEVENT
BEGIN:VEVENT
DTSTART;TZID=Europe/London:20270120T163000
DTEND;TZID=Europe/London:20270120T180000
DTSTAMP:20260422T230507
CREATED:20240508T112533Z
LAST-MODIFIED:20260129T163649Z
UID:10008603-1800462600-1800468000@hla.oldham.gov.uk
SUMMARY:Knit & natter at Limehurst Library
DESCRIPTION:Join this friendly group for knitting\, crocheting and a chat every Wednesday afternoon at Limehurst Library. 
URL:https://hla.oldham.gov.uk/event/knit-natter/2027-01-20/
LOCATION:Limehurst Library\, Lime Green Parade\, Oldham\, England\, OL8 3HH\, United Kingdom
CATEGORIES:Adult Art & Crafts,Groups
END:VEVENT
BEGIN:VEVENT
DTSTART;TZID=Europe/London:20270121T103000
DTEND;TZID=Europe/London:20270121T123000
DTSTAMP:20260422T230507
CREATED:20260327T100158Z
LAST-MODIFIED:20260327T140611Z
UID:10061107-1800527400-1800534600@hla.oldham.gov.uk
SUMMARY:Brews\, Biscuits and Banter at Oldham Library
DESCRIPTION:Fancy a cuppa ? Want to socialise and unwind? Chat to others and take some time to relax in the comfort of our lovely library.
URL:https://hla.oldham.gov.uk/event/books-brew-and-banter-at-oldham-library/2027-01-21/
LOCATION:Oldham Library & Lifelong Learning Centre\, Greaves Street\, Oldham\, OL1 1AL\, United Kingdom
CATEGORIES:Groups,Health and Wellbeing
END:VEVENT
BEGIN:VEVENT
DTSTART;TZID=Europe/London:20270122T130000
DTEND;TZID=Europe/London:20270122T150000
DTSTAMP:20260422T230507
CREATED:20250829T134329Z
LAST-MODIFIED:20250829T134331Z
UID:10039043-1800622800-1800630000@hla.oldham.gov.uk
SUMMARY:Crompton Crafters
DESCRIPTION:Join our friendly crafters at Crompton Library\, chatting and crafting.  What better way to spend a Friday afternoon\, meeting weekly?
URL:https://hla.oldham.gov.uk/event/crompton-crafters-4/2027-01-22/
LOCATION:Crompton Library\, Farrow Street East\, Shaw\, Oldham\, OL2 8QY
CATEGORIES:Adult Art & Crafts,Groups
END:VEVENT
BEGIN:VEVENT
DTSTART;TZID=Europe/London:20270122T140000
DTEND;TZID=Europe/London:20270122T150000
DTSTAMP:20260422T230507
CREATED:20260326T170224Z
LAST-MODIFIED:20260326T170550Z
UID:10060545-1800626400-1800630000@hla.oldham.gov.uk
SUMMARY:Chat and Choose
DESCRIPTION:Join us for a cuppa and a chat!Everyone is welcome — and while you’re here\, why not pick out a great book to take home?
URL:https://hla.oldham.gov.uk/event/chat-and-choose-4/2027-01-22/
LOCATION:Uppermill Library\, St Chads House\, Uppermill\, Uppermill\, England\, OL3 6AZ\, United Kingdom
CATEGORIES:Groups,Health and Wellbeing
END:VEVENT
END:VCALENDAR