BEGIN:VCALENDAR
VERSION:2.0
PRODID:-//Oldham HLA - ECPv6.15.20//NONSGML v1.0//EN
CALSCALE:GREGORIAN
METHOD:PUBLISH
X-WR-CALNAME:Oldham HLA
X-ORIGINAL-URL:https://hla.oldham.gov.uk
X-WR-CALDESC:Events for Oldham HLA
REFRESH-INTERVAL;VALUE=DURATION:PT1H
X-Robots-Tag:noindex
X-PUBLISHED-TTL:PT1H
BEGIN:VTIMEZONE
TZID:Europe/London
BEGIN:DAYLIGHT
TZOFFSETFROM:+0000
TZOFFSETTO:+0100
TZNAME:BST
DTSTART:20260329T010000
END:DAYLIGHT
BEGIN:STANDARD
TZOFFSETFROM:+0100
TZOFFSETTO:+0000
TZNAME:GMT
DTSTART:20261025T010000
END:STANDARD
BEGIN:DAYLIGHT
TZOFFSETFROM:+0000
TZOFFSETTO:+0100
TZNAME:BST
DTSTART:20270328T010000
END:DAYLIGHT
BEGIN:STANDARD
TZOFFSETFROM:+0100
TZOFFSETTO:+0000
TZNAME:GMT
DTSTART:20271031T010000
END:STANDARD
BEGIN:DAYLIGHT
TZOFFSETFROM:+0000
TZOFFSETTO:+0100
TZNAME:BST
DTSTART:20280326T010000
END:DAYLIGHT
BEGIN:STANDARD
TZOFFSETFROM:+0100
TZOFFSETTO:+0000
TZNAME:GMT
DTSTART:20281029T010000
END:STANDARD
END:VTIMEZONE
BEGIN:VEVENT
DTSTART;TZID=Europe/London:20271201T110000
DTEND;TZID=Europe/London:20271201T120000
DTSTAMP:20260424T200701
CREATED:20241108T152325Z
LAST-MODIFIED:20241108T161419Z
UID:10015889-1827658800-1827662400@hla.oldham.gov.uk
SUMMARY:Chat and Choose
DESCRIPTION:Fancy a brew ?  \n\n\n\nOur Chat and Choose sessions are a great opportunity to meet people\, relax and pick up a good book
URL:https://hla.oldham.gov.uk/event/chat-and-choose/2027-12-01/
LOCATION:Royton Library\, Rochdale Road\, Royton\, OL2 6QJ
CATEGORIES:Groups
END:VEVENT
BEGIN:VEVENT
DTSTART;TZID=Europe/London:20271201T163000
DTEND;TZID=Europe/London:20271201T180000
DTSTAMP:20260424T200701
CREATED:20240508T112533Z
LAST-MODIFIED:20260129T163649Z
UID:10008693-1827678600-1827684000@hla.oldham.gov.uk
SUMMARY:Knit & natter at Limehurst Library
DESCRIPTION:Join this friendly group for knitting\, crocheting and a chat every Wednesday afternoon at Limehurst Library. 
URL:https://hla.oldham.gov.uk/event/knit-natter/2027-12-01/
LOCATION:Limehurst Library\, Lime Green Parade\, Oldham\, England\, OL8 3HH\, United Kingdom
CATEGORIES:Adult Art & Crafts,Groups
END:VEVENT
BEGIN:VEVENT
DTSTART;TZID=Europe/London:20271201T180000
DTEND;TZID=Europe/London:20271201T190000
DTSTAMP:20260424T200701
CREATED:20251004T133737Z
LAST-MODIFIED:20251103T120410Z
UID:10006485-1827684000-1827687600@hla.oldham.gov.uk
SUMMARY:Readers group at Failsworth Library
DESCRIPTION:Join our relaxed and informal book club to discuss your reads\, discover new authors and explore new books. We read the same title from a variety of genres picked by library staff and meet once a month to discuss it. It’s a great way to meet new people and socialise and discover books you never imagined you would enjoy.
URL:https://hla.oldham.gov.uk/event/readers-group-6/2027-12-01/
LOCATION:Failsworth Library\, Oldham Road\, Failsworth\, England\, M35 0EJ\, United Kingdom
CATEGORIES:Groups
END:VEVENT
BEGIN:VEVENT
DTSTART;TZID=Europe/London:20271202T103000
DTEND;TZID=Europe/London:20271202T123000
DTSTAMP:20260424T200701
CREATED:20260327T100158Z
LAST-MODIFIED:20260327T140611Z
UID:10061197-1827743400-1827750600@hla.oldham.gov.uk
SUMMARY:Brews\, Biscuits and Banter at Oldham Library
DESCRIPTION:Fancy a cuppa ? Want to socialise and unwind? Chat to others and take some time to relax in the comfort of our lovely library.
URL:https://hla.oldham.gov.uk/event/books-brew-and-banter-at-oldham-library/2027-12-02/
LOCATION:Oldham Library & Lifelong Learning Centre\, Greaves Street\, Oldham\, OL1 1AL\, United Kingdom
CATEGORIES:Groups,Health and Wellbeing
END:VEVENT
BEGIN:VEVENT
DTSTART;TZID=Europe/London:20271202T130000
DTEND;TZID=Europe/London:20271202T150000
DTSTAMP:20260424T200701
CREATED:20260326T164643Z
LAST-MODIFIED:20260326T164645Z
UID:10060285-1827752400-1827759600@hla.oldham.gov.uk
SUMMARY:Knit and Natter
DESCRIPTION:Whether it’s knitting\, crocheting\, or just a good natter\, our friendly group of knitters will make you feel right at home. \n\n\n\nJoin us for this welcoming fortnightly  meet‑up\, where you can share tips\, chat\, and enjoy some relaxed creative time together.
URL:https://hla.oldham.gov.uk/event/knit-and-natter-3/2027-12-02/
LOCATION:Lees Library Community Hub\, Thomas Street\, Lees\, Oldham\, Greater Manchester\, OL4 5DA\, United Kingdom
CATEGORIES:Adult Art & Crafts,Groups
END:VEVENT
BEGIN:VEVENT
DTSTART;TZID=Europe/London:20271202T140000
DTEND;TZID=Europe/London:20271202T150000
DTSTAMP:20260424T200702
CREATED:20241108T143949Z
LAST-MODIFIED:20241108T161401Z
UID:10015523-1827756000-1827759600@hla.oldham.gov.uk
SUMMARY:Readers Group
DESCRIPTION:Whether you’re an avid reader or someone who dips in and out of books when time allows – we love to welcome new members.   \n\n\n\nJoin us on the first Thursday of every month .
URL:https://hla.oldham.gov.uk/event/readers-group-3/2027-12-02/
LOCATION:Royton Library\, Rochdale Road\, Royton\, OL2 6QJ
CATEGORIES:Groups
END:VEVENT
BEGIN:VEVENT
DTSTART;TZID=Europe/London:20271203T130000
DTEND;TZID=Europe/London:20271203T150000
DTSTAMP:20260424T200702
CREATED:20250829T134329Z
LAST-MODIFIED:20250829T134331Z
UID:10039133-1827838800-1827846000@hla.oldham.gov.uk
SUMMARY:Crompton Crafters
DESCRIPTION:Join our friendly crafters at Crompton Library\, chatting and crafting.  What better way to spend a Friday afternoon\, meeting weekly?
URL:https://hla.oldham.gov.uk/event/crompton-crafters-4/2027-12-03/
LOCATION:Crompton Library\, Farrow Street East\, Shaw\, Oldham\, OL2 8QY
CATEGORIES:Adult Art & Crafts,Groups
END:VEVENT
BEGIN:VEVENT
DTSTART;TZID=Europe/London:20271203T140000
DTEND;TZID=Europe/London:20271203T150000
DTSTAMP:20260424T200702
CREATED:20260326T170224Z
LAST-MODIFIED:20260326T170550Z
UID:10060635-1827842400-1827846000@hla.oldham.gov.uk
SUMMARY:Chat and Choose
DESCRIPTION:Join us for a cuppa and a chat!Everyone is welcome — and while you’re here\, why not pick out a great book to take home?
URL:https://hla.oldham.gov.uk/event/chat-and-choose-4/2027-12-03/
LOCATION:Uppermill Library\, St Chads House\, Uppermill\, Uppermill\, England\, OL3 6AZ\, United Kingdom
CATEGORIES:Groups,Health and Wellbeing
END:VEVENT
BEGIN:VEVENT
DTSTART;TZID=Europe/London:20271206T110000
DTEND;TZID=Europe/London:20271206T130000
DTSTAMP:20260424T200702
CREATED:20260326T160147Z
LAST-MODIFIED:20260326T160704Z
UID:10059847-1828090800-1828098000@hla.oldham.gov.uk
SUMMARY:Knit and Natter
DESCRIPTION:Whether it’s knitting\, crocheting\, or just a good natter\, our friendly group of knitters will make you feel right at home. \n\n\n\nJoin us for this welcoming weekly meet‑up\, where you can share tips\, chat\, and enjoy some relaxed creative time together.
URL:https://hla.oldham.gov.uk/event/knit-and-natter-2/2027-12-06/
LOCATION:Uppermill Library\, St Chads House\, Uppermill\, Uppermill\, England\, OL3 6AZ\, United Kingdom
CATEGORIES:Adult Art & Crafts,Groups
END:VEVENT
BEGIN:VEVENT
DTSTART;TZID=Europe/London:20271206T123000
DTEND;TZID=Europe/London:20271206T143000
DTSTAMP:20260424T200702
CREATED:20240508T112814Z
LAST-MODIFIED:20260129T164020Z
UID:10009215-1828096200-1828103400@hla.oldham.gov.uk
SUMMARY:Knit & natter at Failsworth Library
DESCRIPTION:Join this friendly group for knitting\, crocheting and chat every Monday afternoon at Failsworth Library. 
URL:https://hla.oldham.gov.uk/event/knit-natter-2/2027-12-06/
LOCATION:Failsworth Library\, Oldham Road\, Failsworth\, England\, M35 0EJ\, United Kingdom
CATEGORIES:Adult Art & Crafts,Groups
END:VEVENT
BEGIN:VEVENT
DTSTART;TZID=Europe/London:20271207T100000
DTEND;TZID=Europe/London:20271207T120000
DTSTAMP:20260424T200702
CREATED:20240508T121255Z
LAST-MODIFIED:20260129T163955Z
UID:10012347-1828173600-1828180800@hla.oldham.gov.uk
SUMMARY:Books\, brew & banter at Failsworth Library
DESCRIPTION:Fancy a cuppa ? Want to socialise\, unwind and get your hands on the hottest books in town. Swing by and say hi. Chat to others and have a cuppa and take some time to relax with some mindfulness colouring\, all in the comfort of our lovely library.
URL:https://hla.oldham.gov.uk/event/books-brew-banter-2/2027-12-07/
LOCATION:Failsworth Library\, Oldham Road\, Failsworth\, England\, M35 0EJ\, United Kingdom
CATEGORIES:Groups,Health and Wellbeing
END:VEVENT
BEGIN:VEVENT
DTSTART;TZID=Europe/London:20271208T110000
DTEND;TZID=Europe/London:20271208T120000
DTSTAMP:20260424T200702
CREATED:20241108T152325Z
LAST-MODIFIED:20241108T161419Z
UID:10015891-1828263600-1828267200@hla.oldham.gov.uk
SUMMARY:Chat and Choose
DESCRIPTION:Fancy a brew ?  \n\n\n\nOur Chat and Choose sessions are a great opportunity to meet people\, relax and pick up a good book
URL:https://hla.oldham.gov.uk/event/chat-and-choose/2027-12-08/
LOCATION:Royton Library\, Rochdale Road\, Royton\, OL2 6QJ
CATEGORIES:Groups
END:VEVENT
BEGIN:VEVENT
DTSTART;TZID=Europe/London:20271208T163000
DTEND;TZID=Europe/London:20271208T180000
DTSTAMP:20260424T200702
CREATED:20240508T112533Z
LAST-MODIFIED:20260129T163649Z
UID:10008695-1828283400-1828288800@hla.oldham.gov.uk
SUMMARY:Knit & natter at Limehurst Library
DESCRIPTION:Join this friendly group for knitting\, crocheting and a chat every Wednesday afternoon at Limehurst Library. 
URL:https://hla.oldham.gov.uk/event/knit-natter/2027-12-08/
LOCATION:Limehurst Library\, Lime Green Parade\, Oldham\, England\, OL8 3HH\, United Kingdom
CATEGORIES:Adult Art & Crafts,Groups
END:VEVENT
BEGIN:VEVENT
DTSTART;TZID=Europe/London:20271209T103000
DTEND;TZID=Europe/London:20271209T123000
DTSTAMP:20260424T200702
CREATED:20260327T100158Z
LAST-MODIFIED:20260327T140611Z
UID:10061199-1828348200-1828355400@hla.oldham.gov.uk
SUMMARY:Brews\, Biscuits and Banter at Oldham Library
DESCRIPTION:Fancy a cuppa ? Want to socialise and unwind? Chat to others and take some time to relax in the comfort of our lovely library.
URL:https://hla.oldham.gov.uk/event/books-brew-and-banter-at-oldham-library/2027-12-09/
LOCATION:Oldham Library & Lifelong Learning Centre\, Greaves Street\, Oldham\, OL1 1AL\, United Kingdom
CATEGORIES:Groups,Health and Wellbeing
END:VEVENT
BEGIN:VEVENT
DTSTART;TZID=Europe/London:20271210T130000
DTEND;TZID=Europe/London:20271210T150000
DTSTAMP:20260424T200702
CREATED:20250829T134329Z
LAST-MODIFIED:20250829T134331Z
UID:10039135-1828443600-1828450800@hla.oldham.gov.uk
SUMMARY:Crompton Crafters
DESCRIPTION:Join our friendly crafters at Crompton Library\, chatting and crafting.  What better way to spend a Friday afternoon\, meeting weekly?
URL:https://hla.oldham.gov.uk/event/crompton-crafters-4/2027-12-10/
LOCATION:Crompton Library\, Farrow Street East\, Shaw\, Oldham\, OL2 8QY
CATEGORIES:Adult Art & Crafts,Groups
END:VEVENT
BEGIN:VEVENT
DTSTART;TZID=Europe/London:20271210T140000
DTEND;TZID=Europe/London:20271210T150000
DTSTAMP:20260424T200702
CREATED:20260326T170224Z
LAST-MODIFIED:20260326T170550Z
UID:10060637-1828447200-1828450800@hla.oldham.gov.uk
SUMMARY:Chat and Choose
DESCRIPTION:Join us for a cuppa and a chat!Everyone is welcome — and while you’re here\, why not pick out a great book to take home?
URL:https://hla.oldham.gov.uk/event/chat-and-choose-4/2027-12-10/
LOCATION:Uppermill Library\, St Chads House\, Uppermill\, Uppermill\, England\, OL3 6AZ\, United Kingdom
CATEGORIES:Groups,Health and Wellbeing
END:VEVENT
BEGIN:VEVENT
DTSTART;TZID=Europe/London:20271213T110000
DTEND;TZID=Europe/London:20271213T130000
DTSTAMP:20260424T200702
CREATED:20260326T160147Z
LAST-MODIFIED:20260326T160704Z
UID:10059849-1828695600-1828702800@hla.oldham.gov.uk
SUMMARY:Knit and Natter
DESCRIPTION:Whether it’s knitting\, crocheting\, or just a good natter\, our friendly group of knitters will make you feel right at home. \n\n\n\nJoin us for this welcoming weekly meet‑up\, where you can share tips\, chat\, and enjoy some relaxed creative time together.
URL:https://hla.oldham.gov.uk/event/knit-and-natter-2/2027-12-13/
LOCATION:Uppermill Library\, St Chads House\, Uppermill\, Uppermill\, England\, OL3 6AZ\, United Kingdom
CATEGORIES:Adult Art & Crafts,Groups
END:VEVENT
BEGIN:VEVENT
DTSTART;TZID=Europe/London:20271213T123000
DTEND;TZID=Europe/London:20271213T143000
DTSTAMP:20260424T200702
CREATED:20240508T112814Z
LAST-MODIFIED:20260129T164020Z
UID:10009217-1828701000-1828708200@hla.oldham.gov.uk
SUMMARY:Knit & natter at Failsworth Library
DESCRIPTION:Join this friendly group for knitting\, crocheting and chat every Monday afternoon at Failsworth Library. 
URL:https://hla.oldham.gov.uk/event/knit-natter-2/2027-12-13/
LOCATION:Failsworth Library\, Oldham Road\, Failsworth\, England\, M35 0EJ\, United Kingdom
CATEGORIES:Adult Art & Crafts,Groups
END:VEVENT
BEGIN:VEVENT
DTSTART;TZID=Europe/London:20271214T100000
DTEND;TZID=Europe/London:20271214T120000
DTSTAMP:20260424T200702
CREATED:20240508T121255Z
LAST-MODIFIED:20260129T163955Z
UID:10012349-1828778400-1828785600@hla.oldham.gov.uk
SUMMARY:Books\, brew & banter at Failsworth Library
DESCRIPTION:Fancy a cuppa ? Want to socialise\, unwind and get your hands on the hottest books in town. Swing by and say hi. Chat to others and have a cuppa and take some time to relax with some mindfulness colouring\, all in the comfort of our lovely library.
URL:https://hla.oldham.gov.uk/event/books-brew-banter-2/2027-12-14/
LOCATION:Failsworth Library\, Oldham Road\, Failsworth\, England\, M35 0EJ\, United Kingdom
CATEGORIES:Groups,Health and Wellbeing
END:VEVENT
BEGIN:VEVENT
DTSTART;TZID=Europe/London:20271215T080000
DTEND;TZID=Europe/London:20271215T170000
DTSTAMP:20260424T200702
CREATED:20250725T143215Z
LAST-MODIFIED:20250725T143254Z
UID:10035341-1828857600-1828890000@hla.oldham.gov.uk
SUMMARY:Readers Group
DESCRIPTION:Whether you’re an avid reader or someone who dips in and out of books when time allows – we love to welcome new members. \n\n\n\nJoin us on the third Wednesday of every month .
URL:https://hla.oldham.gov.uk/event/readers-group-5/2027-12-15/
LOCATION:Lees Library Community Hub\, Thomas Street\, Lees\, Oldham\, Greater Manchester\, OL4 5DA\, United Kingdom
CATEGORIES:Groups
END:VEVENT
BEGIN:VEVENT
DTSTART;TZID=Europe/London:20271215T110000
DTEND;TZID=Europe/London:20271215T120000
DTSTAMP:20260424T200702
CREATED:20241108T152325Z
LAST-MODIFIED:20241108T161419Z
UID:10015893-1828868400-1828872000@hla.oldham.gov.uk
SUMMARY:Chat and Choose
DESCRIPTION:Fancy a brew ?  \n\n\n\nOur Chat and Choose sessions are a great opportunity to meet people\, relax and pick up a good book
URL:https://hla.oldham.gov.uk/event/chat-and-choose/2027-12-15/
LOCATION:Royton Library\, Rochdale Road\, Royton\, OL2 6QJ
CATEGORIES:Groups
END:VEVENT
BEGIN:VEVENT
DTSTART;TZID=Europe/London:20271215T163000
DTEND;TZID=Europe/London:20271215T180000
DTSTAMP:20260424T200702
CREATED:20240508T112533Z
LAST-MODIFIED:20260129T163649Z
UID:10008697-1828888200-1828893600@hla.oldham.gov.uk
SUMMARY:Knit & natter at Limehurst Library
DESCRIPTION:Join this friendly group for knitting\, crocheting and a chat every Wednesday afternoon at Limehurst Library. 
URL:https://hla.oldham.gov.uk/event/knit-natter/2027-12-15/
LOCATION:Limehurst Library\, Lime Green Parade\, Oldham\, England\, OL8 3HH\, United Kingdom
CATEGORIES:Adult Art & Crafts,Groups
END:VEVENT
BEGIN:VEVENT
DTSTART;TZID=Europe/London:20271216T103000
DTEND;TZID=Europe/London:20271216T123000
DTSTAMP:20260424T200702
CREATED:20260327T100158Z
LAST-MODIFIED:20260327T140611Z
UID:10061201-1828953000-1828960200@hla.oldham.gov.uk
SUMMARY:Brews\, Biscuits and Banter at Oldham Library
DESCRIPTION:Fancy a cuppa ? Want to socialise and unwind? Chat to others and take some time to relax in the comfort of our lovely library.
URL:https://hla.oldham.gov.uk/event/books-brew-and-banter-at-oldham-library/2027-12-16/
LOCATION:Oldham Library & Lifelong Learning Centre\, Greaves Street\, Oldham\, OL1 1AL\, United Kingdom
CATEGORIES:Groups,Health and Wellbeing
END:VEVENT
BEGIN:VEVENT
DTSTART;TZID=Europe/London:20271216T130000
DTEND;TZID=Europe/London:20271216T150000
DTSTAMP:20260424T200702
CREATED:20260326T164643Z
LAST-MODIFIED:20260326T164645Z
UID:10060287-1828962000-1828969200@hla.oldham.gov.uk
SUMMARY:Knit and Natter
DESCRIPTION:Whether it’s knitting\, crocheting\, or just a good natter\, our friendly group of knitters will make you feel right at home. \n\n\n\nJoin us for this welcoming fortnightly  meet‑up\, where you can share tips\, chat\, and enjoy some relaxed creative time together.
URL:https://hla.oldham.gov.uk/event/knit-and-natter-3/2027-12-16/
LOCATION:Lees Library Community Hub\, Thomas Street\, Lees\, Oldham\, Greater Manchester\, OL4 5DA\, United Kingdom
CATEGORIES:Adult Art & Crafts,Groups
END:VEVENT
BEGIN:VEVENT
DTSTART;TZID=Europe/London:20271217T130000
DTEND;TZID=Europe/London:20271217T150000
DTSTAMP:20260424T200702
CREATED:20250829T134329Z
LAST-MODIFIED:20250829T134331Z
UID:10039137-1829048400-1829055600@hla.oldham.gov.uk
SUMMARY:Crompton Crafters
DESCRIPTION:Join our friendly crafters at Crompton Library\, chatting and crafting.  What better way to spend a Friday afternoon\, meeting weekly?
URL:https://hla.oldham.gov.uk/event/crompton-crafters-4/2027-12-17/
LOCATION:Crompton Library\, Farrow Street East\, Shaw\, Oldham\, OL2 8QY
CATEGORIES:Adult Art & Crafts,Groups
END:VEVENT
BEGIN:VEVENT
DTSTART;TZID=Europe/London:20271217T140000
DTEND;TZID=Europe/London:20271217T150000
DTSTAMP:20260424T200702
CREATED:20260326T170224Z
LAST-MODIFIED:20260326T170550Z
UID:10060639-1829052000-1829055600@hla.oldham.gov.uk
SUMMARY:Chat and Choose
DESCRIPTION:Join us for a cuppa and a chat!Everyone is welcome — and while you’re here\, why not pick out a great book to take home?
URL:https://hla.oldham.gov.uk/event/chat-and-choose-4/2027-12-17/
LOCATION:Uppermill Library\, St Chads House\, Uppermill\, Uppermill\, England\, OL3 6AZ\, United Kingdom
CATEGORIES:Groups,Health and Wellbeing
END:VEVENT
BEGIN:VEVENT
DTSTART;TZID=Europe/London:20271220T110000
DTEND;TZID=Europe/London:20271220T130000
DTSTAMP:20260424T200702
CREATED:20260326T160147Z
LAST-MODIFIED:20260326T160704Z
UID:10059851-1829300400-1829307600@hla.oldham.gov.uk
SUMMARY:Knit and Natter
DESCRIPTION:Whether it’s knitting\, crocheting\, or just a good natter\, our friendly group of knitters will make you feel right at home. \n\n\n\nJoin us for this welcoming weekly meet‑up\, where you can share tips\, chat\, and enjoy some relaxed creative time together.
URL:https://hla.oldham.gov.uk/event/knit-and-natter-2/2027-12-20/
LOCATION:Uppermill Library\, St Chads House\, Uppermill\, Uppermill\, England\, OL3 6AZ\, United Kingdom
CATEGORIES:Adult Art & Crafts,Groups
END:VEVENT
BEGIN:VEVENT
DTSTART;TZID=Europe/London:20271220T123000
DTEND;TZID=Europe/London:20271220T143000
DTSTAMP:20260424T200702
CREATED:20240508T112814Z
LAST-MODIFIED:20260129T164020Z
UID:10009219-1829305800-1829313000@hla.oldham.gov.uk
SUMMARY:Knit & natter at Failsworth Library
DESCRIPTION:Join this friendly group for knitting\, crocheting and chat every Monday afternoon at Failsworth Library. 
URL:https://hla.oldham.gov.uk/event/knit-natter-2/2027-12-20/
LOCATION:Failsworth Library\, Oldham Road\, Failsworth\, England\, M35 0EJ\, United Kingdom
CATEGORIES:Adult Art & Crafts,Groups
END:VEVENT
BEGIN:VEVENT
DTSTART;TZID=Europe/London:20271221T100000
DTEND;TZID=Europe/London:20271221T120000
DTSTAMP:20260424T200702
CREATED:20240508T121255Z
LAST-MODIFIED:20260129T163955Z
UID:10012351-1829383200-1829390400@hla.oldham.gov.uk
SUMMARY:Books\, brew & banter at Failsworth Library
DESCRIPTION:Fancy a cuppa ? Want to socialise\, unwind and get your hands on the hottest books in town. Swing by and say hi. Chat to others and have a cuppa and take some time to relax with some mindfulness colouring\, all in the comfort of our lovely library.
URL:https://hla.oldham.gov.uk/event/books-brew-banter-2/2027-12-21/
LOCATION:Failsworth Library\, Oldham Road\, Failsworth\, England\, M35 0EJ\, United Kingdom
CATEGORIES:Groups,Health and Wellbeing
END:VEVENT
BEGIN:VEVENT
DTSTART;TZID=Europe/London:20271222T110000
DTEND;TZID=Europe/London:20271222T120000
DTSTAMP:20260424T200702
CREATED:20241108T152325Z
LAST-MODIFIED:20241108T161419Z
UID:10015895-1829473200-1829476800@hla.oldham.gov.uk
SUMMARY:Chat and Choose
DESCRIPTION:Fancy a brew ?  \n\n\n\nOur Chat and Choose sessions are a great opportunity to meet people\, relax and pick up a good book
URL:https://hla.oldham.gov.uk/event/chat-and-choose/2027-12-22/
LOCATION:Royton Library\, Rochdale Road\, Royton\, OL2 6QJ
CATEGORIES:Groups
END:VEVENT
END:VCALENDAR