BEGIN:VCALENDAR
VERSION:2.0
PRODID:-//Oldham HLA - ECPv6.15.14//NONSGML v1.0//EN
CALSCALE:GREGORIAN
METHOD:PUBLISH
X-WR-CALNAME:Oldham HLA
X-ORIGINAL-URL:https://hla.oldham.gov.uk
X-WR-CALDESC:Events for Oldham HLA
REFRESH-INTERVAL;VALUE=DURATION:PT1H
X-Robots-Tag:noindex
X-PUBLISHED-TTL:PT1H
BEGIN:VTIMEZONE
TZID:Europe/London
BEGIN:DAYLIGHT
TZOFFSETFROM:+0000
TZOFFSETTO:+0100
TZNAME:BST
DTSTART:20250330T010000
END:DAYLIGHT
BEGIN:STANDARD
TZOFFSETFROM:+0100
TZOFFSETTO:+0000
TZNAME:GMT
DTSTART:20251026T010000
END:STANDARD
BEGIN:DAYLIGHT
TZOFFSETFROM:+0000
TZOFFSETTO:+0100
TZNAME:BST
DTSTART:20260329T010000
END:DAYLIGHT
BEGIN:STANDARD
TZOFFSETFROM:+0100
TZOFFSETTO:+0000
TZNAME:GMT
DTSTART:20261025T010000
END:STANDARD
BEGIN:DAYLIGHT
TZOFFSETFROM:+0000
TZOFFSETTO:+0100
TZNAME:BST
DTSTART:20270328T010000
END:DAYLIGHT
BEGIN:STANDARD
TZOFFSETFROM:+0100
TZOFFSETTO:+0000
TZNAME:GMT
DTSTART:20271031T010000
END:STANDARD
END:VTIMEZONE
BEGIN:VEVENT
DTSTART;TZID=Europe/London:20260423T103000
DTEND;TZID=Europe/London:20260423T123000
DTSTAMP:20260421T144751
CREATED:20260327T100158Z
LAST-MODIFIED:20260327T140611Z
UID:10061029-1776940200-1776947400@hla.oldham.gov.uk
SUMMARY:Brews\, Biscuits and Banter at Oldham Library
DESCRIPTION:Fancy a cuppa ? Want to socialise and unwind? Chat to others and take some time to relax in the comfort of our lovely library.
URL:https://hla.oldham.gov.uk/event/books-brew-and-banter-at-oldham-library/2026-04-23/
LOCATION:Oldham Library & Lifelong Learning Centre\, Greaves Street\, Oldham\, OL1 1AL\, United Kingdom
CATEGORIES:Groups,Health and Wellbeing
END:VEVENT
BEGIN:VEVENT
DTSTART;TZID=Europe/London:20260423T130000
DTEND;TZID=Europe/London:20260423T150000
DTSTAMP:20260421T144751
CREATED:20260326T164643Z
LAST-MODIFIED:20260326T164645Z
UID:10060201-1776949200-1776956400@hla.oldham.gov.uk
SUMMARY:Knit and Natter
DESCRIPTION:Whether it’s knitting\, crocheting\, or just a good natter\, our friendly group of knitters will make you feel right at home. \n\n\n\nJoin us for this welcoming fortnightly  meet‑up\, where you can share tips\, chat\, and enjoy some relaxed creative time together.
URL:https://hla.oldham.gov.uk/event/knit-and-natter-3/2026-04-23/
LOCATION:Lees Library Community Hub\, Thomas Street\, Lees\, Oldham\, Greater Manchester\, OL4 5DA\, United Kingdom
CATEGORIES:Adult Art & Crafts,Groups
END:VEVENT
END:VCALENDAR