BEGIN:VCALENDAR
VERSION:2.0
PRODID:-//Oldham HLA - ECPv6.15.14//NONSGML v1.0//EN
CALSCALE:GREGORIAN
METHOD:PUBLISH
X-WR-CALNAME:Oldham HLA
X-ORIGINAL-URL:https://hla.oldham.gov.uk
X-WR-CALDESC:Events for Oldham HLA
REFRESH-INTERVAL;VALUE=DURATION:PT1H
X-Robots-Tag:noindex
X-PUBLISHED-TTL:PT1H
BEGIN:VTIMEZONE
TZID:Europe/London
BEGIN:DAYLIGHT
TZOFFSETFROM:+0000
TZOFFSETTO:+0100
TZNAME:BST
DTSTART:20250330T010000
END:DAYLIGHT
BEGIN:STANDARD
TZOFFSETFROM:+0100
TZOFFSETTO:+0000
TZNAME:GMT
DTSTART:20251026T010000
END:STANDARD
BEGIN:DAYLIGHT
TZOFFSETFROM:+0000
TZOFFSETTO:+0100
TZNAME:BST
DTSTART:20260329T010000
END:DAYLIGHT
BEGIN:STANDARD
TZOFFSETFROM:+0100
TZOFFSETTO:+0000
TZNAME:GMT
DTSTART:20261025T010000
END:STANDARD
BEGIN:DAYLIGHT
TZOFFSETFROM:+0000
TZOFFSETTO:+0100
TZNAME:BST
DTSTART:20270328T010000
END:DAYLIGHT
BEGIN:STANDARD
TZOFFSETFROM:+0100
TZOFFSETTO:+0000
TZNAME:GMT
DTSTART:20271031T010000
END:STANDARD
END:VTIMEZONE
BEGIN:VEVENT
DTSTART;TZID=Europe/London:20260424T130000
DTEND;TZID=Europe/London:20260424T150000
DTSTAMP:20260421T144752
CREATED:20250829T134329Z
LAST-MODIFIED:20250829T134331Z
UID:10038965-1777035600-1777042800@hla.oldham.gov.uk
SUMMARY:Crompton Crafters
DESCRIPTION:Join our friendly crafters at Crompton Library\, chatting and crafting.  What better way to spend a Friday afternoon\, meeting weekly?
URL:https://hla.oldham.gov.uk/event/crompton-crafters-4/2026-04-24/
LOCATION:Crompton Library\, Farrow Street East\, Shaw\, Oldham\, OL2 8QY
CATEGORIES:Adult Art & Crafts,Groups
END:VEVENT
BEGIN:VEVENT
DTSTART;TZID=Europe/London:20260424T140000
DTEND;TZID=Europe/London:20260424T150000
DTSTAMP:20260421T144752
CREATED:20260326T170224Z
LAST-MODIFIED:20260326T170550Z
UID:10060467-1777039200-1777042800@hla.oldham.gov.uk
SUMMARY:Chat and Choose
DESCRIPTION:Join us for a cuppa and a chat!Everyone is welcome — and while you’re here\, why not pick out a great book to take home?
URL:https://hla.oldham.gov.uk/event/chat-and-choose-4/2026-04-24/
LOCATION:Uppermill Library\, St Chads House\, Uppermill\, Uppermill\, England\, OL3 6AZ\, United Kingdom
CATEGORIES:Groups,Health and Wellbeing
END:VEVENT
END:VCALENDAR