BEGIN:VCALENDAR
VERSION:2.0
PRODID:-//Oldham HLA - ECPv6.15.20//NONSGML v1.0//EN
CALSCALE:GREGORIAN
METHOD:PUBLISH
X-WR-CALNAME:Oldham HLA
X-ORIGINAL-URL:https://hla.oldham.gov.uk
X-WR-CALDESC:Events for Oldham HLA
REFRESH-INTERVAL;VALUE=DURATION:PT1H
X-Robots-Tag:noindex
X-PUBLISHED-TTL:PT1H
BEGIN:VTIMEZONE
TZID:Europe/London
BEGIN:DAYLIGHT
TZOFFSETFROM:+0000
TZOFFSETTO:+0100
TZNAME:BST
DTSTART:20250330T010000
END:DAYLIGHT
BEGIN:STANDARD
TZOFFSETFROM:+0100
TZOFFSETTO:+0000
TZNAME:GMT
DTSTART:20251026T010000
END:STANDARD
BEGIN:DAYLIGHT
TZOFFSETFROM:+0000
TZOFFSETTO:+0100
TZNAME:BST
DTSTART:20260329T010000
END:DAYLIGHT
BEGIN:STANDARD
TZOFFSETFROM:+0100
TZOFFSETTO:+0000
TZNAME:GMT
DTSTART:20261025T010000
END:STANDARD
BEGIN:DAYLIGHT
TZOFFSETFROM:+0000
TZOFFSETTO:+0100
TZNAME:BST
DTSTART:20270328T010000
END:DAYLIGHT
BEGIN:STANDARD
TZOFFSETFROM:+0100
TZOFFSETTO:+0000
TZNAME:GMT
DTSTART:20271031T010000
END:STANDARD
END:VTIMEZONE
BEGIN:VEVENT
DTSTART;TZID=Europe/London:20261116T110000
DTEND;TZID=Europe/London:20261116T130000
DTSTAMP:20260422T230652
CREATED:20260326T160147Z
LAST-MODIFIED:20260326T160704Z
UID:10059737-1794826800-1794834000@hla.oldham.gov.uk
SUMMARY:Knit and Natter
DESCRIPTION:Whether it’s knitting\, crocheting\, or just a good natter\, our friendly group of knitters will make you feel right at home. \n\n\n\nJoin us for this welcoming weekly meet‑up\, where you can share tips\, chat\, and enjoy some relaxed creative time together.
URL:https://hla.oldham.gov.uk/event/knit-and-natter-2/2026-11-16/
LOCATION:Uppermill Library\, St Chads House\, Uppermill\, Uppermill\, England\, OL3 6AZ\, United Kingdom
CATEGORIES:Adult Art & Crafts,Groups
END:VEVENT
BEGIN:VEVENT
DTSTART;TZID=Europe/London:20261116T123000
DTEND;TZID=Europe/London:20261116T143000
DTSTAMP:20260422T230652
CREATED:20240508T112814Z
LAST-MODIFIED:20260129T164020Z
UID:10009105-1794832200-1794839400@hla.oldham.gov.uk
SUMMARY:Knit & natter at Failsworth Library
DESCRIPTION:Join this friendly group for knitting\, crocheting and chat every Monday afternoon at Failsworth Library. 
URL:https://hla.oldham.gov.uk/event/knit-natter-2/2026-11-16/
LOCATION:Failsworth Library\, Oldham Road\, Failsworth\, England\, M35 0EJ\, United Kingdom
CATEGORIES:Adult Art & Crafts,Groups
END:VEVENT
BEGIN:VEVENT
DTSTART;TZID=Europe/London:20261117T100000
DTEND;TZID=Europe/London:20261117T120000
DTSTAMP:20260422T230652
CREATED:20240508T121255Z
LAST-MODIFIED:20260129T163955Z
UID:10012237-1794909600-1794916800@hla.oldham.gov.uk
SUMMARY:Books\, brew & banter at Failsworth Library
DESCRIPTION:Fancy a cuppa ? Want to socialise\, unwind and get your hands on the hottest books in town. Swing by and say hi. Chat to others and have a cuppa and take some time to relax with some mindfulness colouring\, all in the comfort of our lovely library.
URL:https://hla.oldham.gov.uk/event/books-brew-banter-2/2026-11-17/
LOCATION:Failsworth Library\, Oldham Road\, Failsworth\, England\, M35 0EJ\, United Kingdom
CATEGORIES:Groups,Health and Wellbeing
END:VEVENT
BEGIN:VEVENT
DTSTART;TZID=Europe/London:20261118T080000
DTEND;TZID=Europe/London:20261118T170000
DTSTAMP:20260422T230652
CREATED:20250725T143215Z
LAST-MODIFIED:20250725T143254Z
UID:10035315-1794988800-1795021200@hla.oldham.gov.uk
SUMMARY:Readers Group
DESCRIPTION:Whether you’re an avid reader or someone who dips in and out of books when time allows – we love to welcome new members. \n\n\n\nJoin us on the third Wednesday of every month .
URL:https://hla.oldham.gov.uk/event/readers-group-5/2026-11-18/
LOCATION:Lees Library Community Hub\, Thomas Street\, Lees\, Oldham\, Greater Manchester\, OL4 5DA\, United Kingdom
CATEGORIES:Groups
END:VEVENT
BEGIN:VEVENT
DTSTART;TZID=Europe/London:20261118T110000
DTEND;TZID=Europe/London:20261118T120000
DTSTAMP:20260422T230652
CREATED:20241108T152325Z
LAST-MODIFIED:20241108T161419Z
UID:10015781-1794999600-1795003200@hla.oldham.gov.uk
SUMMARY:Chat and Choose
DESCRIPTION:Fancy a brew ?  \n\n\n\nOur Chat and Choose sessions are a great opportunity to meet people\, relax and pick up a good book
URL:https://hla.oldham.gov.uk/event/chat-and-choose/2026-11-18/
LOCATION:Royton Library\, Rochdale Road\, Royton\, OL2 6QJ
CATEGORIES:Groups
END:VEVENT
BEGIN:VEVENT
DTSTART;TZID=Europe/London:20261118T163000
DTEND;TZID=Europe/London:20261118T180000
DTSTAMP:20260422T230652
CREATED:20240508T112533Z
LAST-MODIFIED:20260129T163649Z
UID:10008585-1795019400-1795024800@hla.oldham.gov.uk
SUMMARY:Knit & natter at Limehurst Library
DESCRIPTION:Join this friendly group for knitting\, crocheting and a chat every Wednesday afternoon at Limehurst Library. 
URL:https://hla.oldham.gov.uk/event/knit-natter/2026-11-18/
LOCATION:Limehurst Library\, Lime Green Parade\, Oldham\, England\, OL8 3HH\, United Kingdom
CATEGORIES:Adult Art & Crafts,Groups
END:VEVENT
BEGIN:VEVENT
DTSTART;TZID=Europe/London:20261119T103000
DTEND;TZID=Europe/London:20261119T123000
DTSTAMP:20260422T230652
CREATED:20260327T100158Z
LAST-MODIFIED:20260327T140611Z
UID:10061089-1795084200-1795091400@hla.oldham.gov.uk
SUMMARY:Brews\, Biscuits and Banter at Oldham Library
DESCRIPTION:Fancy a cuppa ? Want to socialise and unwind? Chat to others and take some time to relax in the comfort of our lovely library.
URL:https://hla.oldham.gov.uk/event/books-brew-and-banter-at-oldham-library/2026-11-19/
LOCATION:Oldham Library & Lifelong Learning Centre\, Greaves Street\, Oldham\, OL1 1AL\, United Kingdom
CATEGORIES:Groups,Health and Wellbeing
END:VEVENT
BEGIN:VEVENT
DTSTART;TZID=Europe/London:20261119T130000
DTEND;TZID=Europe/London:20261119T150000
DTSTAMP:20260422T230652
CREATED:20260326T164643Z
LAST-MODIFIED:20260326T164645Z
UID:10060231-1795093200-1795100400@hla.oldham.gov.uk
SUMMARY:Knit and Natter
DESCRIPTION:Whether it’s knitting\, crocheting\, or just a good natter\, our friendly group of knitters will make you feel right at home. \n\n\n\nJoin us for this welcoming fortnightly  meet‑up\, where you can share tips\, chat\, and enjoy some relaxed creative time together.
URL:https://hla.oldham.gov.uk/event/knit-and-natter-3/2026-11-19/
LOCATION:Lees Library Community Hub\, Thomas Street\, Lees\, Oldham\, Greater Manchester\, OL4 5DA\, United Kingdom
CATEGORIES:Adult Art & Crafts,Groups
END:VEVENT
BEGIN:VEVENT
DTSTART;TZID=Europe/London:20261120T130000
DTEND;TZID=Europe/London:20261120T150000
DTSTAMP:20260422T230652
CREATED:20250829T134329Z
LAST-MODIFIED:20250829T134331Z
UID:10039025-1795179600-1795186800@hla.oldham.gov.uk
SUMMARY:Crompton Crafters
DESCRIPTION:Join our friendly crafters at Crompton Library\, chatting and crafting.  What better way to spend a Friday afternoon\, meeting weekly?
URL:https://hla.oldham.gov.uk/event/crompton-crafters-4/2026-11-20/
LOCATION:Crompton Library\, Farrow Street East\, Shaw\, Oldham\, OL2 8QY
CATEGORIES:Adult Art & Crafts,Groups
END:VEVENT
BEGIN:VEVENT
DTSTART;TZID=Europe/London:20261120T140000
DTEND;TZID=Europe/London:20261120T150000
DTSTAMP:20260422T230652
CREATED:20260326T170224Z
LAST-MODIFIED:20260326T170550Z
UID:10060527-1795183200-1795186800@hla.oldham.gov.uk
SUMMARY:Chat and Choose
DESCRIPTION:Join us for a cuppa and a chat!Everyone is welcome — and while you’re here\, why not pick out a great book to take home?
URL:https://hla.oldham.gov.uk/event/chat-and-choose-4/2026-11-20/
LOCATION:Uppermill Library\, St Chads House\, Uppermill\, Uppermill\, England\, OL3 6AZ\, United Kingdom
CATEGORIES:Groups,Health and Wellbeing
END:VEVENT
END:VCALENDAR