BEGIN:VCALENDAR
VERSION:2.0
PRODID:-//Oldham HLA - ECPv6.15.20//NONSGML v1.0//EN
CALSCALE:GREGORIAN
METHOD:PUBLISH
X-WR-CALNAME:Oldham HLA
X-ORIGINAL-URL:https://hla.oldham.gov.uk
X-WR-CALDESC:Events for Oldham HLA
REFRESH-INTERVAL;VALUE=DURATION:PT1H
X-Robots-Tag:noindex
X-PUBLISHED-TTL:PT1H
BEGIN:VTIMEZONE
TZID:Europe/London
BEGIN:DAYLIGHT
TZOFFSETFROM:+0000
TZOFFSETTO:+0100
TZNAME:BST
DTSTART:20300331T010000
END:DAYLIGHT
BEGIN:STANDARD
TZOFFSETFROM:+0100
TZOFFSETTO:+0000
TZNAME:GMT
DTSTART:20301027T010000
END:STANDARD
BEGIN:DAYLIGHT
TZOFFSETFROM:+0000
TZOFFSETTO:+0100
TZNAME:BST
DTSTART:20310330T010000
END:DAYLIGHT
BEGIN:STANDARD
TZOFFSETFROM:+0100
TZOFFSETTO:+0000
TZNAME:GMT
DTSTART:20311026T010000
END:STANDARD
BEGIN:DAYLIGHT
TZOFFSETFROM:+0000
TZOFFSETTO:+0100
TZNAME:BST
DTSTART:20320328T010000
END:DAYLIGHT
BEGIN:STANDARD
TZOFFSETFROM:+0100
TZOFFSETTO:+0000
TZNAME:GMT
DTSTART:20321031T010000
END:STANDARD
END:VTIMEZONE
BEGIN:VEVENT
DTSTART;TZID=Europe/London:20310419T100000
DTEND;TZID=Europe/London:20310419T120000
DTSTAMP:20260423T210537
CREATED:20260119T114629Z
LAST-MODIFIED:20260207T105731Z
UID:10063533-1934359200-1934366400@hla.oldham.gov.uk
SUMMARY:Game on at Fitton Hill Library
DESCRIPTION:Nintendo Switch Sessions at Fitton Hill Library. Sessions are 30 minutes long and bookable with a member of library staff.
URL:https://hla.oldham.gov.uk/event/game-on-at-fitton-hill-library/2031-04-19/
LOCATION:Fitton Hill Library\, Fircroft Road\, Oldham\, England\, OL8 2QD\, United Kingdom
CATEGORIES:Children & Families,Young People
END:VEVENT
BEGIN:VEVENT
DTSTART;TZID=Europe/London:20310419T103000
DTEND;TZID=Europe/London:20310419T120000
DTSTAMP:20260423T210538
CREATED:20240507T165252Z
LAST-MODIFIED:20260129T163443Z
UID:10063535-1934361000-1934366400@hla.oldham.gov.uk
SUMMARY:Lego Club at Failsworth Library
DESCRIPTION:Come and join the fun at Failsworth Library’s Lego Club. Build\, create\, and play. Let your imagination run wild. No need to book in advance – this is a Drop in event \n\n\n\nFor ages 5 and over. Children under 8 must be accompanied by an Adult.
URL:https://hla.oldham.gov.uk/event/lego-club-2/2031-04-19/
LOCATION:Failsworth Library\, Oldham Road\, Failsworth\, England\, M35 0EJ\, United Kingdom
CATEGORIES:Children & Families,Young People
END:VEVENT
BEGIN:VEVENT
DTSTART;TZID=Europe/London:20310421T093000
DTEND;TZID=Europe/London:20310421T120000
DTSTAMP:20260423T210538
CREATED:20250717T152136Z
LAST-MODIFIED:20250717T152154Z
UID:10063561-1934530200-1934539200@hla.oldham.gov.uk
SUMMARY:Citizens Advice
DESCRIPTION:Drop in session\, no appointment required.
URL:https://hla.oldham.gov.uk/event/citizens-advice/2031-04-21/
LOCATION:Lees Library Community Hub\, Thomas Street\, Lees\, Oldham\, Greater Manchester\, OL4 5DA\, United Kingdom
CATEGORIES:Support & Advice
END:VEVENT
BEGIN:VEVENT
DTSTART;TZID=Europe/London:20310421T100000
DTEND;TZID=Europe/London:20310421T110000
DTSTAMP:20260423T210538
CREATED:20250724T163103Z
LAST-MODIFIED:20260326T153500Z
UID:10063563-1934532000-1934535600@hla.oldham.gov.uk
SUMMARY:Bounce and Rhyme
DESCRIPTION:Join us at our weekly bounce and rhyme event. Learn new rhymes\, sing songs and make friends. Perfect for the 0-4’s.
URL:https://hla.oldham.gov.uk/event/bounce-and-rhyme-8/2031-04-21/
LOCATION:Lees Library Community Hub\, Thomas Street\, Lees\, Oldham\, Greater Manchester\, OL4 5DA\, United Kingdom
CATEGORIES:Children & Families
END:VEVENT
END:VCALENDAR