BEGIN:VCALENDAR
VERSION:2.0
PRODID:-//Oldham HLA - ECPv6.15.14//NONSGML v1.0//EN
CALSCALE:GREGORIAN
METHOD:PUBLISH
X-ORIGINAL-URL:https://hla.oldham.gov.uk
X-WR-CALDESC:Events for Oldham HLA
REFRESH-INTERVAL;VALUE=DURATION:PT1H
X-Robots-Tag:noindex
X-PUBLISHED-TTL:PT1H
BEGIN:VTIMEZONE
TZID:Europe/London
BEGIN:DAYLIGHT
TZOFFSETFROM:+0000
TZOFFSETTO:+0100
TZNAME:BST
DTSTART:20250330T010000
END:DAYLIGHT
BEGIN:STANDARD
TZOFFSETFROM:+0100
TZOFFSETTO:+0000
TZNAME:GMT
DTSTART:20251026T010000
END:STANDARD
BEGIN:DAYLIGHT
TZOFFSETFROM:+0000
TZOFFSETTO:+0100
TZNAME:BST
DTSTART:20260329T010000
END:DAYLIGHT
BEGIN:STANDARD
TZOFFSETFROM:+0100
TZOFFSETTO:+0000
TZNAME:GMT
DTSTART:20261025T010000
END:STANDARD
BEGIN:DAYLIGHT
TZOFFSETFROM:+0000
TZOFFSETTO:+0100
TZNAME:BST
DTSTART:20270328T010000
END:DAYLIGHT
BEGIN:STANDARD
TZOFFSETFROM:+0100
TZOFFSETTO:+0000
TZNAME:GMT
DTSTART:20271031T010000
END:STANDARD
END:VTIMEZONE
BEGIN:VEVENT
DTSTART;TZID=Europe/London:20260429T110000
DTEND;TZID=Europe/London:20260429T130000
DTSTAMP:20260420T181356
CREATED:20260120T152948Z
LAST-MODIFIED:20260120T152949Z
UID:10049933-1777460400-1777467600@hla.oldham.gov.uk
SUMMARY:Digital Drop-In
DESCRIPTION:Do you need help with your device? Volunteers from Inclusive Bytes are on hand to assist you with all your digital enquiries
URL:https://hla.oldham.gov.uk/event/digital-drop-in/2026-04-29/
LOCATION:Oldham Library\, 35 Greaves Street\, Oldham\, England\, OL1 1AL\, United Kingdom
CATEGORIES:Digital,Support & Advice
END:VEVENT
BEGIN:VEVENT
DTSTART;TZID=Europe/London:20260429T130000
DTEND;TZID=Europe/London:20260429T160000
DTSTAMP:20260420T181356
CREATED:20241113T135648Z
LAST-MODIFIED:20260324T104839Z
UID:10056749-1777467600-1777478400@hla.oldham.gov.uk
SUMMARY:Chadderton Knitters
DESCRIPTION:Join our friendly knitting group
URL:https://hla.oldham.gov.uk/event/chadderton-knitters/2026-04-29/
LOCATION:Chadderton Library and Wellbeing Centre\, Burnley Street\, Chadderton\, England\, OL9 0JW\, United Kingdom
END:VEVENT
BEGIN:VEVENT
DTSTART;TZID=Europe/London:20260429T133000
DTEND;TZID=Europe/London:20260429T143000
DTSTAMP:20260420T181356
CREATED:20240502T141230Z
LAST-MODIFIED:20251103T121838Z
UID:10003159-1777469400-1777473000@hla.oldham.gov.uk
SUMMARY:Bounce & rhyme at Failsworth Library
DESCRIPTION:Join our playful sessions and meet new friends\, explore the library spaces\, learn new rhymes and songs and enjoy some sensory play in our Bounce and Rhyme Sessions. \n\n\n\nPerfect for 0 – 5’s. \n\n\n\nFree to join\, no need to book.
URL:https://hla.oldham.gov.uk/event/bounce-rhyme/2026-04-29/
LOCATION:Failsworth Library\, Oldham Road\, Failsworth\, England\, M35 0EJ\, United Kingdom
CATEGORIES:Children & Families
END:VEVENT
BEGIN:VEVENT
DTSTART;TZID=Europe/London:20260429T140000
DTEND;TZID=Europe/London:20260429T143000
DTSTAMP:20260420T181356
CREATED:20250724T165416Z
LAST-MODIFIED:20251104T162824Z
UID:10045063-1777471200-1777473000@hla.oldham.gov.uk
SUMMARY:Bounce and rhyme
DESCRIPTION:Join us at our weekly bounce and rhyme event. Learn new rhymes\, sing songs and make friends. Perfect for the 0-4’s. Free
URL:https://hla.oldham.gov.uk/event/bounce-and-rhyme-10/2026-04-29/
LOCATION:Lees Library Community Hub\, Thomas Street\, Lees\, Oldham\, Greater Manchester\, OL4 5DA\, United Kingdom
CATEGORIES:Children & Families
END:VEVENT
BEGIN:VEVENT
DTSTART;TZID=Europe/London:20260429T143000
DTEND;TZID=Europe/London:20260429T153000
DTSTAMP:20260420T181356
CREATED:20240502T151921Z
LAST-MODIFIED:20260129T163818Z
UID:10005769-1777473000-1777476600@hla.oldham.gov.uk
SUMMARY:Digital Confidence at Fitton Hill Library
DESCRIPTION:Come along to our free online course for beginners and develop your digital skills so you can feel comfortable in the online world.
URL:https://hla.oldham.gov.uk/event/online-basics-4/2026-04-29/
LOCATION:Fitton Hill Library\, Fircroft Road\, Oldham\, England\, OL8 2QD\, United Kingdom
CATEGORIES:Digital,Learning
END:VEVENT
BEGIN:VEVENT
DTSTART;TZID=Europe/London:20260429T153000
DTEND;TZID=Europe/London:20260429T170000
DTSTAMP:20260420T181356
CREATED:20240507T165050Z
LAST-MODIFIED:20260129T163750Z
UID:10006961-1777476600-1777482000@hla.oldham.gov.uk
SUMMARY:Lego Club at Limehurst Library
DESCRIPTION:Come and join the fun at Limehurst Library’s Lego Club. Build\, create\, and play. Let your imagination run wild. No need to book in advance – this is a Drop in event \n\n\n\nFor ages 5 and over. Children under 8 must be accompanied by an Adult.
URL:https://hla.oldham.gov.uk/event/lego-club/2026-04-29/
LOCATION:Limehurst Library\, Lime Green Parade\, Oldham\, England\, OL8 3HH\, United Kingdom
CATEGORIES:Children & Families,Young People
END:VEVENT
BEGIN:VEVENT
DTSTART;TZID=Europe/London:20260429T153000
DTEND;TZID=Europe/London:20260429T170000
DTSTAMP:20260420T181356
CREATED:20240507T165511Z
LAST-MODIFIED:20260129T163726Z
UID:10007485-1777476600-1777482000@hla.oldham.gov.uk
SUMMARY:Lego Club at Northmoor Library
DESCRIPTION:Come and join the fun at Northmoor Library’s Lego Club. Build\, create\, and play. Let your imagination run wild. No need to book in advance – this is a Drop in event \n\n\n\nFor ages 5 and over. Children under 8 must be accompanied by an Adult.
URL:https://hla.oldham.gov.uk/event/lego-club-3/2026-04-29/
LOCATION:Northmoor Library\, Chadderton Way\, Oldham\, England\, OL9 6DH\, United Kingdom
CATEGORIES:Children & Families,Young People
END:VEVENT
BEGIN:VEVENT
DTSTART;TZID=Europe/London:20260429T163000
DTEND;TZID=Europe/London:20260429T180000
DTSTAMP:20260420T181356
CREATED:20240508T112533Z
LAST-MODIFIED:20260129T163649Z
UID:10008527-1777480200-1777485600@hla.oldham.gov.uk
SUMMARY:Knit & natter at Limehurst Library
DESCRIPTION:Join this friendly group for knitting\, crocheting and a chat every Wednesday afternoon at Limehurst Library. 
URL:https://hla.oldham.gov.uk/event/knit-natter/2026-04-29/
LOCATION:Limehurst Library\, Lime Green Parade\, Oldham\, England\, OL8 3HH\, United Kingdom
CATEGORIES:Adult Art & Crafts,Groups
END:VEVENT
BEGIN:VEVENT
DTSTART;TZID=Europe/London:20260429T173000
DTEND;TZID=Europe/London:20260429T183000
DTSTAMP:20260420T181356
CREATED:20251014T091928Z
LAST-MODIFIED:20251103T122628Z
UID:10036487-1777483800-1777487400@hla.oldham.gov.uk
SUMMARY:Game on! at Fitton Hill Library
DESCRIPTION:Check out our Nintendo Switch Sessions at Fitton Hill Library. Sessions are 30 minutes long and bookable with a member of library staff.
URL:https://hla.oldham.gov.uk/event/game-on-2/2026-04-29/
LOCATION:Fitton Hill Library\, Fircroft Road\, Oldham\, England\, OL8 2QD\, United Kingdom
END:VEVENT
BEGIN:VEVENT
DTSTART;TZID=Europe/London:20260430T093000
DTEND;TZID=Europe/London:20260430T120000
DTSTAMP:20260420T181356
CREATED:20240513T111026Z
LAST-MODIFIED:20260129T163610Z
UID:10012831-1777541400-1777550400@hla.oldham.gov.uk
SUMMARY:Citizens Advice at Failsworth Library
DESCRIPTION:You will be seen for an assessment on a first come\, firstserved basis. The advisor may also make anappointment to see you at another time.
URL:https://hla.oldham.gov.uk/event/citizens-advice-drop-ins/2026-04-30/
LOCATION:Failsworth Library\, Oldham Road\, Failsworth\, England\, M35 0EJ\, United Kingdom
CATEGORIES:Support & Advice
END:VEVENT
BEGIN:VEVENT
DTSTART;TZID=Europe/London:20260430T093000
DTEND;TZID=Europe/London:20260430T120000
DTSTAMP:20260420T181356
CREATED:20260318T111217Z
LAST-MODIFIED:20260324T110314Z
UID:10057777-1777541400-1777550400@hla.oldham.gov.uk
SUMMARY:Citizens Advice at Chadderton Library and Wellbeing Centre (Drop in Session)
DESCRIPTION:Citizens Advice offer free\, confidential and impartial advice to help you find a way forward with a wide range of issues.
URL:https://hla.oldham.gov.uk/event/citizens-advice-at-chadderton-library-and-wellbeing-centre-drop-in-session/2026-04-30/
LOCATION:England
CATEGORIES:Support & Advice
END:VEVENT
BEGIN:VEVENT
DTSTART;TZID=Europe/London:20260430T100000
DTEND;TZID=Europe/London:20260430T110000
DTSTAMP:20260420T181356
CREATED:20241114T183105Z
LAST-MODIFIED:20241114T183108Z
UID:10019135-1777543200-1777546800@hla.oldham.gov.uk
SUMMARY:Bounce and Rhyme
DESCRIPTION:Join us at our weekly bounce and rhyme event. Learn new rhymes\, sing songs and make friends. Perfect for the 0-4’s.
URL:https://hla.oldham.gov.uk/event/bounce-and-rhyme-5/2026-04-30/
LOCATION:Crompton Library\, Farrow Street East\, Shaw\, Oldham\, OL2 8QY
END:VEVENT
BEGIN:VEVENT
DTSTART;TZID=Europe/London:20260430T100000
DTEND;TZID=Europe/London:20260430T113000
DTSTAMP:20260420T181356
CREATED:20241113T135833Z
LAST-MODIFIED:20241113T135837Z
UID:10018617-1777543200-1777548600@hla.oldham.gov.uk
SUMMARY:Online Basics
DESCRIPTION:Learn computer basics
URL:https://hla.oldham.gov.uk/event/online-basics-5/2026-04-30/
LOCATION:Chadderton Library and Wellbeing Centre\, Burnley Street\, Chadderton\, England\, OL9 0JW\, United Kingdom
END:VEVENT
BEGIN:VEVENT
DTSTART;TZID=Europe/London:20260430T100000
DTEND;TZID=Europe/London:20260430T113000
DTSTAMP:20260420T181356
CREATED:20260120T152152Z
LAST-MODIFIED:20260120T152154Z
UID:10049411-1777543200-1777548600@hla.oldham.gov.uk
SUMMARY:Digital Confidence at Oldham Library
DESCRIPTION:Self-led with staff or volunteer support. Learn basic digital skills at your own pace on the LearnMyWay platform.Improve your digital confidence\, learn new skills and stay safe online.
URL:https://hla.oldham.gov.uk/event/digital-confidence-at-oldham-library/2026-04-30/
LOCATION:Oldham Library\, 35 Greaves Street\, Oldham\, England\, OL1 1AL\, United Kingdom
CATEGORIES:Digital,Learning,Support & Advice
END:VEVENT
BEGIN:VEVENT
DTSTART;TZID=Europe/London:20260430T103000
DTEND;TZID=Europe/London:20260430T123000
DTSTAMP:20260420T181356
CREATED:20260327T100158Z
LAST-MODIFIED:20260327T140611Z
UID:10061031-1777545000-1777552200@hla.oldham.gov.uk
SUMMARY:Brews\, Biscuits and Banter at Oldham Library
DESCRIPTION:Fancy a cuppa ? Want to socialise and unwind? Chat to others and take some time to relax in the comfort of our lovely library.
URL:https://hla.oldham.gov.uk/event/books-brew-and-banter-at-oldham-library/2026-04-30/
LOCATION:Oldham Library & Lifelong Learning Centre\, Greaves Street\, Oldham\, OL1 1AL\, United Kingdom
CATEGORIES:Groups,Health and Wellbeing
END:VEVENT
BEGIN:VEVENT
DTSTART;TZID=Europe/London:20260430T110000
DTEND;TZID=Europe/London:20260430T130000
DTSTAMP:20260420T181356
CREATED:20240508T121112Z
LAST-MODIFIED:20251103T120859Z
UID:10011659-1777546800-1777554000@hla.oldham.gov.uk
SUMMARY:Books\, brew & banter at Failsworth Library
DESCRIPTION:Fancy a cuppa ? Want to socialise\, unwind and get your hands on the hottest books in town. Swing by and say hi. Chat to others and have a cuppa and take some time to relax with some mindfulness colouring\, all in the comfort of our lovely library.
URL:https://hla.oldham.gov.uk/event/books-brew-banter/2026-04-30/
LOCATION:Failsworth Library\, Oldham Road\, Failsworth\, England\, M35 0EJ\, United Kingdom
CATEGORIES:Health and Wellbeing
END:VEVENT
BEGIN:VEVENT
DTSTART;TZID=Europe/London:20260430T110000
DTEND;TZID=Europe/London:20260430T130000
DTSTAMP:20260420T181356
CREATED:20260119T114230Z
LAST-MODIFIED:20260129T164425Z
UID:10047265-1777546800-1777554000@hla.oldham.gov.uk
SUMMARY:Digital drop-in at Failsworth Library
DESCRIPTION:If you need help with a device or have questions about something online\, come along to one of our Digital Drop-in sessions.  No need to book – pop in and our digital volunteers from Inclusive Bytes will give you a hand!
URL:https://hla.oldham.gov.uk/event/failsworth-library-digital-drop-in-sessions/2026-04-30/
LOCATION:Failsworth Library\, Oldham Road\, Failsworth\, England\, M35 0EJ\, United Kingdom
CATEGORIES:Digital,Learning
END:VEVENT
BEGIN:VEVENT
DTSTART;TZID=Europe/London:20260430T130000
DTEND;TZID=Europe/London:20260430T140000
DTSTAMP:20260420T181356
CREATED:20260324T110025Z
LAST-MODIFIED:20260324T110950Z
UID:10058303-1777554000-1777557600@hla.oldham.gov.uk
SUMMARY:English Conversation at Chadderton Library and Wellbeing Centre
DESCRIPTION:Engaging in real-life English conversations helps learners speak naturally and confidently.
URL:https://hla.oldham.gov.uk/event/english-conversation/2026-04-30/
LOCATION:Chadderton Library and Wellbeing Centre\, Burnley Street\, Chadderton\, England\, OL9 0JW\, United Kingdom
CATEGORIES:Learning
END:VEVENT
BEGIN:VEVENT
DTSTART;TZID=Europe/London:20260430T130000
DTEND;TZID=Europe/London:20260430T140000
DTSTAMP:20260420T181356
CREATED:20260324T111021Z
LAST-MODIFIED:20260324T111022Z
UID:10058315-1777554000-1777557600@hla.oldham.gov.uk
SUMMARY:English Conversation at Chadderton Library and Wellbeing Centre
DESCRIPTION:Engaging in real-life English conversations helps learners speak naturally and confidently.
URL:https://hla.oldham.gov.uk/event/english-conversation-at-chadderton-library-and-wellbeing-centre/2026-04-30/
LOCATION:Chadderton Library and Wellbeing Centre\, Burnley Street\, Chadderton\, England\, OL9 0JW\, United Kingdom
CATEGORIES:Learning
END:VEVENT
BEGIN:VEVENT
DTSTART;TZID=Europe/London:20260430T140000
DTEND;TZID=Europe/London:20260430T150000
DTSTAMP:20260420T181356
CREATED:20250716T170406Z
LAST-MODIFIED:20250717T142722Z
UID:10029379-1777557600-1777561200@hla.oldham.gov.uk
SUMMARY:Bounce and Rhyme
DESCRIPTION:Join us at our weekly bounce and rhyme event. Learn new rhymes\, sing songs and make friends. Perfect for the 0-4’s. \n\n\n\nFree
URL:https://hla.oldham.gov.uk/event/bounce-and-rhyme/2026-04-30/
LOCATION:Uppermill Library\, St Chads House\, Uppermill\, Uppermill\, England\, OL3 6AZ\, United Kingdom
CATEGORIES:Children & Families
END:VEVENT
BEGIN:VEVENT
DTSTART;TZID=Europe/London:20260430T140000
DTEND;TZID=Europe/London:20260430T153000
DTSTAMP:20260420T181356
CREATED:20240502T145438Z
LAST-MODIFIED:20260129T162709Z
UID:10004727-1777557600-1777563000@hla.oldham.gov.uk
SUMMARY:Digital confidence at Limehurst library
DESCRIPTION:
URL:https://hla.oldham.gov.uk/event/online-basics-2/2026-04-30/
LOCATION:Limehurst Library\, Lime Green Parade\, Oldham\, England\, OL8 3HH\, United Kingdom
CATEGORIES:Digital,Learning
END:VEVENT
BEGIN:VEVENT
DTSTART;TZID=Europe/London:20260430T143000
DTEND;TZID=Europe/London:20260430T160000
DTSTAMP:20260420T181356
CREATED:20260207T111059Z
LAST-MODIFIED:20260207T111059Z
UID:10051217-1777559400-1777564800@hla.oldham.gov.uk
SUMMARY:Stay & play at Northmoor Library
DESCRIPTION:Parents\, carers and children under 5 are invited tojoin us for a free play session (term-time only)
URL:https://hla.oldham.gov.uk/event/stay-play-at-northmoor-library/2026-04-30/
LOCATION:Northmoor Library\, Chadderton Way\, Oldham\, England\, OL9 6DH\, United Kingdom
CATEGORIES:Children & Families,Support & Advice
END:VEVENT
BEGIN:VEVENT
DTSTART;TZID=Europe/London:20260430T153000
DTEND;TZID=Europe/London:20260430T170000
DTSTAMP:20260420T181356
CREATED:20240831T085218Z
LAST-MODIFIED:20260129T163540Z
UID:10014275-1777563000-1777568400@hla.oldham.gov.uk
SUMMARY:Lego Club at Fitton Hill Library
DESCRIPTION:Come and join the fun at Fitton Hill Library’s Lego Club. Build\, create\, and play. Let your imagination run wild. \n\n\n\nNo need to book in advance – this is a Drop in event \n\n\n\nFor ages 5 and over. Children under 8 must be accompanied by an Adult
URL:https://hla.oldham.gov.uk/event/lego-club-4/2026-04-30/
LOCATION:Fitton Hill Library\, Fircroft Road\, Oldham\, England\, OL8 2QD\, United Kingdom
CATEGORIES:Children & Families,Young People
END:VEVENT
BEGIN:VEVENT
DTSTART;TZID=Europe/London:20260430T173000
DTEND;TZID=Europe/London:20260430T183000
DTSTAMP:20260420T181356
CREATED:20260420T150056Z
LAST-MODIFIED:20260420T150057Z
UID:10062481-1777570200-1777573800@hla.oldham.gov.uk
SUMMARY:Game On at Fitton Hill Library
DESCRIPTION:Nintendo Switch Sessions at Fitton Hill Library. Sessions are 30 minutes long and bookable with a member of library staff.
URL:https://hla.oldham.gov.uk/event/game-on-at-fitton-hill-library-3/2026-04-30/
LOCATION:Fitton Hill Library\, Fircroft Road\, Oldham\, England\, OL8 2QD\, United Kingdom
CATEGORIES:Children & Families
END:VEVENT
BEGIN:VEVENT
DTSTART;TZID=Europe/London:20260501T080000
DTEND;TZID=Europe/London:20260501T170000
DTSTAMP:20260420T181356
CREATED:20250829T115303Z
LAST-MODIFIED:20250829T121024Z
UID:10038423-1777622400-1777654800@hla.oldham.gov.uk
SUMMARY:Crompton Crafters
DESCRIPTION:Join our friendly crafters at Crompton library. Chatting and crafting\, what better way to spend a Friday afternoon.
URL:https://hla.oldham.gov.uk/event/crompton-crafters-5/2026-05-01/
LOCATION:Crompton Library\, Farrow Street East\, Shaw\, Oldham\, OL2 8QY
CATEGORIES:Adult Art & Crafts
END:VEVENT
BEGIN:VEVENT
DTSTART;TZID=Europe/London:20260501T100000
DTEND;TZID=Europe/London:20260501T110000
DTSTAMP:20260420T181356
CREATED:20240305T110842Z
LAST-MODIFIED:20240927T102953Z
UID:10001973-1777629600-1777633200@hla.oldham.gov.uk
SUMMARY:Bounce and Rhyme
DESCRIPTION:Rhyming sessions for under 5s
URL:https://hla.oldham.gov.uk/event/bounce-and-rhyme-2/2026-05-01/
LOCATION:Oldham Library & Lifelong Learning Centre\, Greaves Street\, Oldham\, OL1 1AL\, United Kingdom
CATEGORIES:Children & Families
ATTACH;FMTTYPE=image/jpeg:https://hla.oldham.gov.uk/wp-content/uploads/2024/03/Bounce-and-rhyme-image.jpg
END:VEVENT
BEGIN:VEVENT
DTSTART;TZID=Europe/London:20260501T100000
DTEND;TZID=Europe/London:20260501T110000
DTSTAMP:20260420T181356
CREATED:20251103T140817Z
LAST-MODIFIED:20260129T163516Z
UID:10003683-1777629600-1777633200@hla.oldham.gov.uk
SUMMARY:Bounce & Rhyme at Fitton Hill Library
DESCRIPTION:Join our playful sessions and meet new friends\, explore the library spaces\, learn new rhymes and songs and enjoy some sensory play in our Bounce and Rhyme Sessions. \n\n\n\nPerfect for 0 – 5’s. \n\n\n\nFree to join\, no need to book.
URL:https://hla.oldham.gov.uk/event/bounce-rhyme-at-fitton-hill-library/2026-05-01/
LOCATION:Fitton Hill Library\, Fircroft Road\, Oldham\, England\, OL8 2QD\, United Kingdom
CATEGORIES:Children & Families
END:VEVENT
BEGIN:VEVENT
DTSTART;TZID=Europe/London:20260501T100000
DTEND;TZID=Europe/London:20260501T110000
DTSTAMP:20260420T181356
CREATED:20260326T171153Z
LAST-MODIFIED:20260326T171155Z
UID:10032745-1777629600-1777633200@hla.oldham.gov.uk
SUMMARY:Bounce and rhyme
DESCRIPTION:Join us at our weekly bounce and rhyme event. Learn new rhymes\, sing songs and make friends. Perfect for the 0-4’s. Free
URL:https://hla.oldham.gov.uk/event/bounce-and-rhyme-11/2026-05-01/
LOCATION:Greenfield Library\, Chew Vale\, Greenfield\, OL3 7EQ\, United Kingdom
CATEGORIES:Children & Families
END:VEVENT
BEGIN:VEVENT
DTSTART;TZID=Europe/London:20260501T100000
DTEND;TZID=Europe/London:20260501T113000
DTSTAMP:20260420T181356
CREATED:20240502T151208Z
LAST-MODIFIED:20260129T162748Z
UID:10005249-1777629600-1777635000@hla.oldham.gov.uk
SUMMARY:Digital Confidence at Northmoor Library
DESCRIPTION:Come along to our free online course for beginners and develop your digital skills so you can feel comfortable in the online world.
URL:https://hla.oldham.gov.uk/event/online-basics-3/2026-05-01/
LOCATION:Northmoor Library\, Chadderton Way\, Oldham\, England\, OL9 6DH\, United Kingdom
CATEGORIES:Digital,Learning
END:VEVENT
BEGIN:VEVENT
DTSTART;TZID=Europe/London:20260501T103000
DTEND;TZID=Europe/London:20260501T113000
DTSTAMP:20260420T181356
CREATED:20240508T114449Z
LAST-MODIFIED:20251103T140408Z
UID:10010093-1777631400-1777635000@hla.oldham.gov.uk
SUMMARY:Chat & choose at Northmoor Library
DESCRIPTION:Pop in to Northmoor Library and have a brew and a chat with others about books or anything you like.
URL:https://hla.oldham.gov.uk/event/chat-choose/2026-05-01/
LOCATION:Northmoor Library\, Chadderton Way\, Oldham\, England\, OL9 6DH\, United Kingdom
CATEGORIES:Health and Wellbeing
END:VEVENT
END:VCALENDAR