BEGIN:VCALENDAR
VERSION:2.0
PRODID:-//Oldham HLA - ECPv6.15.20//NONSGML v1.0//EN
CALSCALE:GREGORIAN
METHOD:PUBLISH
X-WR-CALNAME:Oldham HLA
X-ORIGINAL-URL:https://hla.oldham.gov.uk
X-WR-CALDESC:Events for Oldham HLA
REFRESH-INTERVAL;VALUE=DURATION:PT1H
X-Robots-Tag:noindex
X-PUBLISHED-TTL:PT1H
BEGIN:VTIMEZONE
TZID:Europe/London
BEGIN:DAYLIGHT
TZOFFSETFROM:+0000
TZOFFSETTO:+0100
TZNAME:BST
DTSTART:20250330T010000
END:DAYLIGHT
BEGIN:STANDARD
TZOFFSETFROM:+0100
TZOFFSETTO:+0000
TZNAME:GMT
DTSTART:20251026T010000
END:STANDARD
BEGIN:DAYLIGHT
TZOFFSETFROM:+0000
TZOFFSETTO:+0100
TZNAME:BST
DTSTART:20260329T010000
END:DAYLIGHT
BEGIN:STANDARD
TZOFFSETFROM:+0100
TZOFFSETTO:+0000
TZNAME:GMT
DTSTART:20261025T010000
END:STANDARD
BEGIN:DAYLIGHT
TZOFFSETFROM:+0000
TZOFFSETTO:+0100
TZNAME:BST
DTSTART:20270328T010000
END:DAYLIGHT
BEGIN:STANDARD
TZOFFSETFROM:+0100
TZOFFSETTO:+0000
TZNAME:GMT
DTSTART:20271031T010000
END:STANDARD
END:VTIMEZONE
BEGIN:VEVENT
DTSTART;TZID=Europe/London:20260421T133000
DTEND;TZID=Europe/London:20260421T143000
DTSTAMP:20260424T120358
CREATED:20260318T100440Z
LAST-MODIFIED:20260321T153710Z
UID:10055145-1776778200-1776781800@hla.oldham.gov.uk
SUMMARY:Bounce & rhyme at Chadderton Library and Wellbeing centre
DESCRIPTION:Perfect for 0 – 4’s explore songs\, rhymes\, stories and sensory play in our Bounce and Rhyme sessions. Discover the wonders of your local library and meet other families. Each class runs for 45 minutes every week with a member of staff followed by free play time to find new favourite books! For more information please contact the library. Tuesday 1:30.
URL:https://hla.oldham.gov.uk/event/bounce-rhyme-at-chadderton-library-and-wellbeing-centre-2/2026-04-21/
LOCATION:Chadderton Library and Wellbeing Centre\, Burnley Street\, Chadderton\, England\, OL9 0JW\, United Kingdom
CATEGORIES:Children & Families
ORGANIZER;CN="Chadderton  library":MAILTO:Chadderton.librarygeneral@oldham.gov.uk
END:VEVENT
BEGIN:VEVENT
DTSTART;TZID=Europe/London:20260421T130000
DTEND;TZID=Europe/London:20260421T150000
DTSTAMP:20260424T120358
CREATED:20241113T132353Z
LAST-MODIFIED:20241113T132355Z
UID:10016809-1776776400-1776783600@hla.oldham.gov.uk
SUMMARY:Knit and Natter
DESCRIPTION:Join our friendly knitting group every Tuesday.
URL:https://hla.oldham.gov.uk/event/knit-and-natter/2026-04-21/
LOCATION:Oldham Library & Lifelong Learning Centre\, Greaves Street\, Oldham\, OL1 1AL\, United Kingdom
END:VEVENT
BEGIN:VEVENT
DTSTART;TZID=Europe/London:20260421T130000
DTEND;TZID=Europe/London:20260421T140000
DTSTAMP:20260424T120358
CREATED:20241115T100532Z
LAST-MODIFIED:20241115T100536Z
UID:10019653-1776776400-1776780000@hla.oldham.gov.uk
SUMMARY:Bounce and Rhyme
DESCRIPTION:Join us at our weekly bounce and rhyme event\, learn new rhymes\, sing songs and make friends.  Perfect for 0-4s.
URL:https://hla.oldham.gov.uk/event/bounce-and-rhyme-6/2026-04-21/
LOCATION:Crompton Library\, 7 Farrow Street\, Shaw\, Oldham\, England\, OL2 8QY\, United Kingdom
END:VEVENT
BEGIN:VEVENT
DTSTART;TZID=Europe/London:20260421T103000
DTEND;TZID=Europe/London:20260421T113000
DTSTAMP:20260424T120358
CREATED:20240502T144246Z
LAST-MODIFIED:20260129T163923Z
UID:10004201-1776767400-1776771000@hla.oldham.gov.uk
SUMMARY:Digital confidence at Failsworth Library
DESCRIPTION:Come along to our free online course for beginners and develop your digital skills so you can feel comfortable in the online world.
URL:https://hla.oldham.gov.uk/event/online-basics/2026-04-21/
LOCATION:Failsworth Library\, Oldham Road\, Failsworth\, England\, M35 0EJ\, United Kingdom
CATEGORIES:Digital,Learning
END:VEVENT
BEGIN:VEVENT
DTSTART;TZID=Europe/London:20260421T103000
DTEND;TZID=Europe/London:20260421T103000
DTSTAMP:20260424T120358
CREATED:20250724T172959Z
LAST-MODIFIED:20260326T154749Z
UID:10058633-1776767400-1776767400@hla.oldham.gov.uk
SUMMARY:Lees health walks
DESCRIPTION:Walking is a great way to get fit\, explore what’s on your doorstep and make new friends. We meet at Lees library every Tuesday\,  between 10:00am and 10:30am
URL:https://hla.oldham.gov.uk/event/lees-health-walks/2026-04-21/
LOCATION:Lees Library Community Hub\, Thomas Street\, Lees\, Oldham\, Greater Manchester\, OL4 5DA\, United Kingdom
CATEGORIES:Health and Wellbeing
END:VEVENT
BEGIN:VEVENT
DTSTART;TZID=Europe/London:20260421T100000
DTEND;TZID=Europe/London:20260421T120000
DTSTAMP:20260424T120358
CREATED:20240508T121255Z
LAST-MODIFIED:20260129T163955Z
UID:10012177-1776765600-1776772800@hla.oldham.gov.uk
SUMMARY:Books\, brew & banter at Failsworth Library
DESCRIPTION:Fancy a cuppa ? Want to socialise\, unwind and get your hands on the hottest books in town. Swing by and say hi. Chat to others and have a cuppa and take some time to relax with some mindfulness colouring\, all in the comfort of our lovely library.
URL:https://hla.oldham.gov.uk/event/books-brew-banter-2/2026-04-21/
LOCATION:Failsworth Library\, Oldham Road\, Failsworth\, England\, M35 0EJ\, United Kingdom
CATEGORIES:Groups,Health and Wellbeing
END:VEVENT
BEGIN:VEVENT
DTSTART;TZID=Europe/London:20260421T100000
DTEND;TZID=Europe/London:20260421T113000
DTSTAMP:20260424T120358
CREATED:20260318T103827Z
LAST-MODIFIED:20260318T103828Z
UID:10053993-1776765600-1776771000@hla.oldham.gov.uk
SUMMARY:Dementia Armchair Exercise @ Chadderton Library and Wellbeing Centre
DESCRIPTION:Dementia-friendly\, chair-based SitFit workout for beginners. Develop muscle mass\, improve balance and coordination\, strengthen bones and improve brain health with this easy-to-follow seated exercise routine\, designed for those struggling with their mobility.
URL:https://hla.oldham.gov.uk/event/dementia-armchair-exercise-chadderton-library-and-wellbeing-centre/2026-04-21/
LOCATION:Chadderton Library and Wellbeing Centre\, Burnley Street\, Chadderton\, England\, OL9 0JW\, United Kingdom
CATEGORIES:Health and Wellbeing
END:VEVENT
BEGIN:VEVENT
DTSTART;TZID=Europe/London:20260421T100000
DTEND;TZID=Europe/London:20260421T110000
DTSTAMP:20260424T120358
CREATED:20250716T171312Z
LAST-MODIFIED:20250716T171315Z
UID:10029897-1776765600-1776769200@hla.oldham.gov.uk
SUMMARY:Bounce and Rhyme
DESCRIPTION:Join us at our weekly bounce and rhyme event. Learn new rhymes\, sing songs and make friends. Perfect for the 0-4’s.
URL:https://hla.oldham.gov.uk/event/bounce-and-rhyme-7/2026-04-21/
LOCATION:Uppermill library\, St. Chads\, High Street\,\, Uppermill\, OL3 6AP
CATEGORIES:Children & Families
ATTACH;FMTTYPE=image/png:https://hla.oldham.gov.uk/wp-content/uploads/2025/07/Illuminate-uppermill-1.png
END:VEVENT
BEGIN:VEVENT
DTSTART;TZID=Europe/London:20260421T100000
DTEND;TZID=Europe/London:20260421T110000
DTSTAMP:20260424T120358
CREATED:20241108T140146Z
LAST-MODIFIED:20241108T161503Z
UID:10015077-1776765600-1776769200@hla.oldham.gov.uk
SUMMARY:Bounce and Rhyme
DESCRIPTION:Join us at our weekly  bounce and rhyme event.  Learn new rhymes\, sing songs and make friends. Perfect for the 0-4’s.
URL:https://hla.oldham.gov.uk/event/bounce-and-rhyme-3/2026-04-21/
LOCATION:Royton Library\, Rochdale Road\, Royton\, OL2 6QJ
CATEGORIES:Children & Families
END:VEVENT
BEGIN:VEVENT
DTSTART;TZID=Europe/London:20260420T123000
DTEND;TZID=Europe/London:20260420T143000
DTSTAMP:20260424T120358
CREATED:20240508T112814Z
LAST-MODIFIED:20260129T164020Z
UID:10009045-1776688200-1776695400@hla.oldham.gov.uk
SUMMARY:Knit & natter at Failsworth Library
DESCRIPTION:Join this friendly group for knitting\, crocheting and chat every Monday afternoon at Failsworth Library. 
URL:https://hla.oldham.gov.uk/event/knit-natter-2/2026-04-20/
LOCATION:Failsworth Library\, Oldham Road\, Failsworth\, England\, M35 0EJ\, United Kingdom
CATEGORIES:Adult Art & Crafts,Groups
END:VEVENT
BEGIN:VEVENT
DTSTART;TZID=Europe/London:20260420T110000
DTEND;TZID=Europe/London:20260420T130000
DTSTAMP:20260424T120358
CREATED:20260326T160147Z
LAST-MODIFIED:20260326T160704Z
UID:10059677-1776682800-1776690000@hla.oldham.gov.uk
SUMMARY:Knit and Natter
DESCRIPTION:Whether it’s knitting\, crocheting\, or just a good natter\, our friendly group of knitters will make you feel right at home. \n\n\n\nJoin us for this welcoming weekly meet‑up\, where you can share tips\, chat\, and enjoy some relaxed creative time together.
URL:https://hla.oldham.gov.uk/event/knit-and-natter-2/2026-04-20/
LOCATION:Uppermill Library\, St Chads House\, Uppermill\, Uppermill\, England\, OL3 6AZ\, United Kingdom
CATEGORIES:Adult Art & Crafts,Groups
END:VEVENT
BEGIN:VEVENT
DTSTART;TZID=Europe/London:20260420T100000
DTEND;TZID=Europe/London:20260420T110000
DTSTAMP:20260424T120358
CREATED:20250724T163103Z
LAST-MODIFIED:20260326T153500Z
UID:10032219-1776679200-1776682800@hla.oldham.gov.uk
SUMMARY:Bounce and Rhyme
DESCRIPTION:Join us at our weekly bounce and rhyme event. Learn new rhymes\, sing songs and make friends. Perfect for the 0-4’s.
URL:https://hla.oldham.gov.uk/event/bounce-and-rhyme-8/2026-04-20/
LOCATION:Lees Library Community Hub\, Thomas Street\, Lees\, Oldham\, Greater Manchester\, OL4 5DA\, United Kingdom
CATEGORIES:Children & Families
END:VEVENT
BEGIN:VEVENT
DTSTART;TZID=Europe/London:20260420T093000
DTEND;TZID=Europe/London:20260420T120000
DTSTAMP:20260424T120358
CREATED:20250717T152136Z
LAST-MODIFIED:20250717T152154Z
UID:10030569-1776677400-1776686400@hla.oldham.gov.uk
SUMMARY:Citizens Advice
DESCRIPTION:Drop in session\, no appointment required.
URL:https://hla.oldham.gov.uk/event/citizens-advice/2026-04-20/
LOCATION:Lees Library Community Hub\, Thomas Street\, Lees\, Oldham\, Greater Manchester\, OL4 5DA\, United Kingdom
CATEGORIES:Support & Advice
END:VEVENT
BEGIN:VEVENT
DTSTART;TZID=Europe/London:20260418T110000
DTEND;TZID=Europe/London:20260418T110000
DTSTAMP:20260424T120358
CREATED:20260326T151912Z
LAST-MODIFIED:20260417T133526Z
UID:10058615-1776510000-1776510000@hla.oldham.gov.uk
SUMMARY:Saturday stories
DESCRIPTION:Saturday Stories is our exciting new family reading session at Uppermill Library! \n\n\n\nJoin us every 4 weeks at 11am for a fun mix of stories\, songs\, and family reading time.Each week has its own theme\, and sessions include: \n\n\n\n📚 Engaging stories🎶 Sing‑along songs👨‍👩‍👧 Time for families to choose books together \n\n\n\nChat to our amazing staff and find out what else is on offer for families across the borough \n\n\n\nWe’d love to see you there!
URL:https://hla.oldham.gov.uk/event/saturday-stories/
LOCATION:Uppermill Library\, St Chads House\, Uppermill\, Uppermill\, England\, OL3 6AZ\, United Kingdom
CATEGORIES:Children & Families
END:VEVENT
BEGIN:VEVENT
DTSTART;TZID=Europe/London:20260418T103000
DTEND;TZID=Europe/London:20260418T120000
DTSTAMP:20260424T120358
CREATED:20240507T165252Z
LAST-MODIFIED:20260129T163443Z
UID:10008001-1776508200-1776513600@hla.oldham.gov.uk
SUMMARY:Lego Club at Failsworth Library
DESCRIPTION:Come and join the fun at Failsworth Library’s Lego Club. Build\, create\, and play. Let your imagination run wild. No need to book in advance – this is a Drop in event \n\n\n\nFor ages 5 and over. Children under 8 must be accompanied by an Adult.
URL:https://hla.oldham.gov.uk/event/lego-club-2/2026-04-18/
LOCATION:Failsworth Library\, Oldham Road\, Failsworth\, England\, M35 0EJ\, United Kingdom
CATEGORIES:Children & Families,Young People
END:VEVENT
BEGIN:VEVENT
DTSTART;TZID=Europe/London:20260418T100000
DTEND;TZID=Europe/London:20260418T120000
DTSTAMP:20260424T120358
CREATED:20260119T114629Z
LAST-MODIFIED:20260207T105731Z
UID:10047783-1776506400-1776513600@hla.oldham.gov.uk
SUMMARY:Game on at Fitton Hill Library
DESCRIPTION:Nintendo Switch Sessions at Fitton Hill Library. Sessions are 30 minutes long and bookable with a member of library staff.
URL:https://hla.oldham.gov.uk/event/game-on-at-fitton-hill-library/2026-04-18/
LOCATION:Fitton Hill Library\, Fircroft Road\, Oldham\, England\, OL8 2QD\, United Kingdom
CATEGORIES:Children & Families,Young People
END:VEVENT
BEGIN:VEVENT
DTSTART;TZID=Europe/London:20260417T173000
DTEND;TZID=Europe/London:20260417T183000
DTSTAMP:20260424T120358
CREATED:20260119T115533Z
LAST-MODIFIED:20260207T110618Z
UID:10050695-1776447000-1776450600@hla.oldham.gov.uk
SUMMARY:Game on at Fitton Hill Library
DESCRIPTION:Nintendo Switch Sessions at Fitton Hill Library. Sessions are 30 minutes long and bookable with a member of library staff.
URL:https://hla.oldham.gov.uk/event/game-on-at-fitton-hill-library-2/2026-04-17/
LOCATION:Fitton Hill Library\, Fircroft Road\, Oldham\, England\, OL8 2QD\, United Kingdom
CATEGORIES:Children & Families,Young People
END:VEVENT
BEGIN:VEVENT
DTSTART;TZID=Europe/London:20260417T140000
DTEND;TZID=Europe/London:20260417T150000
DTSTAMP:20260424T120358
CREATED:20260326T170224Z
LAST-MODIFIED:20260326T170550Z
UID:10060465-1776434400-1776438000@hla.oldham.gov.uk
SUMMARY:Chat and Choose
DESCRIPTION:Join us for a cuppa and a chat!Everyone is welcome — and while you’re here\, why not pick out a great book to take home?
URL:https://hla.oldham.gov.uk/event/chat-and-choose-4/2026-04-17/
LOCATION:Uppermill Library\, St Chads House\, Uppermill\, Uppermill\, England\, OL3 6AZ\, United Kingdom
CATEGORIES:Groups,Health and Wellbeing
END:VEVENT
BEGIN:VEVENT
DTSTART;TZID=Europe/London:20260417T140000
DTEND;TZID=Europe/London:20260417T150000
DTSTAMP:20260424T120358
CREATED:20250724T170529Z
LAST-MODIFIED:20250724T170544Z
UID:10033785-1776434400-1776438000@hla.oldham.gov.uk
SUMMARY:Chat and choose
DESCRIPTION:Fancy a brew?  Our chat and choose sessions are a great opportunity to meet people \, relax and pick up a good book
URL:https://hla.oldham.gov.uk/event/chat-and-choose-2/2026-04-17/
LOCATION:Uppermill Library\, St Chads House\, Uppermill\, Uppermill\, England\, OL3 6AZ\, United Kingdom
CATEGORIES:All ages
END:VEVENT
BEGIN:VEVENT
DTSTART;TZID=Europe/London:20260417T130000
DTEND;TZID=Europe/London:20260417T150000
DTSTAMP:20260424T120358
CREATED:20250829T134329Z
LAST-MODIFIED:20250829T134331Z
UID:10038963-1776430800-1776438000@hla.oldham.gov.uk
SUMMARY:Crompton Crafters
DESCRIPTION:Join our friendly crafters at Crompton Library\, chatting and crafting.  What better way to spend a Friday afternoon\, meeting weekly?
URL:https://hla.oldham.gov.uk/event/crompton-crafters-4/2026-04-17/
LOCATION:Crompton Library\, Farrow Street East\, Shaw\, Oldham\, OL2 8QY
CATEGORIES:Adult Art & Crafts,Groups
END:VEVENT
BEGIN:VEVENT
DTSTART;TZID=Europe/London:20260417T130000
DTEND;TZID=Europe/London:20260417T140000
DTSTAMP:20260424T120358
CREATED:20241115T164651Z
LAST-MODIFIED:20241115T164655Z
UID:10021335-1776430800-1776434400@hla.oldham.gov.uk
SUMMARY:Digital confidence
DESCRIPTION:Drop in and join our free platform for beginners. Develop your digital skills or get comfortable with your own device. \n\n\n\nWork through modules at your own pace \, with someone there for guidance if you need. Come along and improve your digital confidence.
URL:https://hla.oldham.gov.uk/event/digital-confidence-2/2026-04-17/
LOCATION:Crompton Library\, 7 Farrow Street\, Shaw\, Oldham\, England\, OL2 8QY\, United Kingdom
END:VEVENT
BEGIN:VEVENT
DTSTART;TZID=Europe/London:20260417T080000
DTEND;TZID=Europe/London:20260417T170000
DTSTAMP:20260424T120358
CREATED:20250829T115303Z
LAST-MODIFIED:20250829T121024Z
UID:10038419-1776412800-1776445200@hla.oldham.gov.uk
SUMMARY:Crompton Crafters
DESCRIPTION:Join our friendly crafters at Crompton library. Chatting and crafting\, what better way to spend a Friday afternoon.
URL:https://hla.oldham.gov.uk/event/crompton-crafters-5/2026-04-17/
LOCATION:Crompton Library\, Farrow Street East\, Shaw\, Oldham\, OL2 8QY
CATEGORIES:Adult Art & Crafts
END:VEVENT
BEGIN:VEVENT
DTSTART;TZID=Europe/London:20260416T190000
DTEND;TZID=Europe/London:20260416T210000
DTSTAMP:20260424T120358
CREATED:20260414T114919Z
LAST-MODIFIED:20260414T114920Z
UID:10061833-1776366000-1776373200@hla.oldham.gov.uk
SUMMARY:Little French Cinema\, À L’Abordage:All Hands on Deck
DESCRIPTION:Little French Cinema Film Screening
URL:https://hla.oldham.gov.uk/event/little-french-cinema-a-labordageall-hands-on-deck/
LOCATION:Oldham Library & Lifelong Learning Centre\, Greaves Street\, Oldham\, OL1 1AL\, United Kingdom
END:VEVENT
BEGIN:VEVENT
DTSTART;TZID=Europe/London:20260415T143000
DTEND;TZID=Europe/London:20260415T153000
DTSTAMP:20260424T120358
CREATED:20241115T161138Z
LAST-MODIFIED:20241115T161142Z
UID:10020585-1776263400-1776267000@hla.oldham.gov.uk
SUMMARY:Readers group
DESCRIPTION:Whether you’re an avid reader or someone who dips in and out of books when time allows- we love to welcome new members. Join us on the 3rd Wednesday of the month to chat about all things books.
URL:https://hla.oldham.gov.uk/event/readers-group-4/2026-04-15/
LOCATION:Crompton Library\, 7 Farrow Street\, Shaw\, Oldham\, England\, OL2 8QY\, United Kingdom
END:VEVENT
BEGIN:VEVENT
DTSTART;TZID=Europe/London:20260415T080000
DTEND;TZID=Europe/London:20260415T170000
DTSTAMP:20260424T120358
CREATED:20250725T143215Z
LAST-MODIFIED:20250725T143254Z
UID:10035301-1776240000-1776272400@hla.oldham.gov.uk
SUMMARY:Readers Group
DESCRIPTION:Whether you’re an avid reader or someone who dips in and out of books when time allows – we love to welcome new members. \n\n\n\nJoin us on the third Wednesday of every month .
URL:https://hla.oldham.gov.uk/event/readers-group-5/2026-04-15/
LOCATION:Lees Library Community Hub\, Thomas Street\, Lees\, Oldham\, Greater Manchester\, OL4 5DA\, United Kingdom
CATEGORIES:Groups
END:VEVENT
BEGIN:VEVENT
DTSTART;TZID=Europe/London:20260414T103000
DTEND;TZID=Europe/London:20260414T113000
DTSTAMP:20260424T120358
CREATED:20240508T125734Z
LAST-MODIFIED:20251103T120735Z
UID:10012581-1776162600-1776166200@hla.oldham.gov.uk
SUMMARY:Moston Brook social walks at Failsworth Library
DESCRIPTION:Meet 10.30am at the Wholesome café\, basement level\,        Failsworth Town Hall\, M35 0FJ. Circular Walk – approximately  1hr\, leisurely pace\, flat but with one set of steps. We get together for a brew afterwards.  \n\n\n\nContact : Ian Butterworth\, Countryside Officer Moston Brook. \n\n\n\n email: ian.butterworth@oldham.gov.uk
URL:https://hla.oldham.gov.uk/event/moston-brook-social-walks/2026-04-14/
LOCATION:Failsworth Library\, Oldham Road\, Failsworth\, England\, M35 0EJ\, United Kingdom
CATEGORIES:Health and Wellbeing
END:VEVENT
BEGIN:VEVENT
DTSTART;TZID=Europe/London:20260411T103000
DTEND;TZID=Europe/London:20260411T133000
DTSTAMP:20260424T120358
CREATED:20260120T111604Z
LAST-MODIFIED:20260409T235327Z
UID:10041645-1775903400-1775914200@hla.oldham.gov.uk
SUMMARY:Create Your Own Leather Wallet – A Hands-On Workshop
DESCRIPTION:Join us for a relaxing and rewarding experience where you’ll craft your own leather wallet\n\n\nJoin us for a relaxing and rewarding experience where you’ll craft your own leather wallet using high-quality\, upcycled leather off-cuts. No previous skills are needed – you’ll be guided step-by-step through traditional leatherworking techniques\, with plenty of time to learn\, create and enjoy.
URL:https://hla.oldham.gov.uk/event/create-your-own-leather-wallet-a-hands-on-workshop/
LOCATION:Gallery Oldham\, 35 Greaves Street\, Oldham\, England\, OL1 1AL\, United Kingdom
ATTACH;FMTTYPE=image/jpeg:https://hla.oldham.gov.uk/wp-content/uploads/2025/10/21b69f830cedacaa9609361dd52b0a22.jpg
END:VEVENT
BEGIN:VEVENT
DTSTART;TZID=Europe/London:20260408T130000
DTEND;TZID=Europe/London:20260408T150000
DTSTAMP:20260424T120358
CREATED:20260326T160907Z
LAST-MODIFIED:20260327T131032Z
UID:10060195-1775653200-1775660400@hla.oldham.gov.uk
SUMMARY:Sophie Tyrrell Family Workshop
DESCRIPTION:Join local artist Sophie Tyrrell in one of 2 workshops inspired by her current exhibition at Gallery Oldham. No booking required.
URL:https://hla.oldham.gov.uk/event/sophie-tyrrell-family-workshop/2026-04-08/
LOCATION:Gallery Oldham\, 35 Greaves Street\, Oldham\, England\, OL1 1AL\, United Kingdom
CATEGORIES:Children & Families
END:VEVENT
BEGIN:VEVENT
DTSTART;TZID=Europe/London:20260402T140000
DTEND;TZID=Europe/London:20260402T150000
DTSTAMP:20260424T120358
CREATED:20241108T143949Z
LAST-MODIFIED:20241108T161401Z
UID:10015483-1775138400-1775142000@hla.oldham.gov.uk
SUMMARY:Readers Group
DESCRIPTION:Whether you’re an avid reader or someone who dips in and out of books when time allows – we love to welcome new members.   \n\n\n\nJoin us on the first Thursday of every month .
URL:https://hla.oldham.gov.uk/event/readers-group-3/2026-04-02/
LOCATION:Royton Library\, Rochdale Road\, Royton\, OL2 6QJ
CATEGORIES:Groups
END:VEVENT
BEGIN:VEVENT
DTSTART;TZID=Europe/London:20260401T180000
DTEND;TZID=Europe/London:20260401T190000
DTSTAMP:20260424T120358
CREATED:20251004T133737Z
LAST-MODIFIED:20251103T120410Z
UID:10006311-1775066400-1775070000@hla.oldham.gov.uk
SUMMARY:Readers group at Failsworth Library
DESCRIPTION:Join our relaxed and informal book club to discuss your reads\, discover new authors and explore new books. We read the same title from a variety of genres picked by library staff and meet once a month to discuss it. It’s a great way to meet new people and socialise and discover books you never imagined you would enjoy.
URL:https://hla.oldham.gov.uk/event/readers-group-6/2026-04-01/
LOCATION:Failsworth Library\, Oldham Road\, Failsworth\, England\, M35 0EJ\, United Kingdom
CATEGORIES:Groups
END:VEVENT
END:VCALENDAR