BEGIN:VCALENDAR
VERSION:2.0
PRODID:-//Oldham HLA - ECPv6.15.20//NONSGML v1.0//EN
CALSCALE:GREGORIAN
METHOD:PUBLISH
X-ORIGINAL-URL:https://hla.oldham.gov.uk
X-WR-CALDESC:Events for Oldham HLA
REFRESH-INTERVAL;VALUE=DURATION:PT1H
X-Robots-Tag:noindex
X-PUBLISHED-TTL:PT1H
BEGIN:VTIMEZONE
TZID:Europe/London
BEGIN:DAYLIGHT
TZOFFSETFROM:+0000
TZOFFSETTO:+0100
TZNAME:BST
DTSTART:20300331T010000
END:DAYLIGHT
BEGIN:STANDARD
TZOFFSETFROM:+0100
TZOFFSETTO:+0000
TZNAME:GMT
DTSTART:20301027T010000
END:STANDARD
BEGIN:DAYLIGHT
TZOFFSETFROM:+0000
TZOFFSETTO:+0100
TZNAME:BST
DTSTART:20310330T010000
END:DAYLIGHT
BEGIN:STANDARD
TZOFFSETFROM:+0100
TZOFFSETTO:+0000
TZNAME:GMT
DTSTART:20311026T010000
END:STANDARD
BEGIN:DAYLIGHT
TZOFFSETFROM:+0000
TZOFFSETTO:+0100
TZNAME:BST
DTSTART:20320328T010000
END:DAYLIGHT
BEGIN:STANDARD
TZOFFSETFROM:+0100
TZOFFSETTO:+0000
TZNAME:GMT
DTSTART:20321031T010000
END:STANDARD
END:VTIMEZONE
BEGIN:VEVENT
DTSTART;TZID=Europe/London:20310416T153000
DTEND;TZID=Europe/London:20310416T170000
DTSTAMP:20260424T002443
CREATED:20240507T165511Z
LAST-MODIFIED:20260129T163726Z
UID:10062435-1934119800-1934125200@hla.oldham.gov.uk
SUMMARY:Lego Club at Northmoor Library
DESCRIPTION:Come and join the fun at Northmoor Library’s Lego Club. Build\, create\, and play. Let your imagination run wild. No need to book in advance – this is a Drop in event \n\n\n\nFor ages 5 and over. Children under 8 must be accompanied by an Adult.
URL:https://hla.oldham.gov.uk/event/lego-club-3/2031-04-16/
LOCATION:Northmoor Library\, Chadderton Way\, Oldham\, England\, OL9 6DH\, United Kingdom
CATEGORIES:Children & Families,Young People
END:VEVENT
BEGIN:VEVENT
DTSTART;TZID=Europe/London:20310416T163000
DTEND;TZID=Europe/London:20310416T180000
DTSTAMP:20260424T002443
CREATED:20240508T112533Z
LAST-MODIFIED:20260129T163649Z
UID:10062437-1934123400-1934128800@hla.oldham.gov.uk
SUMMARY:Knit & natter at Limehurst Library
DESCRIPTION:Join this friendly group for knitting\, crocheting and a chat every Wednesday afternoon at Limehurst Library. 
URL:https://hla.oldham.gov.uk/event/knit-natter/2031-04-16/
LOCATION:Limehurst Library\, Lime Green Parade\, Oldham\, England\, OL8 3HH\, United Kingdom
CATEGORIES:Adult Art & Crafts,Groups
END:VEVENT
BEGIN:VEVENT
DTSTART;TZID=Europe/London:20310416T173000
DTEND;TZID=Europe/London:20310416T183000
DTSTAMP:20260424T002443
CREATED:20251014T091928Z
LAST-MODIFIED:20251103T122628Z
UID:10062439-1934127000-1934130600@hla.oldham.gov.uk
SUMMARY:Game on! at Fitton Hill Library
DESCRIPTION:Check out our Nintendo Switch Sessions at Fitton Hill Library. Sessions are 30 minutes long and bookable with a member of library staff.
URL:https://hla.oldham.gov.uk/event/game-on-2/2031-04-16/
LOCATION:Fitton Hill Library\, Fircroft Road\, Oldham\, England\, OL8 2QD\, United Kingdom
END:VEVENT
BEGIN:VEVENT
DTSTART;TZID=Europe/London:20310417T093000
DTEND;TZID=Europe/London:20310417T120000
DTSTAMP:20260424T002443
CREATED:20240513T111026Z
LAST-MODIFIED:20260129T163610Z
UID:10062443-1934184600-1934193600@hla.oldham.gov.uk
SUMMARY:Citizens Advice at Failsworth Library
DESCRIPTION:You will be seen for an assessment on a first come\, firstserved basis. The advisor may also make anappointment to see you at another time.
URL:https://hla.oldham.gov.uk/event/citizens-advice-drop-ins/2031-04-17/
LOCATION:Failsworth Library\, Oldham Road\, Failsworth\, England\, M35 0EJ\, United Kingdom
CATEGORIES:Support & Advice
END:VEVENT
BEGIN:VEVENT
DTSTART;TZID=Europe/London:20310417T100000
DTEND;TZID=Europe/London:20310417T110000
DTSTAMP:20260424T002443
CREATED:20241114T183105Z
LAST-MODIFIED:20241114T183108Z
UID:10062445-1934186400-1934190000@hla.oldham.gov.uk
SUMMARY:Bounce and Rhyme
DESCRIPTION:Join us at our weekly bounce and rhyme event. Learn new rhymes\, sing songs and make friends. Perfect for the 0-4’s.
URL:https://hla.oldham.gov.uk/event/bounce-and-rhyme-5/2031-04-17/
LOCATION:Crompton Library\, Farrow Street East\, Shaw\, Oldham\, OL2 8QY
END:VEVENT
BEGIN:VEVENT
DTSTART;TZID=Europe/London:20310417T100000
DTEND;TZID=Europe/London:20310417T113000
DTSTAMP:20260424T002443
CREATED:20241113T135833Z
LAST-MODIFIED:20241113T135837Z
UID:10062447-1934186400-1934191800@hla.oldham.gov.uk
SUMMARY:Online Basics
DESCRIPTION:Learn computer basics
URL:https://hla.oldham.gov.uk/event/online-basics-5/2031-04-17/
LOCATION:Chadderton Library and Wellbeing Centre\, Burnley Street\, Chadderton\, England\, OL9 0JW\, United Kingdom
END:VEVENT
BEGIN:VEVENT
DTSTART;TZID=Europe/London:20310417T100000
DTEND;TZID=Europe/London:20310417T113000
DTSTAMP:20260424T002443
CREATED:20260120T152152Z
LAST-MODIFIED:20260120T152154Z
UID:10062449-1934186400-1934191800@hla.oldham.gov.uk
SUMMARY:Digital Confidence at Oldham Library
DESCRIPTION:Self-led with staff or volunteer support. Learn basic digital skills at your own pace on the LearnMyWay platform.Improve your digital confidence\, learn new skills and stay safe online.
URL:https://hla.oldham.gov.uk/event/digital-confidence-at-oldham-library/2031-04-17/
LOCATION:Oldham Library\, 35 Greaves Street\, Oldham\, England\, OL1 1AL\, United Kingdom
CATEGORIES:Digital,Learning,Support & Advice
END:VEVENT
BEGIN:VEVENT
DTSTART;TZID=Europe/London:20310417T110000
DTEND;TZID=Europe/London:20310417T130000
DTSTAMP:20260424T002443
CREATED:20240508T121112Z
LAST-MODIFIED:20251103T120859Z
UID:10062453-1934190000-1934197200@hla.oldham.gov.uk
SUMMARY:Books\, brew & banter at Failsworth Library
DESCRIPTION:Fancy a cuppa ? Want to socialise\, unwind and get your hands on the hottest books in town. Swing by and say hi. Chat to others and have a cuppa and take some time to relax with some mindfulness colouring\, all in the comfort of our lovely library.
URL:https://hla.oldham.gov.uk/event/books-brew-banter/2031-04-17/
LOCATION:Failsworth Library\, Oldham Road\, Failsworth\, England\, M35 0EJ\, United Kingdom
CATEGORIES:Health and Wellbeing
END:VEVENT
BEGIN:VEVENT
DTSTART;TZID=Europe/London:20310417T110000
DTEND;TZID=Europe/London:20310417T130000
DTSTAMP:20260424T002443
CREATED:20260119T114230Z
LAST-MODIFIED:20260129T164425Z
UID:10062451-1934190000-1934197200@hla.oldham.gov.uk
SUMMARY:Digital drop-in at Failsworth Library
DESCRIPTION:If you need help with a device or have questions about something online\, come along to one of our Digital Drop-in sessions.  No need to book – pop in and our digital volunteers from Inclusive Bytes will give you a hand!
URL:https://hla.oldham.gov.uk/event/failsworth-library-digital-drop-in-sessions/2031-04-17/
LOCATION:Failsworth Library\, Oldham Road\, Failsworth\, England\, M35 0EJ\, United Kingdom
CATEGORIES:Digital,Learning
END:VEVENT
BEGIN:VEVENT
DTSTART;TZID=Europe/London:20310417T140000
DTEND;TZID=Europe/London:20310417T150000
DTSTAMP:20260424T002443
CREATED:20250716T170406Z
LAST-MODIFIED:20250717T142722Z
UID:10062455-1934200800-1934204400@hla.oldham.gov.uk
SUMMARY:Bounce and Rhyme
DESCRIPTION:Join us at our weekly bounce and rhyme event. Learn new rhymes\, sing songs and make friends. Perfect for the 0-4’s. \n\n\n\nFree
URL:https://hla.oldham.gov.uk/event/bounce-and-rhyme/2031-04-17/
LOCATION:Uppermill Library\, St Chads House\, Uppermill\, Uppermill\, England\, OL3 6AZ\, United Kingdom
CATEGORIES:Children & Families
END:VEVENT
BEGIN:VEVENT
DTSTART;TZID=Europe/London:20310417T140000
DTEND;TZID=Europe/London:20310417T153000
DTSTAMP:20260424T002443
CREATED:20240502T145438Z
LAST-MODIFIED:20260129T162709Z
UID:10062457-1934200800-1934206200@hla.oldham.gov.uk
SUMMARY:Digital confidence at Limehurst library
DESCRIPTION:
URL:https://hla.oldham.gov.uk/event/online-basics-2/2031-04-17/
LOCATION:Limehurst Library\, Lime Green Parade\, Oldham\, England\, OL8 3HH\, United Kingdom
CATEGORIES:Digital,Learning
END:VEVENT
BEGIN:VEVENT
DTSTART;TZID=Europe/London:20310417T143000
DTEND;TZID=Europe/London:20310417T160000
DTSTAMP:20260424T002443
CREATED:20260207T111059Z
LAST-MODIFIED:20260207T111059Z
UID:10062459-1934202600-1934208000@hla.oldham.gov.uk
SUMMARY:Stay & play at Northmoor Library
DESCRIPTION:Parents\, carers and children under 5 are invited tojoin us for a free play session (term-time only)
URL:https://hla.oldham.gov.uk/event/stay-play-at-northmoor-library/2031-04-17/
LOCATION:Northmoor Library\, Chadderton Way\, Oldham\, England\, OL9 6DH\, United Kingdom
CATEGORIES:Children & Families,Support & Advice
END:VEVENT
BEGIN:VEVENT
DTSTART;TZID=Europe/London:20310417T153000
DTEND;TZID=Europe/London:20310417T170000
DTSTAMP:20260424T002443
CREATED:20240831T085218Z
LAST-MODIFIED:20260129T163540Z
UID:10062461-1934206200-1934211600@hla.oldham.gov.uk
SUMMARY:Lego Club at Fitton Hill Library
DESCRIPTION:Come and join the fun at Fitton Hill Library’s Lego Club. Build\, create\, and play. Let your imagination run wild. \n\n\n\nNo need to book in advance – this is a Drop in event \n\n\n\nFor ages 5 and over. Children under 8 must be accompanied by an Adult
URL:https://hla.oldham.gov.uk/event/lego-club-4/2031-04-17/
LOCATION:Fitton Hill Library\, Fircroft Road\, Oldham\, England\, OL8 2QD\, United Kingdom
CATEGORIES:Children & Families,Young People
END:VEVENT
BEGIN:VEVENT
DTSTART;TZID=Europe/London:20310417T173000
DTEND;TZID=Europe/London:20310417T183000
DTSTAMP:20260424T002443
CREATED:20260420T150056Z
LAST-MODIFIED:20260420T150057Z
UID:10062999-1934213400-1934217000@hla.oldham.gov.uk
SUMMARY:Game On at Fitton Hill Library
DESCRIPTION:Nintendo Switch Sessions at Fitton Hill Library. Sessions are 30 minutes long and bookable with a member of library staff.
URL:https://hla.oldham.gov.uk/event/game-on-at-fitton-hill-library-3/2031-04-17/
LOCATION:Fitton Hill Library\, Fircroft Road\, Oldham\, England\, OL8 2QD\, United Kingdom
CATEGORIES:Children & Families
END:VEVENT
END:VCALENDAR