BEGIN:VCALENDAR
VERSION:2.0
PRODID:-//Oldham HLA - ECPv6.15.20//NONSGML v1.0//EN
CALSCALE:GREGORIAN
METHOD:PUBLISH
X-ORIGINAL-URL:https://hla.oldham.gov.uk
X-WR-CALDESC:Events for Oldham HLA
REFRESH-INTERVAL;VALUE=DURATION:PT1H
X-Robots-Tag:noindex
X-PUBLISHED-TTL:PT1H
BEGIN:VTIMEZONE
TZID:Europe/London
BEGIN:DAYLIGHT
TZOFFSETFROM:+0000
TZOFFSETTO:+0100
TZNAME:BST
DTSTART:20250330T010000
END:DAYLIGHT
BEGIN:STANDARD
TZOFFSETFROM:+0100
TZOFFSETTO:+0000
TZNAME:GMT
DTSTART:20251026T010000
END:STANDARD
BEGIN:DAYLIGHT
TZOFFSETFROM:+0000
TZOFFSETTO:+0100
TZNAME:BST
DTSTART:20260329T010000
END:DAYLIGHT
BEGIN:STANDARD
TZOFFSETFROM:+0100
TZOFFSETTO:+0000
TZNAME:GMT
DTSTART:20261025T010000
END:STANDARD
BEGIN:DAYLIGHT
TZOFFSETFROM:+0000
TZOFFSETTO:+0100
TZNAME:BST
DTSTART:20270328T010000
END:DAYLIGHT
BEGIN:STANDARD
TZOFFSETFROM:+0100
TZOFFSETTO:+0000
TZNAME:GMT
DTSTART:20271031T010000
END:STANDARD
END:VTIMEZONE
BEGIN:VEVENT
DTSTART;TZID=Europe/London:20260417T130000
DTEND;TZID=Europe/London:20260417T140000
DTSTAMP:20260424T133137
CREATED:20241115T164651Z
LAST-MODIFIED:20241115T164655Z
UID:10021335-1776430800-1776434400@hla.oldham.gov.uk
SUMMARY:Digital confidence
DESCRIPTION:Drop in and join our free platform for beginners. Develop your digital skills or get comfortable with your own device. \n\n\n\nWork through modules at your own pace \, with someone there for guidance if you need. Come along and improve your digital confidence.
URL:https://hla.oldham.gov.uk/event/digital-confidence-2/2026-04-17/
LOCATION:Crompton Library\, 7 Farrow Street\, Shaw\, Oldham\, England\, OL2 8QY\, United Kingdom
END:VEVENT
BEGIN:VEVENT
DTSTART;TZID=Europe/London:20260417T080000
DTEND;TZID=Europe/London:20260417T170000
DTSTAMP:20260424T133137
CREATED:20250829T115303Z
LAST-MODIFIED:20250829T121024Z
UID:10038419-1776412800-1776445200@hla.oldham.gov.uk
SUMMARY:Crompton Crafters
DESCRIPTION:Join our friendly crafters at Crompton library. Chatting and crafting\, what better way to spend a Friday afternoon.
URL:https://hla.oldham.gov.uk/event/crompton-crafters-5/2026-04-17/
LOCATION:Crompton Library\, Farrow Street East\, Shaw\, Oldham\, OL2 8QY
CATEGORIES:Adult Art & Crafts
END:VEVENT
BEGIN:VEVENT
DTSTART;TZID=Europe/London:20260416T190000
DTEND;TZID=Europe/London:20260416T210000
DTSTAMP:20260424T133137
CREATED:20260414T114919Z
LAST-MODIFIED:20260414T114920Z
UID:10061833-1776366000-1776373200@hla.oldham.gov.uk
SUMMARY:Little French Cinema\, À L’Abordage:All Hands on Deck
DESCRIPTION:Little French Cinema Film Screening
URL:https://hla.oldham.gov.uk/event/little-french-cinema-a-labordageall-hands-on-deck/
LOCATION:Oldham Library & Lifelong Learning Centre\, Greaves Street\, Oldham\, OL1 1AL\, United Kingdom
END:VEVENT
BEGIN:VEVENT
DTSTART;TZID=Europe/London:20260415T143000
DTEND;TZID=Europe/London:20260415T153000
DTSTAMP:20260424T133137
CREATED:20241115T161138Z
LAST-MODIFIED:20241115T161142Z
UID:10020585-1776263400-1776267000@hla.oldham.gov.uk
SUMMARY:Readers group
DESCRIPTION:Whether you’re an avid reader or someone who dips in and out of books when time allows- we love to welcome new members. Join us on the 3rd Wednesday of the month to chat about all things books.
URL:https://hla.oldham.gov.uk/event/readers-group-4/2026-04-15/
LOCATION:Crompton Library\, 7 Farrow Street\, Shaw\, Oldham\, England\, OL2 8QY\, United Kingdom
END:VEVENT
BEGIN:VEVENT
DTSTART;TZID=Europe/London:20260415T080000
DTEND;TZID=Europe/London:20260415T170000
DTSTAMP:20260424T133137
CREATED:20250725T143215Z
LAST-MODIFIED:20250725T143254Z
UID:10035301-1776240000-1776272400@hla.oldham.gov.uk
SUMMARY:Readers Group
DESCRIPTION:Whether you’re an avid reader or someone who dips in and out of books when time allows – we love to welcome new members. \n\n\n\nJoin us on the third Wednesday of every month .
URL:https://hla.oldham.gov.uk/event/readers-group-5/2026-04-15/
LOCATION:Lees Library Community Hub\, Thomas Street\, Lees\, Oldham\, Greater Manchester\, OL4 5DA\, United Kingdom
CATEGORIES:Groups
END:VEVENT
BEGIN:VEVENT
DTSTART;TZID=Europe/London:20260414T103000
DTEND;TZID=Europe/London:20260414T113000
DTSTAMP:20260424T133137
CREATED:20240508T125734Z
LAST-MODIFIED:20251103T120735Z
UID:10012581-1776162600-1776166200@hla.oldham.gov.uk
SUMMARY:Moston Brook social walks at Failsworth Library
DESCRIPTION:Meet 10.30am at the Wholesome café\, basement level\,        Failsworth Town Hall\, M35 0FJ. Circular Walk – approximately  1hr\, leisurely pace\, flat but with one set of steps. We get together for a brew afterwards.  \n\n\n\nContact : Ian Butterworth\, Countryside Officer Moston Brook. \n\n\n\n email: ian.butterworth@oldham.gov.uk
URL:https://hla.oldham.gov.uk/event/moston-brook-social-walks/2026-04-14/
LOCATION:Failsworth Library\, Oldham Road\, Failsworth\, England\, M35 0EJ\, United Kingdom
CATEGORIES:Health and Wellbeing
END:VEVENT
BEGIN:VEVENT
DTSTART;TZID=Europe/London:20260411T103000
DTEND;TZID=Europe/London:20260411T133000
DTSTAMP:20260424T133137
CREATED:20260120T111604Z
LAST-MODIFIED:20260409T235327Z
UID:10041645-1775903400-1775914200@hla.oldham.gov.uk
SUMMARY:Create Your Own Leather Wallet – A Hands-On Workshop
DESCRIPTION:Join us for a relaxing and rewarding experience where you’ll craft your own leather wallet\n\n\nJoin us for a relaxing and rewarding experience where you’ll craft your own leather wallet using high-quality\, upcycled leather off-cuts. No previous skills are needed – you’ll be guided step-by-step through traditional leatherworking techniques\, with plenty of time to learn\, create and enjoy.
URL:https://hla.oldham.gov.uk/event/create-your-own-leather-wallet-a-hands-on-workshop/
LOCATION:Gallery Oldham\, 35 Greaves Street\, Oldham\, England\, OL1 1AL\, United Kingdom
ATTACH;FMTTYPE=image/jpeg:https://hla.oldham.gov.uk/wp-content/uploads/2025/10/21b69f830cedacaa9609361dd52b0a22.jpg
END:VEVENT
BEGIN:VEVENT
DTSTART;TZID=Europe/London:20260408T130000
DTEND;TZID=Europe/London:20260408T150000
DTSTAMP:20260424T133137
CREATED:20260326T160907Z
LAST-MODIFIED:20260327T131032Z
UID:10060195-1775653200-1775660400@hla.oldham.gov.uk
SUMMARY:Sophie Tyrrell Family Workshop
DESCRIPTION:Join local artist Sophie Tyrrell in one of 2 workshops inspired by her current exhibition at Gallery Oldham. No booking required.
URL:https://hla.oldham.gov.uk/event/sophie-tyrrell-family-workshop/2026-04-08/
LOCATION:Gallery Oldham\, 35 Greaves Street\, Oldham\, England\, OL1 1AL\, United Kingdom
CATEGORIES:Children & Families
END:VEVENT
BEGIN:VEVENT
DTSTART;TZID=Europe/London:20260402T140000
DTEND;TZID=Europe/London:20260402T150000
DTSTAMP:20260424T133137
CREATED:20241108T143949Z
LAST-MODIFIED:20241108T161401Z
UID:10015483-1775138400-1775142000@hla.oldham.gov.uk
SUMMARY:Readers Group
DESCRIPTION:Whether you’re an avid reader or someone who dips in and out of books when time allows – we love to welcome new members.   \n\n\n\nJoin us on the first Thursday of every month .
URL:https://hla.oldham.gov.uk/event/readers-group-3/2026-04-02/
LOCATION:Royton Library\, Rochdale Road\, Royton\, OL2 6QJ
CATEGORIES:Groups
END:VEVENT
BEGIN:VEVENT
DTSTART;TZID=Europe/London:20260401T180000
DTEND;TZID=Europe/London:20260401T190000
DTSTAMP:20260424T133137
CREATED:20251004T133737Z
LAST-MODIFIED:20251103T120410Z
UID:10006311-1775066400-1775070000@hla.oldham.gov.uk
SUMMARY:Readers group at Failsworth Library
DESCRIPTION:Join our relaxed and informal book club to discuss your reads\, discover new authors and explore new books. We read the same title from a variety of genres picked by library staff and meet once a month to discuss it. It’s a great way to meet new people and socialise and discover books you never imagined you would enjoy.
URL:https://hla.oldham.gov.uk/event/readers-group-6/2026-04-01/
LOCATION:Failsworth Library\, Oldham Road\, Failsworth\, England\, M35 0EJ\, United Kingdom
CATEGORIES:Groups
END:VEVENT
BEGIN:VEVENT
DTSTART;TZID=Europe/London:20260401T173000
DTEND;TZID=Europe/London:20260401T190000
DTSTAMP:20260424T133137
CREATED:20241113T134524Z
LAST-MODIFIED:20241113T134526Z
UID:10017215-1775064600-1775070000@hla.oldham.gov.uk
SUMMARY:Oldham Library Readers Group
DESCRIPTION:Join our friendly Readers Group
URL:https://hla.oldham.gov.uk/event/oldham-library-readers-group/2026-04-01/
LOCATION:Oldham Library & Lifelong Learning Centre\, Greaves Street\, Oldham\, OL1 1AL\, United Kingdom
END:VEVENT
BEGIN:VEVENT
DTSTART;TZID=Europe/London:20260401T173000
DTEND;TZID=Europe/London:20260401T183000
DTSTAMP:20260424T133137
CREATED:20260320T155126Z
LAST-MODIFIED:20260401T190428Z
UID:10050659-1775064600-1775068200@hla.oldham.gov.uk
SUMMARY:Bedtime Stories
DESCRIPTION:Pop on your cosiest PJ’s\, bring your teddy and enjoy some rhymes\, signs and stories with Eliza Says\n\n\nBedtime story sessions with Lorenza from Eliza says. \nPop on your cosiest PJ’s and bring your teddy along\, to these wonderful bedtime story sessions. With warm milk and toast available half-way through\, stories and rhymes to help you soothe your little one.
URL:https://hla.oldham.gov.uk/event/bedtime-stories-7/
LOCATION:Oldham Library & Lifelong Learning Centre\, Greaves Street\, Oldham\, OL1 1AL\, United Kingdom
CATEGORIES:Children & Families
ATTACH;FMTTYPE=image/jpeg:https://hla.oldham.gov.uk/wp-content/uploads/2026/01/3e13aff101971701b5cac8c03913f97f.jpg
END:VEVENT
BEGIN:VEVENT
DTSTART;TZID=Europe/London:20260401T140000
DTEND;TZID=Europe/London:20260401T153000
DTSTAMP:20260424T133137
CREATED:20251002T142625Z
LAST-MODIFIED:20260331T114827Z
UID:10038237-1775052000-1775057400@hla.oldham.gov.uk
SUMMARY:Live@TheLibrary: So Unfair!
DESCRIPTION:One Tenth Human in association with The Dukes Lancaster present ‘So Unfair!’
URL:https://hla.oldham.gov.uk/event/livethelibrary-so-unfair/
LOCATION:Oldham Library & Lifelong Learning Centre\, Greaves Street\, Oldham\, OL1 1AL\, United Kingdom
CATEGORIES:Cinema, Music & Theatre
ATTACH;FMTTYPE=image/jpeg:https://hla.oldham.gov.uk/wp-content/uploads/2025/08/f0e55ee240f9fa54bd0d90175f29d458.jpg
END:VEVENT
BEGIN:VEVENT
DTSTART;TZID=Europe/London:20260401T110000
DTEND;TZID=Europe/London:20260401T123000
DTSTAMP:20260424T133137
CREATED:20251002T142757Z
LAST-MODIFIED:20260331T114827Z
UID:10038235-1775041200-1775046600@hla.oldham.gov.uk
SUMMARY:Live@TheLibrary: So Unfair!
DESCRIPTION:One Tenth Human in association with The Dukes Lancaster present ‘So Unfair!’ \nWelcome to our interactive science demo – with a twist! We need YOU to take on some big challenges – and help us save the day. \nHow can we make things more fair? And what could go wrong if we don’t? \nHelp Daniel Bye change the world\, in an unexpectedly ridiculous adventure involving \nengineering challenges\, bad dad jokes\, and an extraordinary quantity of molten chocolate. \nPraise for previous shows by the same team: \n“Riveting\, funny and thoughtful” The Guardian \n“really great children’s theatre” Exeunt \nA brand new show for 7-10 year olds and their grown-ups. \nCreated by Daniel Bye\, Sarah Punshon\, Toni-Dee Paul\, and Matt Powell \nFeaturing engineers from across the UK Zooming in to help you save the day. \nBook by using the link below.
URL:https://hla.oldham.gov.uk/event/livethelibrary-so-unfair-2/
LOCATION:Oldham Library & Lifelong Learning Centre\, Greaves Street\, Oldham\, OL1 1AL\, United Kingdom
CATEGORIES:Cinema, Music & Theatre
ATTACH;FMTTYPE=image/jpeg:https://hla.oldham.gov.uk/wp-content/uploads/2025/08/f0e55ee240f9fa54bd0d90175f29d458.jpg
END:VEVENT
BEGIN:VEVENT
DTSTART;TZID=Europe/London:20260401T033000
DTEND;TZID=Europe/London:20260401T043000
DTSTAMP:20260424T133137
CREATED:20260216T112653Z
LAST-MODIFIED:20260216T112655Z
UID:10051883-1775014200-1775017800@hla.oldham.gov.uk
SUMMARY:
DESCRIPTION:A fun and inspiring session designed to create community and connection across all generations
URL:https://hla.oldham.gov.uk/event/69077/2026-04-01/
LOCATION:Fitton Hill Library\, Fircroft Road\, Oldham\, England\, OL8 2QD\, United Kingdom
END:VEVENT
BEGIN:VEVENT
DTSTART;TZID=Europe/London:20260331T110000
DTEND;TZID=Europe/London:20260331T160000
DTSTAMP:20260424T133137
CREATED:20260313T172300Z
LAST-MODIFIED:20260313T172428Z
UID:10052887-1774954800-1774972800@hla.oldham.gov.uk
SUMMARY:Forgotten Army Roadshow: Learn about South Asian service in the World Wars with My Family Legacy
DESCRIPTION:Celebrate and explore South Asian contribution to World War I and World War II. Bring your family stories\, medals\, or World War II memorabilia for expert review by the Imperial War Museum (IWM) at this unique day event. \n\n\n\nHIGHLIGHTS \n\n\n\n11am: Family Arts and Craft: paint and build-your-own Spitfire plane! \n\n\n\n12.00 onwards: IWM expert available to review family World War I and World War II memorabilia \n\n\n\n2pm: Exclusive performance based around the life of World War II secret agent Noor Inayat Khan \n\n\n\n3pm: Panel discussion on preserving South Asian history\, heritage and family legacies
URL:https://hla.oldham.gov.uk/event/forgotten-army-roadshow-learn-about-south-asian-service-in-the-world-wars-with-my-family-legacy/
LOCATION:Gallery Oldham\, 35 Greaves Street\, Oldham\, England\, OL1 1AL\, United Kingdom
CATEGORIES:All ages,Children & Families
END:VEVENT
BEGIN:VEVENT
DTSTART;TZID=Europe/London:20260328T110000
DTEND;TZID=Europe/London:20260328T150000
DTSTAMP:20260424T133137
CREATED:20260227T123612Z
LAST-MODIFIED:20260227T123708Z
UID:10052623-1774695600-1774710000@hla.oldham.gov.uk
SUMMARY:Digital Festival
DESCRIPTION:Celebrate all things digital with us – gaming\, VR\, digital advice\, Peshkar’s Young Digital Festival and much more.
URL:https://hla.oldham.gov.uk/event/digital-festival/
LOCATION:Oldham Library & Lifelong Learning Centre\, Greaves Street\, Oldham\, OL1 1AL\, United Kingdom
CATEGORIES:All ages,Digital,Learning,Support & Advice
END:VEVENT
BEGIN:VEVENT
DTSTART;TZID=Europe/London:20260325T033000
DTEND;TZID=Europe/London:20260325T043000
DTSTAMP:20260424T133137
CREATED:20260216T112653Z
LAST-MODIFIED:20260216T112655Z
UID:10051881-1774409400-1774413000@hla.oldham.gov.uk
SUMMARY:
DESCRIPTION:A fun and inspiring session designed to create community and connection across all generations
URL:https://hla.oldham.gov.uk/event/69077/2026-03-25/
LOCATION:Fitton Hill Library\, Fircroft Road\, Oldham\, England\, OL8 2QD\, United Kingdom
END:VEVENT
BEGIN:VEVENT
DTSTART;TZID=Europe/London:20260110T000000
DTEND;TZID=Europe/London:20260330T235959
DTSTAMP:20260424T133137
CREATED:20260119T163132Z
LAST-MODIFIED:20260318T144101Z
UID:10048849-1768003200-1774915199@hla.oldham.gov.uk
SUMMARY:Archives Display: 150 Years of Oldham Rugby League
DESCRIPTION: \n\n\nThis archives display is part of our regular programme of archives displays. All our archives displays are free to access during the opening hours at Oldham Archives. \nExplore the story behind a 1936 Rugby Challenge Cup Tie between Oldham and Wigan through original archives and digital images and sound clips. This display complements the Gallery 4 exhibition at Gallery Oldham. \nDrop in Monday to Friday 10am-5pm and Saturday 10am-1pm.
URL:https://hla.oldham.gov.uk/event/archives-display-150-years-of-oldham-rugby-league/
LOCATION:Oldham Archives\, Ascroft Street\, Oldham\, Greater Manchester\, OL1 1XF\, United Kingdom
CATEGORIES:Exhibitions, Talks & Tours
ATTACH;FMTTYPE=image/jpeg:https://hla.oldham.gov.uk/wp-content/uploads/2026/01/ORLFC-150.jpg
END:VEVENT
END:VCALENDAR