BEGIN:VCALENDAR
VERSION:2.0
PRODID:-//Oldham HLA - ECPv6.15.14//NONSGML v1.0//EN
CALSCALE:GREGORIAN
METHOD:PUBLISH
X-WR-CALNAME:Oldham HLA
X-ORIGINAL-URL:https://hla.oldham.gov.uk
X-WR-CALDESC:Events for Oldham HLA
REFRESH-INTERVAL;VALUE=DURATION:PT1H
X-Robots-Tag:noindex
X-PUBLISHED-TTL:PT1H
BEGIN:VTIMEZONE
TZID:Europe/London
BEGIN:DAYLIGHT
TZOFFSETFROM:+0000
TZOFFSETTO:+0100
TZNAME:BST
DTSTART:20250330T010000
END:DAYLIGHT
BEGIN:STANDARD
TZOFFSETFROM:+0100
TZOFFSETTO:+0000
TZNAME:GMT
DTSTART:20251026T010000
END:STANDARD
BEGIN:DAYLIGHT
TZOFFSETFROM:+0000
TZOFFSETTO:+0100
TZNAME:BST
DTSTART:20260329T010000
END:DAYLIGHT
BEGIN:STANDARD
TZOFFSETFROM:+0100
TZOFFSETTO:+0000
TZNAME:GMT
DTSTART:20261025T010000
END:STANDARD
BEGIN:DAYLIGHT
TZOFFSETFROM:+0000
TZOFFSETTO:+0100
TZNAME:BST
DTSTART:20270328T010000
END:DAYLIGHT
BEGIN:STANDARD
TZOFFSETFROM:+0100
TZOFFSETTO:+0000
TZNAME:GMT
DTSTART:20271031T010000
END:STANDARD
END:VTIMEZONE
BEGIN:VEVENT
DTSTART;TZID=Europe/London:20260423T173000
DTEND;TZID=Europe/London:20260423T183000
DTSTAMP:20260420T201634
CREATED:20260420T150056Z
LAST-MODIFIED:20260420T150057Z
UID:10062479-1776965400-1776969000@hla.oldham.gov.uk
SUMMARY:Game On at Fitton Hill Library
DESCRIPTION:Nintendo Switch Sessions at Fitton Hill Library. Sessions are 30 minutes long and bookable with a member of library staff.
URL:https://hla.oldham.gov.uk/event/game-on-at-fitton-hill-library-3/2026-04-23/
LOCATION:Fitton Hill Library\, Fircroft Road\, Oldham\, England\, OL8 2QD\, United Kingdom
CATEGORIES:Children & Families
END:VEVENT
BEGIN:VEVENT
DTSTART;TZID=Europe/London:20260430T173000
DTEND;TZID=Europe/London:20260430T183000
DTSTAMP:20260420T201634
CREATED:20260420T150056Z
LAST-MODIFIED:20260420T150057Z
UID:10062481-1777570200-1777573800@hla.oldham.gov.uk
SUMMARY:Game On at Fitton Hill Library
DESCRIPTION:Nintendo Switch Sessions at Fitton Hill Library. Sessions are 30 minutes long and bookable with a member of library staff.
URL:https://hla.oldham.gov.uk/event/game-on-at-fitton-hill-library-3/2026-04-30/
LOCATION:Fitton Hill Library\, Fircroft Road\, Oldham\, England\, OL8 2QD\, United Kingdom
CATEGORIES:Children & Families
END:VEVENT
BEGIN:VEVENT
DTSTART;TZID=Europe/London:20260507T173000
DTEND;TZID=Europe/London:20260507T183000
DTSTAMP:20260420T201634
CREATED:20260420T150056Z
LAST-MODIFIED:20260420T150057Z
UID:10062483-1778175000-1778178600@hla.oldham.gov.uk
SUMMARY:Game On at Fitton Hill Library
DESCRIPTION:Nintendo Switch Sessions at Fitton Hill Library. Sessions are 30 minutes long and bookable with a member of library staff.
URL:https://hla.oldham.gov.uk/event/game-on-at-fitton-hill-library-3/2026-05-07/
LOCATION:Fitton Hill Library\, Fircroft Road\, Oldham\, England\, OL8 2QD\, United Kingdom
CATEGORIES:Children & Families
END:VEVENT
BEGIN:VEVENT
DTSTART;TZID=Europe/London:20260514T173000
DTEND;TZID=Europe/London:20260514T183000
DTSTAMP:20260420T201634
CREATED:20260420T150056Z
LAST-MODIFIED:20260420T150057Z
UID:10062485-1778779800-1778783400@hla.oldham.gov.uk
SUMMARY:Game On at Fitton Hill Library
DESCRIPTION:Nintendo Switch Sessions at Fitton Hill Library. Sessions are 30 minutes long and bookable with a member of library staff.
URL:https://hla.oldham.gov.uk/event/game-on-at-fitton-hill-library-3/2026-05-14/
LOCATION:Fitton Hill Library\, Fircroft Road\, Oldham\, England\, OL8 2QD\, United Kingdom
CATEGORIES:Children & Families
END:VEVENT
BEGIN:VEVENT
DTSTART;TZID=Europe/London:20260521T173000
DTEND;TZID=Europe/London:20260521T183000
DTSTAMP:20260420T201634
CREATED:20260420T150056Z
LAST-MODIFIED:20260420T150057Z
UID:10062487-1779384600-1779388200@hla.oldham.gov.uk
SUMMARY:Game On at Fitton Hill Library
DESCRIPTION:Nintendo Switch Sessions at Fitton Hill Library. Sessions are 30 minutes long and bookable with a member of library staff.
URL:https://hla.oldham.gov.uk/event/game-on-at-fitton-hill-library-3/2026-05-21/
LOCATION:Fitton Hill Library\, Fircroft Road\, Oldham\, England\, OL8 2QD\, United Kingdom
CATEGORIES:Children & Families
END:VEVENT
BEGIN:VEVENT
DTSTART;TZID=Europe/London:20260528T173000
DTEND;TZID=Europe/London:20260528T183000
DTSTAMP:20260420T201634
CREATED:20260420T150056Z
LAST-MODIFIED:20260420T150057Z
UID:10062489-1779989400-1779993000@hla.oldham.gov.uk
SUMMARY:Game On at Fitton Hill Library
DESCRIPTION:Nintendo Switch Sessions at Fitton Hill Library. Sessions are 30 minutes long and bookable with a member of library staff.
URL:https://hla.oldham.gov.uk/event/game-on-at-fitton-hill-library-3/2026-05-28/
LOCATION:Fitton Hill Library\, Fircroft Road\, Oldham\, England\, OL8 2QD\, United Kingdom
CATEGORIES:Children & Families
END:VEVENT
BEGIN:VEVENT
DTSTART;TZID=Europe/London:20260604T173000
DTEND;TZID=Europe/London:20260604T183000
DTSTAMP:20260420T201634
CREATED:20260420T150056Z
LAST-MODIFIED:20260420T150057Z
UID:10062491-1780594200-1780597800@hla.oldham.gov.uk
SUMMARY:Game On at Fitton Hill Library
DESCRIPTION:Nintendo Switch Sessions at Fitton Hill Library. Sessions are 30 minutes long and bookable with a member of library staff.
URL:https://hla.oldham.gov.uk/event/game-on-at-fitton-hill-library-3/2026-06-04/
LOCATION:Fitton Hill Library\, Fircroft Road\, Oldham\, England\, OL8 2QD\, United Kingdom
CATEGORIES:Children & Families
END:VEVENT
BEGIN:VEVENT
DTSTART;TZID=Europe/London:20260611T173000
DTEND;TZID=Europe/London:20260611T183000
DTSTAMP:20260420T201634
CREATED:20260420T150056Z
LAST-MODIFIED:20260420T150057Z
UID:10062493-1781199000-1781202600@hla.oldham.gov.uk
SUMMARY:Game On at Fitton Hill Library
DESCRIPTION:Nintendo Switch Sessions at Fitton Hill Library. Sessions are 30 minutes long and bookable with a member of library staff.
URL:https://hla.oldham.gov.uk/event/game-on-at-fitton-hill-library-3/2026-06-11/
LOCATION:Fitton Hill Library\, Fircroft Road\, Oldham\, England\, OL8 2QD\, United Kingdom
CATEGORIES:Children & Families
END:VEVENT
BEGIN:VEVENT
DTSTART;TZID=Europe/London:20260618T173000
DTEND;TZID=Europe/London:20260618T183000
DTSTAMP:20260420T201634
CREATED:20260420T150056Z
LAST-MODIFIED:20260420T150057Z
UID:10062495-1781803800-1781807400@hla.oldham.gov.uk
SUMMARY:Game On at Fitton Hill Library
DESCRIPTION:Nintendo Switch Sessions at Fitton Hill Library. Sessions are 30 minutes long and bookable with a member of library staff.
URL:https://hla.oldham.gov.uk/event/game-on-at-fitton-hill-library-3/2026-06-18/
LOCATION:Fitton Hill Library\, Fircroft Road\, Oldham\, England\, OL8 2QD\, United Kingdom
CATEGORIES:Children & Families
END:VEVENT
BEGIN:VEVENT
DTSTART;TZID=Europe/London:20260625T173000
DTEND;TZID=Europe/London:20260625T183000
DTSTAMP:20260420T201634
CREATED:20260420T150056Z
LAST-MODIFIED:20260420T150057Z
UID:10062497-1782408600-1782412200@hla.oldham.gov.uk
SUMMARY:Game On at Fitton Hill Library
DESCRIPTION:Nintendo Switch Sessions at Fitton Hill Library. Sessions are 30 minutes long and bookable with a member of library staff.
URL:https://hla.oldham.gov.uk/event/game-on-at-fitton-hill-library-3/2026-06-25/
LOCATION:Fitton Hill Library\, Fircroft Road\, Oldham\, England\, OL8 2QD\, United Kingdom
CATEGORIES:Children & Families
END:VEVENT
BEGIN:VEVENT
DTSTART;TZID=Europe/London:20260702T173000
DTEND;TZID=Europe/London:20260702T183000
DTSTAMP:20260420T201634
CREATED:20260420T150056Z
LAST-MODIFIED:20260420T150057Z
UID:10062499-1783013400-1783017000@hla.oldham.gov.uk
SUMMARY:Game On at Fitton Hill Library
DESCRIPTION:Nintendo Switch Sessions at Fitton Hill Library. Sessions are 30 minutes long and bookable with a member of library staff.
URL:https://hla.oldham.gov.uk/event/game-on-at-fitton-hill-library-3/2026-07-02/
LOCATION:Fitton Hill Library\, Fircroft Road\, Oldham\, England\, OL8 2QD\, United Kingdom
CATEGORIES:Children & Families
END:VEVENT
BEGIN:VEVENT
DTSTART;TZID=Europe/London:20260709T173000
DTEND;TZID=Europe/London:20260709T183000
DTSTAMP:20260420T201634
CREATED:20260420T150056Z
LAST-MODIFIED:20260420T150057Z
UID:10062501-1783618200-1783621800@hla.oldham.gov.uk
SUMMARY:Game On at Fitton Hill Library
DESCRIPTION:Nintendo Switch Sessions at Fitton Hill Library. Sessions are 30 minutes long and bookable with a member of library staff.
URL:https://hla.oldham.gov.uk/event/game-on-at-fitton-hill-library-3/2026-07-09/
LOCATION:Fitton Hill Library\, Fircroft Road\, Oldham\, England\, OL8 2QD\, United Kingdom
CATEGORIES:Children & Families
END:VEVENT
BEGIN:VEVENT
DTSTART;TZID=Europe/London:20260716T173000
DTEND;TZID=Europe/London:20260716T183000
DTSTAMP:20260420T201634
CREATED:20260420T150056Z
LAST-MODIFIED:20260420T150057Z
UID:10062503-1784223000-1784226600@hla.oldham.gov.uk
SUMMARY:Game On at Fitton Hill Library
DESCRIPTION:Nintendo Switch Sessions at Fitton Hill Library. Sessions are 30 minutes long and bookable with a member of library staff.
URL:https://hla.oldham.gov.uk/event/game-on-at-fitton-hill-library-3/2026-07-16/
LOCATION:Fitton Hill Library\, Fircroft Road\, Oldham\, England\, OL8 2QD\, United Kingdom
CATEGORIES:Children & Families
END:VEVENT
BEGIN:VEVENT
DTSTART;TZID=Europe/London:20260723T173000
DTEND;TZID=Europe/London:20260723T183000
DTSTAMP:20260420T201634
CREATED:20260420T150056Z
LAST-MODIFIED:20260420T150057Z
UID:10062505-1784827800-1784831400@hla.oldham.gov.uk
SUMMARY:Game On at Fitton Hill Library
DESCRIPTION:Nintendo Switch Sessions at Fitton Hill Library. Sessions are 30 minutes long and bookable with a member of library staff.
URL:https://hla.oldham.gov.uk/event/game-on-at-fitton-hill-library-3/2026-07-23/
LOCATION:Fitton Hill Library\, Fircroft Road\, Oldham\, England\, OL8 2QD\, United Kingdom
CATEGORIES:Children & Families
END:VEVENT
BEGIN:VEVENT
DTSTART;TZID=Europe/London:20260730T173000
DTEND;TZID=Europe/London:20260730T183000
DTSTAMP:20260420T201634
CREATED:20260420T150056Z
LAST-MODIFIED:20260420T150057Z
UID:10062507-1785432600-1785436200@hla.oldham.gov.uk
SUMMARY:Game On at Fitton Hill Library
DESCRIPTION:Nintendo Switch Sessions at Fitton Hill Library. Sessions are 30 minutes long and bookable with a member of library staff.
URL:https://hla.oldham.gov.uk/event/game-on-at-fitton-hill-library-3/2026-07-30/
LOCATION:Fitton Hill Library\, Fircroft Road\, Oldham\, England\, OL8 2QD\, United Kingdom
CATEGORIES:Children & Families
END:VEVENT
BEGIN:VEVENT
DTSTART;TZID=Europe/London:20260806T173000
DTEND;TZID=Europe/London:20260806T183000
DTSTAMP:20260420T201634
CREATED:20260420T150056Z
LAST-MODIFIED:20260420T150057Z
UID:10062509-1786037400-1786041000@hla.oldham.gov.uk
SUMMARY:Game On at Fitton Hill Library
DESCRIPTION:Nintendo Switch Sessions at Fitton Hill Library. Sessions are 30 minutes long and bookable with a member of library staff.
URL:https://hla.oldham.gov.uk/event/game-on-at-fitton-hill-library-3/2026-08-06/
LOCATION:Fitton Hill Library\, Fircroft Road\, Oldham\, England\, OL8 2QD\, United Kingdom
CATEGORIES:Children & Families
END:VEVENT
BEGIN:VEVENT
DTSTART;TZID=Europe/London:20260813T173000
DTEND;TZID=Europe/London:20260813T183000
DTSTAMP:20260420T201634
CREATED:20260420T150056Z
LAST-MODIFIED:20260420T150057Z
UID:10062511-1786642200-1786645800@hla.oldham.gov.uk
SUMMARY:Game On at Fitton Hill Library
DESCRIPTION:Nintendo Switch Sessions at Fitton Hill Library. Sessions are 30 minutes long and bookable with a member of library staff.
URL:https://hla.oldham.gov.uk/event/game-on-at-fitton-hill-library-3/2026-08-13/
LOCATION:Fitton Hill Library\, Fircroft Road\, Oldham\, England\, OL8 2QD\, United Kingdom
CATEGORIES:Children & Families
END:VEVENT
BEGIN:VEVENT
DTSTART;TZID=Europe/London:20260820T173000
DTEND;TZID=Europe/London:20260820T183000
DTSTAMP:20260420T201634
CREATED:20260420T150056Z
LAST-MODIFIED:20260420T150057Z
UID:10062513-1787247000-1787250600@hla.oldham.gov.uk
SUMMARY:Game On at Fitton Hill Library
DESCRIPTION:Nintendo Switch Sessions at Fitton Hill Library. Sessions are 30 minutes long and bookable with a member of library staff.
URL:https://hla.oldham.gov.uk/event/game-on-at-fitton-hill-library-3/2026-08-20/
LOCATION:Fitton Hill Library\, Fircroft Road\, Oldham\, England\, OL8 2QD\, United Kingdom
CATEGORIES:Children & Families
END:VEVENT
BEGIN:VEVENT
DTSTART;TZID=Europe/London:20260827T173000
DTEND;TZID=Europe/London:20260827T183000
DTSTAMP:20260420T201634
CREATED:20260420T150056Z
LAST-MODIFIED:20260420T150057Z
UID:10062515-1787851800-1787855400@hla.oldham.gov.uk
SUMMARY:Game On at Fitton Hill Library
DESCRIPTION:Nintendo Switch Sessions at Fitton Hill Library. Sessions are 30 minutes long and bookable with a member of library staff.
URL:https://hla.oldham.gov.uk/event/game-on-at-fitton-hill-library-3/2026-08-27/
LOCATION:Fitton Hill Library\, Fircroft Road\, Oldham\, England\, OL8 2QD\, United Kingdom
CATEGORIES:Children & Families
END:VEVENT
BEGIN:VEVENT
DTSTART;TZID=Europe/London:20260903T173000
DTEND;TZID=Europe/London:20260903T183000
DTSTAMP:20260420T201634
CREATED:20260420T150056Z
LAST-MODIFIED:20260420T150057Z
UID:10062517-1788456600-1788460200@hla.oldham.gov.uk
SUMMARY:Game On at Fitton Hill Library
DESCRIPTION:Nintendo Switch Sessions at Fitton Hill Library. Sessions are 30 minutes long and bookable with a member of library staff.
URL:https://hla.oldham.gov.uk/event/game-on-at-fitton-hill-library-3/2026-09-03/
LOCATION:Fitton Hill Library\, Fircroft Road\, Oldham\, England\, OL8 2QD\, United Kingdom
CATEGORIES:Children & Families
END:VEVENT
BEGIN:VEVENT
DTSTART;TZID=Europe/London:20260910T173000
DTEND;TZID=Europe/London:20260910T183000
DTSTAMP:20260420T201634
CREATED:20260420T150056Z
LAST-MODIFIED:20260420T150057Z
UID:10062519-1789061400-1789065000@hla.oldham.gov.uk
SUMMARY:Game On at Fitton Hill Library
DESCRIPTION:Nintendo Switch Sessions at Fitton Hill Library. Sessions are 30 minutes long and bookable with a member of library staff.
URL:https://hla.oldham.gov.uk/event/game-on-at-fitton-hill-library-3/2026-09-10/
LOCATION:Fitton Hill Library\, Fircroft Road\, Oldham\, England\, OL8 2QD\, United Kingdom
CATEGORIES:Children & Families
END:VEVENT
BEGIN:VEVENT
DTSTART;TZID=Europe/London:20260917T173000
DTEND;TZID=Europe/London:20260917T183000
DTSTAMP:20260420T201634
CREATED:20260420T150056Z
LAST-MODIFIED:20260420T150057Z
UID:10062521-1789666200-1789669800@hla.oldham.gov.uk
SUMMARY:Game On at Fitton Hill Library
DESCRIPTION:Nintendo Switch Sessions at Fitton Hill Library. Sessions are 30 minutes long and bookable with a member of library staff.
URL:https://hla.oldham.gov.uk/event/game-on-at-fitton-hill-library-3/2026-09-17/
LOCATION:Fitton Hill Library\, Fircroft Road\, Oldham\, England\, OL8 2QD\, United Kingdom
CATEGORIES:Children & Families
END:VEVENT
BEGIN:VEVENT
DTSTART;TZID=Europe/London:20260924T173000
DTEND;TZID=Europe/London:20260924T183000
DTSTAMP:20260420T201634
CREATED:20260420T150056Z
LAST-MODIFIED:20260420T150057Z
UID:10062523-1790271000-1790274600@hla.oldham.gov.uk
SUMMARY:Game On at Fitton Hill Library
DESCRIPTION:Nintendo Switch Sessions at Fitton Hill Library. Sessions are 30 minutes long and bookable with a member of library staff.
URL:https://hla.oldham.gov.uk/event/game-on-at-fitton-hill-library-3/2026-09-24/
LOCATION:Fitton Hill Library\, Fircroft Road\, Oldham\, England\, OL8 2QD\, United Kingdom
CATEGORIES:Children & Families
END:VEVENT
BEGIN:VEVENT
DTSTART;TZID=Europe/London:20261001T173000
DTEND;TZID=Europe/London:20261001T183000
DTSTAMP:20260420T201634
CREATED:20260420T150056Z
LAST-MODIFIED:20260420T150057Z
UID:10062525-1790875800-1790879400@hla.oldham.gov.uk
SUMMARY:Game On at Fitton Hill Library
DESCRIPTION:Nintendo Switch Sessions at Fitton Hill Library. Sessions are 30 minutes long and bookable with a member of library staff.
URL:https://hla.oldham.gov.uk/event/game-on-at-fitton-hill-library-3/2026-10-01/
LOCATION:Fitton Hill Library\, Fircroft Road\, Oldham\, England\, OL8 2QD\, United Kingdom
CATEGORIES:Children & Families
END:VEVENT
BEGIN:VEVENT
DTSTART;TZID=Europe/London:20261008T173000
DTEND;TZID=Europe/London:20261008T183000
DTSTAMP:20260420T201634
CREATED:20260420T150056Z
LAST-MODIFIED:20260420T150057Z
UID:10062527-1791480600-1791484200@hla.oldham.gov.uk
SUMMARY:Game On at Fitton Hill Library
DESCRIPTION:Nintendo Switch Sessions at Fitton Hill Library. Sessions are 30 minutes long and bookable with a member of library staff.
URL:https://hla.oldham.gov.uk/event/game-on-at-fitton-hill-library-3/2026-10-08/
LOCATION:Fitton Hill Library\, Fircroft Road\, Oldham\, England\, OL8 2QD\, United Kingdom
CATEGORIES:Children & Families
END:VEVENT
BEGIN:VEVENT
DTSTART;TZID=Europe/London:20261015T173000
DTEND;TZID=Europe/London:20261015T183000
DTSTAMP:20260420T201634
CREATED:20260420T150056Z
LAST-MODIFIED:20260420T150057Z
UID:10062529-1792085400-1792089000@hla.oldham.gov.uk
SUMMARY:Game On at Fitton Hill Library
DESCRIPTION:Nintendo Switch Sessions at Fitton Hill Library. Sessions are 30 minutes long and bookable with a member of library staff.
URL:https://hla.oldham.gov.uk/event/game-on-at-fitton-hill-library-3/2026-10-15/
LOCATION:Fitton Hill Library\, Fircroft Road\, Oldham\, England\, OL8 2QD\, United Kingdom
CATEGORIES:Children & Families
END:VEVENT
BEGIN:VEVENT
DTSTART;TZID=Europe/London:20261022T173000
DTEND;TZID=Europe/London:20261022T183000
DTSTAMP:20260420T201634
CREATED:20260420T150056Z
LAST-MODIFIED:20260420T150057Z
UID:10062531-1792690200-1792693800@hla.oldham.gov.uk
SUMMARY:Game On at Fitton Hill Library
DESCRIPTION:Nintendo Switch Sessions at Fitton Hill Library. Sessions are 30 minutes long and bookable with a member of library staff.
URL:https://hla.oldham.gov.uk/event/game-on-at-fitton-hill-library-3/2026-10-22/
LOCATION:Fitton Hill Library\, Fircroft Road\, Oldham\, England\, OL8 2QD\, United Kingdom
CATEGORIES:Children & Families
END:VEVENT
BEGIN:VEVENT
DTSTART;TZID=Europe/London:20261029T173000
DTEND;TZID=Europe/London:20261029T183000
DTSTAMP:20260420T201634
CREATED:20260420T150056Z
LAST-MODIFIED:20260420T150057Z
UID:10062533-1793295000-1793298600@hla.oldham.gov.uk
SUMMARY:Game On at Fitton Hill Library
DESCRIPTION:Nintendo Switch Sessions at Fitton Hill Library. Sessions are 30 minutes long and bookable with a member of library staff.
URL:https://hla.oldham.gov.uk/event/game-on-at-fitton-hill-library-3/2026-10-29/
LOCATION:Fitton Hill Library\, Fircroft Road\, Oldham\, England\, OL8 2QD\, United Kingdom
CATEGORIES:Children & Families
END:VEVENT
BEGIN:VEVENT
DTSTART;TZID=Europe/London:20261105T173000
DTEND;TZID=Europe/London:20261105T183000
DTSTAMP:20260420T201634
CREATED:20260420T150056Z
LAST-MODIFIED:20260420T150057Z
UID:10062535-1793899800-1793903400@hla.oldham.gov.uk
SUMMARY:Game On at Fitton Hill Library
DESCRIPTION:Nintendo Switch Sessions at Fitton Hill Library. Sessions are 30 minutes long and bookable with a member of library staff.
URL:https://hla.oldham.gov.uk/event/game-on-at-fitton-hill-library-3/2026-11-05/
LOCATION:Fitton Hill Library\, Fircroft Road\, Oldham\, England\, OL8 2QD\, United Kingdom
CATEGORIES:Children & Families
END:VEVENT
BEGIN:VEVENT
DTSTART;TZID=Europe/London:20261112T173000
DTEND;TZID=Europe/London:20261112T183000
DTSTAMP:20260420T201634
CREATED:20260420T150056Z
LAST-MODIFIED:20260420T150057Z
UID:10062537-1794504600-1794508200@hla.oldham.gov.uk
SUMMARY:Game On at Fitton Hill Library
DESCRIPTION:Nintendo Switch Sessions at Fitton Hill Library. Sessions are 30 minutes long and bookable with a member of library staff.
URL:https://hla.oldham.gov.uk/event/game-on-at-fitton-hill-library-3/2026-11-12/
LOCATION:Fitton Hill Library\, Fircroft Road\, Oldham\, England\, OL8 2QD\, United Kingdom
CATEGORIES:Children & Families
END:VEVENT
END:VCALENDAR