BEGIN:VCALENDAR
VERSION:2.0
PRODID:-//Oldham HLA - ECPv6.15.14//NONSGML v1.0//EN
CALSCALE:GREGORIAN
METHOD:PUBLISH
X-WR-CALNAME:Oldham HLA
X-ORIGINAL-URL:https://hla.oldham.gov.uk
X-WR-CALDESC:Events for Oldham HLA
REFRESH-INTERVAL;VALUE=DURATION:PT1H
X-Robots-Tag:noindex
X-PUBLISHED-TTL:PT1H
BEGIN:VTIMEZONE
TZID:Europe/London
BEGIN:DAYLIGHT
TZOFFSETFROM:+0000
TZOFFSETTO:+0100
TZNAME:BST
DTSTART:20250330T010000
END:DAYLIGHT
BEGIN:STANDARD
TZOFFSETFROM:+0100
TZOFFSETTO:+0000
TZNAME:GMT
DTSTART:20251026T010000
END:STANDARD
BEGIN:DAYLIGHT
TZOFFSETFROM:+0000
TZOFFSETTO:+0100
TZNAME:BST
DTSTART:20260329T010000
END:DAYLIGHT
BEGIN:STANDARD
TZOFFSETFROM:+0100
TZOFFSETTO:+0000
TZNAME:GMT
DTSTART:20261025T010000
END:STANDARD
BEGIN:DAYLIGHT
TZOFFSETFROM:+0000
TZOFFSETTO:+0100
TZNAME:BST
DTSTART:20270328T010000
END:DAYLIGHT
BEGIN:STANDARD
TZOFFSETFROM:+0100
TZOFFSETTO:+0000
TZNAME:GMT
DTSTART:20271031T010000
END:STANDARD
END:VTIMEZONE
BEGIN:VEVENT
DTSTART;TZID=Europe/London:20260427T100000
DTEND;TZID=Europe/London:20260427T113000
DTSTAMP:20260421T194520
CREATED:20260421T152634Z
LAST-MODIFIED:20260421T153116Z
UID:10063537-1777284000-1777289400@hla.oldham.gov.uk
SUMMARY:Reading for Wellbeing Drop-In
DESCRIPTION:New to reading? Not read in a while? In a reading rut and not know what to read next? Come along and see our friendly Reading for Wellbeing facilitator\, Emma\, and chat about books and what you can find in the library!
URL:https://hla.oldham.gov.uk/event/reading-for-wellbeing-drop-in/2026-04-27/
LOCATION:Oldham Library & Lifelong Learning Centre\, Greaves Street\, Oldham\, OL1 1AL\, United Kingdom
CATEGORIES:Health and Wellbeing,Reading and Books
END:VEVENT
BEGIN:VEVENT
DTSTART;TZID=Europe/London:20260511T100000
DTEND;TZID=Europe/London:20260511T113000
DTSTAMP:20260421T194520
CREATED:20260421T152634Z
LAST-MODIFIED:20260421T153116Z
UID:10063539-1778493600-1778499000@hla.oldham.gov.uk
SUMMARY:Reading for Wellbeing Drop-In
DESCRIPTION:New to reading? Not read in a while? In a reading rut and not know what to read next? Come along and see our friendly Reading for Wellbeing facilitator\, Emma\, and chat about books and what you can find in the library!
URL:https://hla.oldham.gov.uk/event/reading-for-wellbeing-drop-in/2026-05-11/
LOCATION:Oldham Library & Lifelong Learning Centre\, Greaves Street\, Oldham\, OL1 1AL\, United Kingdom
CATEGORIES:Health and Wellbeing,Reading and Books
END:VEVENT
BEGIN:VEVENT
DTSTART;TZID=Europe/London:20260518T100000
DTEND;TZID=Europe/London:20260518T113000
DTSTAMP:20260421T194520
CREATED:20260421T152634Z
LAST-MODIFIED:20260421T153116Z
UID:10063541-1779098400-1779103800@hla.oldham.gov.uk
SUMMARY:Reading for Wellbeing Drop-In
DESCRIPTION:New to reading? Not read in a while? In a reading rut and not know what to read next? Come along and see our friendly Reading for Wellbeing facilitator\, Emma\, and chat about books and what you can find in the library!
URL:https://hla.oldham.gov.uk/event/reading-for-wellbeing-drop-in/2026-05-18/
LOCATION:Oldham Library & Lifelong Learning Centre\, Greaves Street\, Oldham\, OL1 1AL\, United Kingdom
CATEGORIES:Health and Wellbeing,Reading and Books
END:VEVENT
BEGIN:VEVENT
DTSTART;TZID=Europe/London:20260601T100000
DTEND;TZID=Europe/London:20260601T113000
DTSTAMP:20260421T194520
CREATED:20260421T152634Z
LAST-MODIFIED:20260421T153116Z
UID:10063543-1780308000-1780313400@hla.oldham.gov.uk
SUMMARY:Reading for Wellbeing Drop-In
DESCRIPTION:New to reading? Not read in a while? In a reading rut and not know what to read next? Come along and see our friendly Reading for Wellbeing facilitator\, Emma\, and chat about books and what you can find in the library!
URL:https://hla.oldham.gov.uk/event/reading-for-wellbeing-drop-in/2026-06-01/
LOCATION:Oldham Library & Lifelong Learning Centre\, Greaves Street\, Oldham\, OL1 1AL\, United Kingdom
CATEGORIES:Health and Wellbeing,Reading and Books
END:VEVENT
BEGIN:VEVENT
DTSTART;TZID=Europe/London:20260608T100000
DTEND;TZID=Europe/London:20260608T113000
DTSTAMP:20260421T194520
CREATED:20260421T152634Z
LAST-MODIFIED:20260421T153116Z
UID:10063545-1780912800-1780918200@hla.oldham.gov.uk
SUMMARY:Reading for Wellbeing Drop-In
DESCRIPTION:New to reading? Not read in a while? In a reading rut and not know what to read next? Come along and see our friendly Reading for Wellbeing facilitator\, Emma\, and chat about books and what you can find in the library!
URL:https://hla.oldham.gov.uk/event/reading-for-wellbeing-drop-in/2026-06-08/
LOCATION:Oldham Library & Lifelong Learning Centre\, Greaves Street\, Oldham\, OL1 1AL\, United Kingdom
CATEGORIES:Health and Wellbeing,Reading and Books
END:VEVENT
BEGIN:VEVENT
DTSTART;TZID=Europe/London:20260615T100000
DTEND;TZID=Europe/London:20260615T113000
DTSTAMP:20260421T194520
CREATED:20260421T152634Z
LAST-MODIFIED:20260421T153116Z
UID:10063547-1781517600-1781523000@hla.oldham.gov.uk
SUMMARY:Reading for Wellbeing Drop-In
DESCRIPTION:New to reading? Not read in a while? In a reading rut and not know what to read next? Come along and see our friendly Reading for Wellbeing facilitator\, Emma\, and chat about books and what you can find in the library!
URL:https://hla.oldham.gov.uk/event/reading-for-wellbeing-drop-in/2026-06-15/
LOCATION:Oldham Library & Lifelong Learning Centre\, Greaves Street\, Oldham\, OL1 1AL\, United Kingdom
CATEGORIES:Health and Wellbeing,Reading and Books
END:VEVENT
BEGIN:VEVENT
DTSTART;TZID=Europe/London:20260622T100000
DTEND;TZID=Europe/London:20260622T113000
DTSTAMP:20260421T194520
CREATED:20260421T152634Z
LAST-MODIFIED:20260421T153116Z
UID:10063549-1782122400-1782127800@hla.oldham.gov.uk
SUMMARY:Reading for Wellbeing Drop-In
DESCRIPTION:New to reading? Not read in a while? In a reading rut and not know what to read next? Come along and see our friendly Reading for Wellbeing facilitator\, Emma\, and chat about books and what you can find in the library!
URL:https://hla.oldham.gov.uk/event/reading-for-wellbeing-drop-in/2026-06-22/
LOCATION:Oldham Library & Lifelong Learning Centre\, Greaves Street\, Oldham\, OL1 1AL\, United Kingdom
CATEGORIES:Health and Wellbeing,Reading and Books
END:VEVENT
BEGIN:VEVENT
DTSTART;TZID=Europe/London:20260629T100000
DTEND;TZID=Europe/London:20260629T113000
DTSTAMP:20260421T194520
CREATED:20260421T152634Z
LAST-MODIFIED:20260421T153116Z
UID:10063551-1782727200-1782732600@hla.oldham.gov.uk
SUMMARY:Reading for Wellbeing Drop-In
DESCRIPTION:New to reading? Not read in a while? In a reading rut and not know what to read next? Come along and see our friendly Reading for Wellbeing facilitator\, Emma\, and chat about books and what you can find in the library!
URL:https://hla.oldham.gov.uk/event/reading-for-wellbeing-drop-in/2026-06-29/
LOCATION:Oldham Library & Lifelong Learning Centre\, Greaves Street\, Oldham\, OL1 1AL\, United Kingdom
CATEGORIES:Health and Wellbeing,Reading and Books
END:VEVENT
BEGIN:VEVENT
DTSTART;TZID=Europe/London:20260706T100000
DTEND;TZID=Europe/London:20260706T113000
DTSTAMP:20260421T194520
CREATED:20260421T152634Z
LAST-MODIFIED:20260421T153116Z
UID:10063553-1783332000-1783337400@hla.oldham.gov.uk
SUMMARY:Reading for Wellbeing Drop-In
DESCRIPTION:New to reading? Not read in a while? In a reading rut and not know what to read next? Come along and see our friendly Reading for Wellbeing facilitator\, Emma\, and chat about books and what you can find in the library!
URL:https://hla.oldham.gov.uk/event/reading-for-wellbeing-drop-in/2026-07-06/
LOCATION:Oldham Library & Lifelong Learning Centre\, Greaves Street\, Oldham\, OL1 1AL\, United Kingdom
CATEGORIES:Health and Wellbeing,Reading and Books
END:VEVENT
END:VCALENDAR