BEGIN:VCALENDAR
VERSION:2.0
PRODID:-//Oldham HLA - ECPv6.15.14//NONSGML v1.0//EN
CALSCALE:GREGORIAN
METHOD:PUBLISH
X-WR-CALNAME:Oldham HLA
X-ORIGINAL-URL:https://hla.oldham.gov.uk
X-WR-CALDESC:Events for Oldham HLA
REFRESH-INTERVAL;VALUE=DURATION:PT1H
X-Robots-Tag:noindex
X-PUBLISHED-TTL:PT1H
BEGIN:VTIMEZONE
TZID:Europe/London
BEGIN:DAYLIGHT
TZOFFSETFROM:+0000
TZOFFSETTO:+0100
TZNAME:BST
DTSTART:20250330T010000
END:DAYLIGHT
BEGIN:STANDARD
TZOFFSETFROM:+0100
TZOFFSETTO:+0000
TZNAME:GMT
DTSTART:20251026T010000
END:STANDARD
BEGIN:DAYLIGHT
TZOFFSETFROM:+0000
TZOFFSETTO:+0100
TZNAME:BST
DTSTART:20260329T010000
END:DAYLIGHT
BEGIN:STANDARD
TZOFFSETFROM:+0100
TZOFFSETTO:+0000
TZNAME:GMT
DTSTART:20261025T010000
END:STANDARD
BEGIN:DAYLIGHT
TZOFFSETFROM:+0000
TZOFFSETTO:+0100
TZNAME:BST
DTSTART:20270328T010000
END:DAYLIGHT
BEGIN:STANDARD
TZOFFSETFROM:+0100
TZOFFSETTO:+0000
TZNAME:GMT
DTSTART:20271031T010000
END:STANDARD
END:VTIMEZONE
BEGIN:VEVENT
DTSTART;TZID=Europe/London:20260422T030000
DTEND;TZID=Europe/London:20260422T033000
DTSTAMP:20260419T175805
CREATED:20250725T142408Z
LAST-MODIFIED:20250725T142413Z
UID:10034839-1776826800-1776828600@hla.oldham.gov.uk
SUMMARY:Chat and Choose
DESCRIPTION:Fancy a brew? Our weekly chat and choose sessions are a great opportunity to meet people \, relax and pick up a good book.
URL:https://hla.oldham.gov.uk/event/chat-and-choose-3/2026-04-22/
LOCATION:Greenfield Library\, Chew Vale\, Greenfield\, OL3 7EQ\, United Kingdom
CATEGORIES:Health and Wellbeing
END:VEVENT
BEGIN:VEVENT
DTSTART;TZID=Europe/London:20260424T100000
DTEND;TZID=Europe/London:20260424T110000
DTSTAMP:20260419T175805
CREATED:20260326T171153Z
LAST-MODIFIED:20260326T171155Z
UID:10032743-1777024800-1777028400@hla.oldham.gov.uk
SUMMARY:Bounce and rhyme
DESCRIPTION:Join us at our weekly bounce and rhyme event. Learn new rhymes\, sing songs and make friends. Perfect for the 0-4’s. Free
URL:https://hla.oldham.gov.uk/event/bounce-and-rhyme-11/2026-04-24/
LOCATION:Greenfield Library\, Chew Vale\, Greenfield\, OL3 7EQ\, United Kingdom
CATEGORIES:Children & Families
END:VEVENT
END:VCALENDAR