BEGIN:VCALENDAR
VERSION:2.0
PRODID:-//Oldham HLA - ECPv6.15.20//NONSGML v1.0//EN
CALSCALE:GREGORIAN
METHOD:PUBLISH
X-WR-CALNAME:Oldham HLA
X-ORIGINAL-URL:https://hla.oldham.gov.uk
X-WR-CALDESC:Events for Oldham HLA
REFRESH-INTERVAL;VALUE=DURATION:PT1H
X-Robots-Tag:noindex
X-PUBLISHED-TTL:PT1H
BEGIN:VTIMEZONE
TZID:Europe/London
BEGIN:DAYLIGHT
TZOFFSETFROM:+0000
TZOFFSETTO:+0100
TZNAME:BST
DTSTART:20250330T010000
END:DAYLIGHT
BEGIN:STANDARD
TZOFFSETFROM:+0100
TZOFFSETTO:+0000
TZNAME:GMT
DTSTART:20251026T010000
END:STANDARD
BEGIN:DAYLIGHT
TZOFFSETFROM:+0000
TZOFFSETTO:+0100
TZNAME:BST
DTSTART:20260329T010000
END:DAYLIGHT
BEGIN:STANDARD
TZOFFSETFROM:+0100
TZOFFSETTO:+0000
TZNAME:GMT
DTSTART:20261025T010000
END:STANDARD
BEGIN:DAYLIGHT
TZOFFSETFROM:+0000
TZOFFSETTO:+0100
TZNAME:BST
DTSTART:20270328T010000
END:DAYLIGHT
BEGIN:STANDARD
TZOFFSETFROM:+0100
TZOFFSETTO:+0000
TZNAME:GMT
DTSTART:20271031T010000
END:STANDARD
END:VTIMEZONE
BEGIN:VEVENT
DTSTART;TZID=Europe/London:20260424T110000
DTEND;TZID=Europe/London:20260424T113000
DTSTAMP:20260425T201043
CREATED:20260325T164907Z
LAST-MODIFIED:20260326T162658Z
UID:10058471-1777028400-1777030200@hla.oldham.gov.uk
SUMMARY:Little Reads
DESCRIPTION:Little Reads is a fun\, interactive workshop using songs and stories to explore children’s picture books. Perfect for under 4’s and their families in partnership with Manchester Literature Festival. \n\n\n\nNo need to book\, just come along.
URL:https://hla.oldham.gov.uk/event/little-reads-2/2026-04-24/
LOCATION:Oldham Library & Lifelong Learning Centre\, Greaves Street\, Oldham\, OL1 1AL\, United Kingdom
CATEGORIES:Children & Families
END:VEVENT
BEGIN:VEVENT
DTSTART;TZID=Europe/London:20260424T100000
DTEND;TZID=Europe/London:20260424T110000
DTSTAMP:20260425T201043
CREATED:20240305T110842Z
LAST-MODIFIED:20240927T102953Z
UID:10001971-1777024800-1777028400@hla.oldham.gov.uk
SUMMARY:Bounce and Rhyme
DESCRIPTION:Rhyming sessions for under 5s
URL:https://hla.oldham.gov.uk/event/bounce-and-rhyme-2/2026-04-24/
LOCATION:Oldham Library & Lifelong Learning Centre\, Greaves Street\, Oldham\, OL1 1AL\, United Kingdom
CATEGORIES:Children & Families
ATTACH;FMTTYPE=image/jpeg:https://hla.oldham.gov.uk/wp-content/uploads/2024/03/Bounce-and-rhyme-image.jpg
END:VEVENT
BEGIN:VEVENT
DTSTART;TZID=Europe/London:20260424T100000
DTEND;TZID=Europe/London:20260424T103000
DTSTAMP:20260425T201043
CREATED:20260325T162434Z
LAST-MODIFIED:20260326T162801Z
UID:10058351-1777024800-1777026600@hla.oldham.gov.uk
SUMMARY:Little Reads
DESCRIPTION:Little Reads is a fun\, interactive workshop using songs and stories to explore children’s picture books.  Perfect for under 4’s and their families in partnership with Manchester Literature Festival.  \n\n\n\nNo need to book\, just come along.
URL:https://hla.oldham.gov.uk/event/little-reads/2026-04-24/
LOCATION:Oldham Library & Lifelong Learning Centre\, Greaves Street\, Oldham\, OL1 1AL\, United Kingdom
CATEGORIES:Children & Families
END:VEVENT
BEGIN:VEVENT
DTSTART;TZID=Europe/London:20260423T103000
DTEND;TZID=Europe/London:20260423T123000
DTSTAMP:20260425T201043
CREATED:20260327T100158Z
LAST-MODIFIED:20260327T140611Z
UID:10061029-1776940200-1776947400@hla.oldham.gov.uk
SUMMARY:Brews\, Biscuits and Banter at Oldham Library
DESCRIPTION:Fancy a cuppa ? Want to socialise and unwind? Chat to others and take some time to relax in the comfort of our lovely library.
URL:https://hla.oldham.gov.uk/event/books-brew-and-banter-at-oldham-library/2026-04-23/
LOCATION:Oldham Library & Lifelong Learning Centre\, Greaves Street\, Oldham\, OL1 1AL\, United Kingdom
CATEGORIES:Groups,Health and Wellbeing
END:VEVENT
BEGIN:VEVENT
DTSTART;TZID=Europe/London:20260421T130000
DTEND;TZID=Europe/London:20260421T150000
DTSTAMP:20260425T201043
CREATED:20241113T132353Z
LAST-MODIFIED:20241113T132355Z
UID:10016809-1776776400-1776783600@hla.oldham.gov.uk
SUMMARY:Knit and Natter
DESCRIPTION:Join our friendly knitting group every Tuesday.
URL:https://hla.oldham.gov.uk/event/knit-and-natter/2026-04-21/
LOCATION:Oldham Library & Lifelong Learning Centre\, Greaves Street\, Oldham\, OL1 1AL\, United Kingdom
END:VEVENT
BEGIN:VEVENT
DTSTART;TZID=Europe/London:20260416T190000
DTEND;TZID=Europe/London:20260416T210000
DTSTAMP:20260425T201043
CREATED:20260414T114919Z
LAST-MODIFIED:20260414T114920Z
UID:10061833-1776366000-1776373200@hla.oldham.gov.uk
SUMMARY:Little French Cinema\, À L’Abordage:All Hands on Deck
DESCRIPTION:Little French Cinema Film Screening
URL:https://hla.oldham.gov.uk/event/little-french-cinema-a-labordageall-hands-on-deck/
LOCATION:Oldham Library & Lifelong Learning Centre\, Greaves Street\, Oldham\, OL1 1AL\, United Kingdom
END:VEVENT
BEGIN:VEVENT
DTSTART;TZID=Europe/London:20260401T173000
DTEND;TZID=Europe/London:20260401T190000
DTSTAMP:20260425T201043
CREATED:20241113T134524Z
LAST-MODIFIED:20241113T134526Z
UID:10017215-1775064600-1775070000@hla.oldham.gov.uk
SUMMARY:Oldham Library Readers Group
DESCRIPTION:Join our friendly Readers Group
URL:https://hla.oldham.gov.uk/event/oldham-library-readers-group/2026-04-01/
LOCATION:Oldham Library & Lifelong Learning Centre\, Greaves Street\, Oldham\, OL1 1AL\, United Kingdom
END:VEVENT
BEGIN:VEVENT
DTSTART;TZID=Europe/London:20260401T173000
DTEND;TZID=Europe/London:20260401T183000
DTSTAMP:20260425T201043
CREATED:20260320T155126Z
LAST-MODIFIED:20260401T190428Z
UID:10050659-1775064600-1775068200@hla.oldham.gov.uk
SUMMARY:Bedtime Stories
DESCRIPTION:Pop on your cosiest PJ’s\, bring your teddy and enjoy some rhymes\, signs and stories with Eliza Says\n\n\nBedtime story sessions with Lorenza from Eliza says. \nPop on your cosiest PJ’s and bring your teddy along\, to these wonderful bedtime story sessions. With warm milk and toast available half-way through\, stories and rhymes to help you soothe your little one.
URL:https://hla.oldham.gov.uk/event/bedtime-stories-7/
LOCATION:Oldham Library & Lifelong Learning Centre\, Greaves Street\, Oldham\, OL1 1AL\, United Kingdom
CATEGORIES:Children & Families
ATTACH;FMTTYPE=image/jpeg:https://hla.oldham.gov.uk/wp-content/uploads/2026/01/3e13aff101971701b5cac8c03913f97f.jpg
END:VEVENT
BEGIN:VEVENT
DTSTART;TZID=Europe/London:20260401T140000
DTEND;TZID=Europe/London:20260401T153000
DTSTAMP:20260425T201043
CREATED:20251002T142625Z
LAST-MODIFIED:20260331T114827Z
UID:10038237-1775052000-1775057400@hla.oldham.gov.uk
SUMMARY:Live@TheLibrary: So Unfair!
DESCRIPTION:One Tenth Human in association with The Dukes Lancaster present ‘So Unfair!’
URL:https://hla.oldham.gov.uk/event/livethelibrary-so-unfair/
LOCATION:Oldham Library & Lifelong Learning Centre\, Greaves Street\, Oldham\, OL1 1AL\, United Kingdom
CATEGORIES:Cinema, Music & Theatre
ATTACH;FMTTYPE=image/jpeg:https://hla.oldham.gov.uk/wp-content/uploads/2025/08/f0e55ee240f9fa54bd0d90175f29d458.jpg
END:VEVENT
BEGIN:VEVENT
DTSTART;TZID=Europe/London:20260401T110000
DTEND;TZID=Europe/London:20260401T123000
DTSTAMP:20260425T201043
CREATED:20251002T142757Z
LAST-MODIFIED:20260331T114827Z
UID:10038235-1775041200-1775046600@hla.oldham.gov.uk
SUMMARY:Live@TheLibrary: So Unfair!
DESCRIPTION:One Tenth Human in association with The Dukes Lancaster present ‘So Unfair!’ \nWelcome to our interactive science demo – with a twist! We need YOU to take on some big challenges – and help us save the day. \nHow can we make things more fair? And what could go wrong if we don’t? \nHelp Daniel Bye change the world\, in an unexpectedly ridiculous adventure involving \nengineering challenges\, bad dad jokes\, and an extraordinary quantity of molten chocolate. \nPraise for previous shows by the same team: \n“Riveting\, funny and thoughtful” The Guardian \n“really great children’s theatre” Exeunt \nA brand new show for 7-10 year olds and their grown-ups. \nCreated by Daniel Bye\, Sarah Punshon\, Toni-Dee Paul\, and Matt Powell \nFeaturing engineers from across the UK Zooming in to help you save the day. \nBook by using the link below.
URL:https://hla.oldham.gov.uk/event/livethelibrary-so-unfair-2/
LOCATION:Oldham Library & Lifelong Learning Centre\, Greaves Street\, Oldham\, OL1 1AL\, United Kingdom
CATEGORIES:Cinema, Music & Theatre
ATTACH;FMTTYPE=image/jpeg:https://hla.oldham.gov.uk/wp-content/uploads/2025/08/f0e55ee240f9fa54bd0d90175f29d458.jpg
END:VEVENT
BEGIN:VEVENT
DTSTART;TZID=Europe/London:20260328T110000
DTEND;TZID=Europe/London:20260328T150000
DTSTAMP:20260425T201043
CREATED:20260227T123612Z
LAST-MODIFIED:20260227T123708Z
UID:10052623-1774695600-1774710000@hla.oldham.gov.uk
SUMMARY:Digital Festival
DESCRIPTION:Celebrate all things digital with us – gaming\, VR\, digital advice\, Peshkar’s Young Digital Festival and much more.
URL:https://hla.oldham.gov.uk/event/digital-festival/
LOCATION:Oldham Library & Lifelong Learning Centre\, Greaves Street\, Oldham\, OL1 1AL\, United Kingdom
CATEGORIES:All ages,Digital,Learning,Support & Advice
END:VEVENT
END:VCALENDAR